{"text_format":"1","workbook":"xlsx","n_sheets":3,"sheets":["Grafici","Statistiche","Dati"],"not_rendered":{"charts":96,"images":0,"macros":1,"external_links":0,"defined_names":269,"comments":0,"pivot_tables":0},"unopened":[],"bounds":{"document_bytes":16777216,"sheet_cells":100000,"rows_first":2000,"rows_last":500,"rows_between":2000,"halvings":0,"cell_chars":16384,"cell_head_chars":4096},"cells_cut":0,"cells_raw":0,"read":"whole","date_system":"1900"}

{"sheet":"Grafici","index":0,"n_rows":63,"n_cols":23,"rows_kept":63,"cut":false,"hidden":false,"merged":[]}
[]
[]
[]
[]
[]
[]
[]
[]
[]
[]
[]
[]
[]
[]
[]
[]
[]
[]
[]
[]
[]
[]
[]
[]
[]
[]
[]
[]
[]
[]
[]
[]
[]
[]
[]
[]
[]
[]
[]
[]
[null,null,null,null,null,null,null,null,null,null,null,null,null,null,null,null,null,null,null,"Regione",null,null,"Contagiati"]
[null,null,null,null,null,null,null,null,null,null,null,null,null,null,null,null,null,null,"21°",{"$f":"VLOOKUP(Grafici!W42,Statistiche!$B$1513:$C$1533,2,FALSE)","v":"Molise"},null,null,{"$f":"IFERROR(SMALL(Statistiche!B$1513:B$1533,COUNTBLANK(Statistiche!$G$1513:G1513)),\"\")","v":296}]
[null,null,null,null,null,null,null,null,null,null,null,null,null,null,null,null,null,null,"20°",{"$f":"VLOOKUP(Grafici!W43,Statistiche!$B$1513:$C$1533,2,FALSE)","v":"Basilicata"},null,null,{"$f":"IFERROR(SMALL(Statistiche!B$1513:B$1533,COUNTBLANK(Statistiche!$G$1513:G1514)),\"\")","v":366}]
[null,null,null,null,null,null,null,null,null,null,null,null,null,null,null,null,null,null,"19°",{"$f":"VLOOKUP(Grafici!W44,Statistiche!$B$1513:$C$1533,2,FALSE)","v":"Calabria"},null,null,{"$f":"IFERROR(SMALL(Statistiche!B$1513:B$1533,COUNTBLANK(Statistiche!$G$1513:G1515)),\"\")","v":1096}]
[null,null,null,null,null,null,null,null,null,null,null,null,null,null,null,null,null,null,"18°",{"$f":"VLOOKUP(Grafici!W45,Statistiche!$B$1513:$C$1533,2,FALSE)","v":"Valle d'Aosta"},null,null,{"$f":"IFERROR(SMALL(Statistiche!B$1513:B$1533,COUNTBLANK(Statistiche!$G$1513:G1516)),\"\")","v":1111}]
[null,null,null,null,null,null,null,null,null,null,null,null,null,null,null,null,null,null,"17°",{"$f":"VLOOKUP(Grafici!W46,Statistiche!$B$1513:$C$1533,2,FALSE)","v":"Sardegna"},null,null,{"$f":"IFERROR(SMALL(Statistiche!B$1513:B$1533,COUNTBLANK(Statistiche!$G$1513:G1517)),\"\")","v":1283}]
[null,null,null,null,null,null,null,null,null,null,null,null,null,null,null,null,null,null,"16°",{"$f":"VLOOKUP(Grafici!W47,Statistiche!$B$1513:$C$1533,2,FALSE)","v":"Umbria"},null,null,{"$f":"IFERROR(SMALL(Statistiche!B$1513:B$1533,COUNTBLANK(Statistiche!$G$1513:G1518)),\"\")","v":1370}]
[null,null,null,null,null,null,null,null,null,null,null,null,null,null,null,null,null,null,"15°",{"$f":"VLOOKUP(Grafici!W48,Statistiche!$B$1513:$C$1533,2,FALSE)","v":"P.A. Bolzano"},null,null,{"$f":"IFERROR(SMALL(Statistiche!B$1513:B$1533,COUNTBLANK(Statistiche!$G$1513:G1519)),\"\")","v":2496}]
[null,null,null,null,null,null,null,null,null,null,null,null,null,null,null,null,null,null,"14°",{"$f":"VLOOKUP(Grafici!W49,Statistiche!$B$1513:$C$1533,2,FALSE)","v":"Abruzzo"},null,null,{"$f":"IFERROR(SMALL(Statistiche!B$1513:B$1533,COUNTBLANK(Statistiche!$G$1513:G1520)),\"\")","v":2874}]
[null,null,null,null,null,null,null,null,null,null,null,null,null,null,null,null,null,null,"13°",{"$f":"VLOOKUP(Grafici!W50,Statistiche!$B$1513:$C$1533,2,FALSE)","v":"Friuli Venezia Giulia"},null,null,{"$f":"IFERROR(SMALL(Statistiche!B$1513:B$1533,COUNTBLANK(Statistiche!$G$1513:G1521)),\"\")","v":2977}]
[null,null,null,null,null,null,null,null,null,null,null,null,null,null,null,null,null,null,"12°",{"$f":"VLOOKUP(Grafici!W51,Statistiche!$B$1513:$C$1533,2,FALSE)","v":"Sicilia"},null,null,{"$f":"IFERROR(SMALL(Statistiche!B$1513:B$1533,COUNTBLANK(Statistiche!$G$1513:G1522)),\"\")","v":3085}]
[null,null,null,null,null,null,null,null,null,null,null,null,null,null,null,null,null,null,"11°",{"$f":"VLOOKUP(Grafici!W52,Statistiche!$B$1513:$C$1533,2,FALSE)","v":"Puglia"},null,null,{"$f":"IFERROR(SMALL(Statistiche!B$1513:B$1533,COUNTBLANK(Statistiche!$G$1513:G1523)),\"\")","v":3958}]
[null,null,null,null,null,null,null,null,null,null,null,null,null,null,null,null,null,null,"10°",{"$f":"VLOOKUP(Grafici!W53,Statistiche!$B$1513:$C$1533,2,FALSE)","v":"P.A. Trento"},null,null,{"$f":"IFERROR(SMALL(Statistiche!B$1513:B$1533,COUNTBLANK(Statistiche!$G$1513:G1524)),\"\")","v":3995}]
[null,null,null,null,null,null,null,null,null,null,null,null,null,null,null,null,null,null,"9°",{"$f":"VLOOKUP(Grafici!W54,Statistiche!$B$1513:$C$1533,2,FALSE)","v":"Campania"},null,null,{"$f":"IFERROR(SMALL(Statistiche!B$1513:B$1533,COUNTBLANK(Statistiche!$G$1513:G1525)),\"\")","v":4349}]
[null,null,null,null,null,null,null,null,null,null,null,null,null,null,null,null,null,null,"8°",{"$f":"VLOOKUP(Grafici!W55,Statistiche!$B$1513:$C$1533,2,FALSE)","v":"Marche"},null,null,{"$f":"IFERROR(SMALL(Statistiche!B$1513:B$1533,COUNTBLANK(Statistiche!$G$1513:G1526)),\"\")","v":6127}]
[null,null,null,null,null,null,null,null,null,null,null,null,null,null,null,null,null,null,"7°",{"$f":"VLOOKUP(Grafici!W56,Statistiche!$B$1513:$C$1533,2,FALSE)","v":"Lazio"},null,null,{"$f":"IFERROR(SMALL(Statistiche!B$1513:B$1533,COUNTBLANK(Statistiche!$G$1513:G1527)),\"\")","v":6392}]
[null,null,null,null,null,null,null,null,null,null,null,null,null,null,null,null,null,null,"6°",{"$f":"VLOOKUP(Grafici!W57,Statistiche!$B$1513:$C$1533,2,FALSE)","v":"Liguria"},null,null,{"$f":"IFERROR(SMALL(Statistiche!B$1513:B$1533,COUNTBLANK(Statistiche!$G$1513:G1528)),\"\")","v":7642}]
[null,null,null,null,null,null,null,null,null,null,null,null,null,null,null,null,null,null,"5°",{"$f":"VLOOKUP(Grafici!W58,Statistiche!$B$1513:$C$1533,2,FALSE)","v":"Toscana"},null,null,{"$f":"IFERROR(SMALL(Statistiche!B$1513:B$1533,COUNTBLANK(Statistiche!$G$1513:G1529)),\"\")","v":9179}]
[null,null,null,null,null,null,null,null,null,null,null,null,null,null,null,null,null,null,"4°",{"$f":"VLOOKUP(Grafici!W59,Statistiche!$B$1513:$C$1533,2,FALSE)","v":"Veneto"},null,null,{"$f":"IFERROR(SMALL(Statistiche!B$1513:B$1533,COUNTBLANK(Statistiche!$G$1513:G1530)),\"\")","v":17579}]
[null,null,null,null,null,null,null,null,null,null,null,null,null,null,null,null,null,null,"3°",{"$f":"VLOOKUP(Grafici!W60,Statistiche!$B$1513:$C$1533,2,FALSE)","v":"Emilia Romagna"},null,null,{"$f":"IFERROR(SMALL(Statistiche!B$1513:B$1533,COUNTBLANK(Statistiche!$G$1513:G1531)),\"\")","v":24662}]
[null,null,null,null,null,null,null,null,null,null,null,null,null,null,null,null,null,null,"2°",{"$f":"VLOOKUP(Grafici!W61,Statistiche!$B$1513:$C$1533,2,FALSE)","v":"Piemonte"},null,null,{"$f":"IFERROR(SMALL(Statistiche!B$1513:B$1533,COUNTBLANK(Statistiche!$G$1513:G1532)),\"\")","v":25098}]
[null,null,null,null,null,null,null,null,null,null,null,null,null,null,null,null,null,null,"1°",{"$f":"VLOOKUP(Grafici!W62,Statistiche!$B$1513:$C$1533,2,FALSE)","v":"Lombardia"},null,null,{"$f":"IFERROR(SMALL(Statistiche!B$1513:B$1533,COUNTBLANK(Statistiche!$G$1513:G1533)),\"\")","v":73479}]
[null,null,null,null,null,null,null,null,null,null,null,null,null,null,null,null,null,null,null,null,null,"Tot.",{"$f":"SUM(W42:W62)","v":199414}]

{"sheet":"Statistiche","index":1,"n_rows":1614,"n_cols":30,"rows_kept":1614,"cut":false,"hidden":false,"merged":[]}
["Data","Codice","Regione","Ricoverati","Terap. Intens.","Ospedalizzati","Quarantena","Positivi","+ Positivi","Nuovi","Guariti","Deceduti","Totale","Tamponi","Testati",null,null,"x 2",null,"% su Tot.","+ Nuovi","+ Guariti","+ Deceduti","+ Totali","+ Tamponi","% Positivi","% Guariti","% Deceduti","P. Stimati","% Morti"]
["2020-02-24T18:00:00",1,"Piemonte",2,0,2,1,3,0,3,0,0,3,141,null,{"$f":"M2","v":3},null,{"$f":"M2","v":3},null,{"$f":"M2*100/M1547","v":1.3100436681222707},null,null,null,null,null,{"$f":"IF(M2=0,0,H2/M2)","v":1},{"$f":"IF(M2=0,0,K2/M2)","v":0},{"$f":"IF(M2=0,0,L2/M2)","v":0},{"$f":"L2*100/B$1537","v":0},{"$f":"IF(M2=0,0,L2/M2)","v":0}]
["2020-02-25T18:00:00",1,"Piemonte",2,0,2,1,3,0,0,0,0,3,141,null,{"$f":"IF(Q3=\"x2\",M3,P2)","v":3},{"$f":"IF(M3>P2*2,\"x2\",P2)","v":3},{"$f":"IF(Q3=\"x2\",M3,\"\")","v":""},null,{"$f":"M3*100/M1548","v":0.93167701863354035},{"$f":"IF(J3-J2=0,\"\",J3-J2)","v":-3},{"$f":"IF(K3-K2=0,\"\",K3-K2)","v":""},{"$f":"IF(L3-L2=0,\"\",L3-L2)","v":""},{"$f":"IF(M3-M2=0,\"\",M3-M2)","v":""},{"$f":"IF(N3-N2=0,\"\",N3-N2)","v":""},1,0,0,{"$f":"L3*100/B$1537","v":0},0]
["2020-02-26T18:00:00",1,"Piemonte",2,0,2,1,3,0,0,0,0,3,156,null,3,3,"",null,{"$f":"M4*100/M1549","v":0.75},"","","","",15,1,0,0,{"$f":"L4*100/B$1537","v":0},0]
["2020-02-27T18:00:00",1,"Piemonte",2,0,2,0,2,-1,-1,0,0,2,156,null,3,3,"",null,{"$f":"M5*100/M1550","v":0.30769230769230771},-1,"","",-1,"",1,0,0,{"$f":"L5*100/B$1537","v":0},0]
["2020-02-28T18:00:00",1,"Piemonte",7,0,7,4,11,9,9,0,0,11,227,null,11,"x2",11,null,{"$f":"M6*100/M1551","v":1.2387387387387387},10,"","",9,71,1,0,0,{"$f":"L6*100/B$1537","v":0},0]
["2020-02-29T17:00:00",1,"Piemonte",7,0,7,4,11,0,0,0,0,11,308,null,11,11,"",null,{"$f":"M7*100/M1552","v":0.97517730496453903},-9,"","","",81,1,0,0,{"$f":"L7*100/B$1537","v":0},0]
["2020-03-01T17:00:00",1,"Piemonte",11,2,13,36,49,38,38,0,0,49,362,null,49,"x2",49,null,{"$f":"M8*100/M1553","v":2.8925619834710745},38,"","",38,54,1,0,0,{"$f":"L8*100/B$1537","v":0},0]
["2020-03-02T18:00:00",1,"Piemonte",12,2,14,37,51,2,2,0,0,51,434,null,49,49,"",null,{"$f":"M9*100/M1554","v":2.504911591355599},-36,"","",2,72,1,0,0,{"$f":"L9*100/B$1537","v":0},0]
["2020-03-03T18:00:00",1,"Piemonte",13,3,16,40,56,5,5,0,0,56,458,null,49,49,"",null,{"$f":"M10*100/M1555","v":2.2382094324540369},3,"","",5,24,1,0,0,{"$f":"L10*100/B$1537","v":0},0]
["2020-03-04T17:00:00",1,"Piemonte",26,13,39,43,82,26,26,0,0,82,543,null,49,49,"",null,{"$f":"M11*100/M1556","v":2.6545807704758824},21,"","",26,85,1,0,0,{"$f":"L11*100/B$1537","v":0},0]
["2020-03-05T17:00:00",1,"Piemonte",43,17,60,46,106,24,24,0,2,108,543,null,108,"x2",108,null,{"$f":"M12*100/M1557","v":2.7993779160186625},-2,"",2,26,"",0.98148148148148151,0,1.8518518518518517E-2,{"$f":"L12*100/B$1537","v":70.671378091872796},1.8518518518518517E-2]
["2020-03-06T17:00:00",1,"Piemonte",57,30,87,52,139,33,33,0,4,143,793,null,108,108,"",null,{"$f":"M13*100/M1558","v":3.0845556514236412},9,"",2,35,250,0.97202797202797198,0,2.7972027972027972E-2,{"$f":"L13*100/B$1537","v":141.34275618374559},2.7972027972027972E-2]
["2020-03-07T18:00:00",1,"Piemonte",110,38,148,54,202,63,63,0,5,207,1046,null,108,108,"",null,{"$f":"M14*100/M1559","v":3.5186129525752166},30,"",1,64,253,0.97584541062801933,0,2.4154589371980676E-2,{"$f":"L14*100/B$1537","v":176.67844522968198},2.4154589371980676E-2]
["2020-03-08T18:00:00",1,"Piemonte",245,45,290,65,355,153,153,0,5,360,1636,null,360,"x2",360,null,{"$f":"M15*100/M1560","v":4.8813559322033901},90,"","",153,590,0.98611111111111116,0,1.3888888888888888E-2,{"$f":"L15*100/B$1537","v":176.67844522968198},1.3888888888888888E-2]
["2020-03-09T18:00:00",1,"Piemonte",222,50,272,65,337,-18,-18,0,13,350,1681,null,360,360,"",null,{"$f":"M16*100/M1561","v":3.8159616223288269},-171,"",8,-10,45,0.96285714285714286,0,3.7142857142857144E-2,{"$f":"L16*100/B$1537","v":459.36395759717311},3.7142857142857144E-2]
["2020-03-10T18:00:00",1,"Piemonte",306,66,372,64,436,99,99,0,17,453,2374,null,360,360,"",null,{"$f":"M17*100/M1562","v":4.463493940289684},117,"",4,103,693,0.96247240618101548,0,3.7527593818984545E-2,{"$f":"L17*100/B$1537","v":600.70671378091868},3.7527593818984545E-2]
["2020-03-11T17:00:00",1,"Piemonte",319,75,394,86,480,44,44,0,21,501,2431,null,360,360,"",null,{"$f":"M18*100/M1563","v":4.0202214732787676},-55,"",4,48,57,0.95808383233532934,0,4.1916167664670656E-2,{"$f":"L18*100/B$1537","v":742.04946996466424},4.1916167664670656E-2]
["2020-03-12T17:00:00",1,"Piemonte",368,97,465,89,554,74,74,0,26,580,2879,null,360,360,"",null,{"$f":"M19*100/M1564","v":3.8377555746708132},30,"",5,79,448,0.95517241379310347,0,4.4827586206896551E-2,{"$f":"L19*100/B$1537","v":918.72791519434622},4.4827586206896551E-2]
["2020-03-13T17:00:00",1,"Piemonte",556,135,691,103,794,240,240,0,46,840,3105,null,840,"x2",840,null,{"$f":"M20*100/M1565","v":4.756511891279728},166,"",20,260,226,0.94523809523809521,0,5.4761904761904762E-2,{"$f":"L20*100/B$1537","v":1625.4416961130742},5.4761904761904762E-2]
["2020-03-14T17:00:00",1,"Piemonte",538,150,688,126,814,20,20,0,59,873,3680,null,840,840,"",null,{"$f":"M21*100/M1566","v":4.1262938980006618},-220,"",13,33,575,0.93241695303550975,0,6.7583046964490259E-2,{"$f":"L21*100/B$1537","v":2084.8056537102475},6.7583046964490259E-2]
["2020-03-15T17:00:00",1,"Piemonte",726,171,897,133,1030,216,216,0,81,1111,4375,null,840,840,"",null,{"$f":"M22*100/M1567","v":4.489433062593446},196,"",22,238,695,0.92709270927092713,0,7.2907290729072913E-2,{"$f":"L22*100/B$1537","v":2862.190812720848},7.2907290729072913E-2]
["2020-03-16T17:00:00",1,"Piemonte",1045,186,1231,174,1405,375,375,0,111,1516,5588,null,840,840,"",null,{"$f":"M23*100/M1568","v":5.4181558255897073},159,"",30,405,1213,0.92678100263852248,0,7.3218997361477578E-2,{"$f":"L23*100/B$1537","v":3922.2614840989399},7.3218997361477578E-2]
["2020-03-17T17:00:00",1,"Piemonte",1378,206,1584,180,1764,359,359,0,133,1897,6543,null,1897,"x2",1897,null,{"$f":"M24*100/M1569","v":6.0210753507268455},-16,"",22,381,955,0.92988929889298888,0,7.0110701107011064E-2,{"$f":"L24*100/B$1537","v":4699.6466431095405},7.0110701107011064E-2]
["2020-03-18T17:00:00",1,"Piemonte",1780,227,2007,180,2187,423,423,0,154,2341,7516,null,1897,1897,"",null,{"$f":"M25*100/M1570","v":6.5550359812953269},64,"",21,444,973,0.93421614694574973,0,6.5783853054250316E-2,{"$f":"L25*100/B$1537","v":5441.6961130742047},6.5783853054250316E-2]
["2020-03-19T17:00:00",1,"Piemonte",2279,257,2536,218,2754,567,567,3,175,2932,8853,null,1897,1897,"",null,{"$f":"M26*100/M1571","v":7.1451200194955522},144,3,21,591,1337,0.93929058663028653,1.0231923601637107E-3,5.9686221009549796E-2,{"$f":"L26*100/B$1537","v":6183.745583038869},5.9686221009549796E-2]
["2020-03-20T17:00:00",1,"Piemonte",1541,280,1821,1423,3244,490,490,8,209,3461,9975,null,1897,1897,"",null,{"$f":"M27*100/M1572","v":7.3605410348567659},-77,5,34,529,1122,0.93730135798902048,2.3114706732158337E-3,6.0387171337763654E-2,{"$f":"L27*100/B$1537","v":7385.1590106007061},6.0387171337763654E-2]
["2020-03-21T17:00:00",1,"Piemonte",1976,301,2277,1229,3506,262,262,8,238,3752,10701,null,1897,1897,"",null,{"$f":"M28*100/M1573","v":7.0028743140841394},-228,"",29,291,726,0.93443496801705761,2.1321961620469083E-3,6.3432835820895525E-2,{"$f":"L28*100/B$1537","v":8409.8939929328626},6.3432835820895525E-2]
["2020-03-22T17:00:00",1,"Piemonte",2118,308,2426,1701,4127,621,621,10,283,4420,12701,null,4420,"x2",4420,null,{"$f":"M29*100/M1574","v":7.4740437620480913},359,2,45,668,2000,0.93371040723981902,2.2624434389140274E-3,6.4027149321266963E-2,{"$f":"L29*100/B$1537","v":10000},6.4027149321266963E-2]
["2020-03-23T17:00:00",1,"Piemonte",2194,343,2537,1992,4529,402,402,17,315,4861,13560,null,4420,4420,"",null,{"$f":"M30*100/M1575","v":7.603985796298903},-219,7,32,441,859,0.93170129602962348,3.497222793663855E-3,6.4801481176712611E-2,{"$f":"L30*100/B$1537","v":11130.742049469964},6.4801481176712611E-2]
["2020-03-24T17:00:00",1,"Piemonte",2404,360,2764,2360,5124,595,595,17,374,5515,15469,null,4420,4420,"",null,{"$f":"M31*100/M1576","v":7.9724181797155085},193,"",59,654,1909,0.92910244786944696,3.0825022665457841E-3,6.7815049864007257E-2,{"$f":"L31*100/B$1537","v":13215.547703180211},6.7815049864007257E-2]
["2020-03-25T17:00:00",1,"Piemonte",2544,381,2925,2631,5556,432,432,19,449,6024,16655,null,4420,4420,"",null,{"$f":"M32*100/M1577","v":8.0982980668405347},-163,2,75,509,1186,0.92231075697211151,3.1540504648074367E-3,7.4535192563081012E-2,{"$f":"L32*100/B$1537","v":15865.724381625441},7.4535192563081012E-2]
["2020-03-26T17:00:00",1,"Piemonte",2633,408,3041,2909,5950,394,394,135,449,6534,18054,null,4420,4420,"",null,{"$f":"M33*100/M1578","v":8.1128397422366803},-38,116,"",510,1399,0.91062136516681969,2.0661157024793389E-2,6.8717477808386898E-2,{"$f":"L33*100/B$1537","v":15865.724381625441},6.8717477808386898E-2]
["2020-03-27T17:00:00",1,"Piemonte",2852,431,3283,3064,6347,397,558,176,569,7092,19705,null,4420,4420,"",null,{"$f":"M34*100/M1579","v":8.1990335036648254},164,41,120,558,1651,{"$f":"IF(M34=0,0,H34/M34)","v":0.89495205865764238},{"$f":"IF(M34=0,0,K34/M34)","v":2.4816694867456288E-2},{"$f":"IF(M34=0,0,L34/M34)","v":8.0231246474901291E-2},{"$f":"L34*100/B$1537","v":20106.007067137809},8.0231246474901291E-2]
["2020-03-28T17:00:00",1,"Piemonte",3094,439,3533,3318,6851,504,579,203,617,7671,21511,null,{"$f":"IF(Q35=\"x2\",M35,P34)","v":4420},{"$f":"IF(M35>P34*2,\"x2\",P34)","v":4420},{"$f":"IF(Q35=\"x2\",M35,\"\")","v":""},null,{"$f":"M35*100/M1580","v":8.2954840384116277},{"$f":"IF(J35-J34=0,\"\",J35-J34)","v":21},{"$f":"IF(K35-K34=0,\"\",K35-K34)","v":27},{"$f":"IF(L35-L34=0,\"\",L35-L34)","v":48},{"$f":"IF(M35-M34=0,\"\",M35-M34)","v":579},{"$f":"IF(N35-N34=0,\"\",N35-N34)","v":1806},0.89310389779689736,2.6463303350280278E-2,8.0432798852822313E-2,{"$f":"L35*100/B$1537","v":21802.120141342755},8.0432798852822313E-2]
["2020-03-29T17:00:00",1,"Piemonte",2985,443,3428,3840,7268,417,535,254,684,8206,24058,null,4420,4420,"",null,{"$f":"M36*100/M1581","v":8.4001269334316042},-44,51,67,535,2547,0.88569339507677314,3.0952961247867415E-2,8.3353643675359496E-2,{"$f":"L36*100/B$1537","v":24169.611307420495},8.3353643675359496E-2]
["2020-03-30T17:00:00",1,"Piemonte",2985,452,3437,4218,7655,387,506,308,749,8712,25478,null,4420,4420,"",null,{"$f":"M37*100/M1582","v":8.563087901394745},-29,54,65,506,1420,0.87867309458218545,3.5353535353535352E-2,8.5973370064279159E-2,{"$f":"L37*100/B$1537","v":26466.431095406359},8.5973370064279159E-2]
["2020-03-31T17:00:00",1,"Piemonte",3174,452,3626,4456,8082,427,589,365,854,9301,27658,null,9301,"x2",9301,null,{"$f":"M38*100/M1583","v":8.7917800967937083},83,57,105,589,2180,0.86893882378238896,3.9243092140630043E-2,9.1818084076980971E-2,{"$f":"L38*100/B$1537","v":30176.678445229682},9.1818084076980971E-2]
["2020-04-01T17:00:00",1,"Piemonte",3146,453,3599,4871,8470,388,494,439,886,9795,30060,null,9301,9301,"",null,{"$f":"M39*100/M1584","v":8.8583211243149389},-95,74,32,494,2402,0.86472690148034714,4.4818785094435938E-2,9.0454313425216953E-2,{"$f":"L39*100/B$1537","v":31307.420494699647},9.0454313425216953E-2]
["2020-04-02T17:00:00",1,"Piemonte",3341,453,3794,5005,8799,329,558,571,983,10353,32100,null,9301,9301,"",null,{"$f":"M40*100/M1585","v":8.9837038579684485},64,132,97,558,2040,0.84989858012170383,5.5153095721047041E-2,9.4948324157249103E-2,{"$f":"L40*100/B$1537","v":34734.98233215548},9.4948324157249103E-2]
["2020-04-03T17:00:00",1,"Piemonte",3300,452,3752,5378,9130,331,543,723,1043,10896,34281,null,9301,9301,"",null,{"$f":"M41*100/M1586","v":9.0931092324768201},-15,152,60,543,2181,0.83792217327459617,6.6354625550660795E-2,9.5723201174743019E-2,{"$f":"L41*100/B$1537","v":36855.123674911658},9.5723201174743019E-2]
["2020-04-04T17:00:00",1,"Piemonte",3441,450,3891,5802,9693,563,813,888,1128,11709,37181,null,9301,9301,"",null,{"$f":"M42*100/M1587","v":9.3948584633160017},270,165,85,813,2900,0.82782475019215984,7.5839098129643859E-2,9.6336151678196258E-2,{"$f":"L42*100/B$1537","v":39858.657243816255},9.6336151678196258E-2]
["2020-04-05T17:00:00",1,"Piemonte",3472,444,3916,6261,10177,484,653,1017,1168,12362,38539,null,9301,9301,"",null,{"$f":"M43*100/M1588","v":9.5868101870521443},-160,129,40,653,1358,0.82324866526452034,8.2268241384889182E-2,9.4483093350590519E-2,{"$f":"L43*100/B$1537","v":41272.084805653707},9.4483093350590519E-2]
["2020-04-06T17:00:00",1,"Piemonte",3484,438,3922,6623,10545,368,562,1128,1251,12924,41123,null,9301,9301,"",null,{"$f":"M44*100/M1589","v":9.7505035949512244},-91,111,83,562,2584,0.81592386258124416,8.72794800371402E-2,9.6796657381615595E-2,{"$f":"L44*100/B$1537","v":44204.946996466431},9.6796657381615595E-2]
["2020-04-07T17:00:00",1,"Piemonte",3553,432,3985,6719,10704,159,419,1320,1319,13343,44121,null,9301,9301,"",null,{"$f":"M45*100/M1590","v":9.8409865325328578},-143,192,68,419,2998,0.80221839166604214,9.8928276999175599E-2,9.8853331334782288E-2,{"$f":"L45*100/B$1537","v":46607.773851590107},9.8853331334782288E-2]
["2020-04-08T17:00:00",1,"Piemonte",3493,423,3916,7073,10989,285,540,1516,1378,13883,48495,null,9301,9301,"",null,{"$f":"M46*100/M1591","v":9.9575389823700711},121,196,59,540,4374,0.79154361449254484,0.10919830007923359,9.9258085428221565E-2,{"$f":"L46*100/B$1537","v":48692.579505300353},9.9258085428221565E-2]
["2020-04-09T17:00:00",1,"Piemonte",3514,412,3926,7410,11336,347,639,1732,1454,14522,52807,null,9301,9301,"",null,{"$f":"M47*100/M1592","v":10.110982691156197},99,216,76,639,4312,0.78060873157967225,0.11926731855116375,0.10012394986916402,{"$f":"L47*100/B$1537","v":51378.09187279152},0.10012394986916402]
["2020-04-10T17:00:00",1,"Piemonte",3497,394,3891,7685,11576,240,490,1904,1532,15012,57457,null,9301,9301,"",null,{"$f":"M48*100/M1593","v":10.172316824437413},-149,172,78,490,4650,0.77111644018118841,0.12683186783906208,0.10205169197974953,{"$f":"L48*100/B$1537","v":54134.275618374559},0.10205169197974953]
["2020-04-11T17:00:00",1,"Piemonte",3435,384,3819,8351,12170,594,996,2205,1633,16008,62577,null,9301,9301,"",null,{"$f":"M49*100/M1594","v":10.512835667986682},506,301,101,996,5120,0.76024487756121939,0.13774362818590705,0.10201149425287356,{"$f":"L49*100/B$1537","v":57703.180212014129},0.10201149425287356]
["2020-04-12T17:00:00",1,"Piemonte",3429,381,3810,8695,12505,335,652,2426,1729,16660,66555,null,9301,9301,"",null,{"$f":"M50*100/M1595","v":10.654694524919579},-344,221,96,652,3978,0.75060024009603843,0.14561824729891956,0.10378151260504202,{"$f":"L50*100/B$1537","v":61095.406360424029},0.10378151260504202]
["2020-04-13T17:00:00",1,"Piemonte",3344,379,3723,9042,12765,260,474,2543,1826,17134,69170,null,9301,9301,"",null,{"$f":"M51*100/M1596","v":10.741242257829935},-178,117,97,474,2615,0.74500992179292636,0.14841834948056495,0.10657172872650869,{"$f":"L51*100/B$1537","v":64522.968197879854},0.10657172872650869]
["2020-04-14T17:00:00",1,"Piemonte",3395,367,3762,9293,13055,290,556,2708,1927,17690,71678,null,9301,9301,"",null,{"$f":"M52*100/M1597","v":10.886957806114912},82,165,101,556,2508,0.73798756359525153,0.15308083663086489,0.10893159977388354,{"$f":"L52*100/B$1537","v":68091.872791519432},0.10893159977388354]
["2020-04-15T17:00:00",1,"Piemonte",3338,366,3704,9491,13195,140,539,3019,2015,18229,75664,null,9301,9301,"",null,{"$f":"M53*100/M1598","v":11.037510217674306},-17,311,88,539,3986,0.72384661802622197,0.16561522848208898,0.11053815349168906,{"$f":"L53*100/B$1537","v":71201.413427561842},0.11053815349168906]
["2020-04-16T17:00:00",1,"Piemonte",3418,346,3764,10019,13783,588,879,3231,2094,19108,80708,null,19108,"x2",19108,null,{"$f":"M54*100/M1599","v":11.310457496995992},340,212,79,879,5044,0.72132091270671972,0.16909148000837346,0.10958760728490685,{"$f":"L54*100/B$1537","v":73992.932862190806},0.10958760728490685]
["2020-04-17T17:00:00",1,"Piemonte",3266,333,3599,10399,13998,215,695,3634,2171,19803,86714,null,{"$f":"IF(Q55=\"x2\",M55,P54)","v":19108},{"$f":"IF(M55>P54*2,\"x2\",P54)","v":19108},{"$f":"IF(Q55=\"x2\",M55,\"\")","v":""},null,{"$f":"M55*100/M1600","v":11.484394029019798},{"$f":"IF(J55-J54=0,\"\",J55-J54)","v":-184},{"$f":"IF(K55-K54=0,\"\",K55-K54)","v":403},{"$f":"IF(L55-L54=0,\"\",L55-L54)","v":77},{"$f":"IF(M55-M54=0,\"\",M55-M54)","v":695},{"$f":"IF(N55-N54=0,\"\",N55-N54)","v":6006},{"$f":"IF(M55=0,0,H55/M55)","v":0.70686259657627637},{"$f":"IF(M55=0,0,K55/M55)","v":0.18350754936120789},{"$f":"IF(M55=0,0,L55/M55)","v":0.10962985406251578},{"$f":"L55*100/B$1537","v":76713.78091872792},0.10962985406251578]
["2020-04-18T17:00:00",1,"Piemonte",3271,323,3594,10629,14223,225,661,3989,2252,20464,91844,null,{"$f":"IF(Q56=\"x2\",M56,P55)","v":19108},{"$f":"IF(M56>P55*2,\"x2\",P55)","v":19108},{"$f":"IF(Q56=\"x2\",M56,\"\")","v":""},null,{"$f":"M56*100/M1601","v":11.632229643313913},{"$f":"IF(J56-J55=0,\"\",J56-J55)","v":-34},{"$f":"IF(K56-K55=0,\"\",K56-K55)","v":355},{"$f":"IF(L56-L55=0,\"\",L56-L55)","v":81},{"$f":"IF(M56-M55=0,\"\",M56-M55)","v":661},{"$f":"IF(N56-N55=0,\"\",N56-N55)","v":5130},{"$f":"IF(M56=0,0,H56/M56)","v":0.69502541047693511},{"$f":"IF(M56=0,0,K56/M56)","v":0.19492767787333853},{"$f":"IF(M56=0,0,L56/M56)","v":0.11004691164972635},{"$f":"L56*100/B$1537","v":79575.971731448764},0.11004691164972635]
["2020-04-19T17:00:00",1,"Piemonte",3201,305,3506,10964,14470,247,593,4256,2331,21057,96569,71644,{"$f":"IF(Q57=\"x2\",M57,P56)","v":19108},{"$f":"IF(M57>P56*2,\"x2\",P56)","v":19108},{"$f":"IF(Q57=\"x2\",M57,\"\")","v":""},null,{"$f":"M57*100/M1602","v":11.765527568558211},{"$f":"IF(J57-J56=0,\"\",J57-J56)","v":-68},{"$f":"IF(K57-K56=0,\"\",K57-K56)","v":267},{"$f":"IF(L57-L56=0,\"\",L57-L56)","v":79},{"$f":"IF(M57-M56=0,\"\",M57-M56)","v":593},{"$f":"IF(N57-N56=0,\"\",N57-N56)","v":4725},{"$f":"IF(M57=0,0,H57/M57)","v":0.68718240964999766},{"$f":"IF(M57=0,0,K57/M57)","v":0.20211806050244574},{"$f":"IF(M57=0,0,L57/M57)","v":0.11069952984755663},{"$f":"L57*100/B$1537","v":82367.491166077743},0.11069952984755663]
["2020-04-20T17:00:00",1,"Piemonte",3299,301,3600,10957,14557,87,292,4383,2409,21349,99669,73192,{"$f":"IF(Q58=\"x2\",M58,P57)","v":19108},{"$f":"IF(M58>P57*2,\"x2\",P57)","v":19108},{"$f":"IF(Q58=\"x2\",M58,\"\")","v":""},null,{"$f":"M58*100/M1603","v":11.780188491844527},{"$f":"IF(J58-J57=0,\"\",J58-J57)","v":-301},{"$f":"IF(K58-K57=0,\"\",K58-K57)","v":127},{"$f":"IF(L58-L57=0,\"\",L58-L57)","v":78},{"$f":"IF(M58-M57=0,\"\",M58-M57)","v":292},{"$f":"IF(N58-N57=0,\"\",N58-N57)","v":3100},{"$f":"IF(M58=0,0,H58/M58)","v":0.68185863506487421},{"$f":"IF(M58=0,0,K58/M58)","v":0.20530235608225209},{"$f":"IF(M58=0,0,L58/M58)","v":0.11283900885287367},{"$f":"L58*100/B$1537","v":85123.674911660783},0.11283900885287367]
["2020-04-21T17:00:00",1,"Piemonte",3116,293,3409,11402,14811,254,606,4659,2485,21955,105434,76406,19108,{"$f":"IF(M59>P58*2,\"x2\",P58)","v":19108},{"$f":"IF(Q59=\"x2\",M59,\"\")","v":""},null,{"$f":"M59*100/M1604","v":11.934854340960115},{"$f":"IF(J59-J58=0,\"\",J59-J58)","v":314},{"$f":"IF(K59-K58=0,\"\",K59-K58)","v":276},{"$f":"IF(L59-L58=0,\"\",L59-L58)","v":76},{"$f":"IF(M59-M58=0,\"\",M59-M58)","v":606},{"$f":"IF(N59-N58=0,\"\",N59-N58)","v":5765},{"$f":"IF(M59=0,0,H59/M59)","v":0.67460715099066271},{"$f":"IF(M59=0,0,K59/M59)","v":0.21220678660897291},{"$f":"IF(M59=0,0,L59/M59)","v":0.11318606240036438},{"$f":"L59*100/B$1537","v":87809.187279151942},0.11318606240036438]
["2020-04-22T17:00:00",1,"Piemonte",3213,273,3486,11636,15122,311,784,5058,2559,22739,111513,81176,19108,{"$f":"IF(M60>P59*2,\"x2\",P59)","v":19108},{"$f":"IF(Q60=\"x2\",M60,\"\")","v":""},null,{"$f":"M60*100/M1605","v":12.13866660972524},{"$f":"IF(J60-J59=0,\"\",J60-J59)","v":178},{"$f":"IF(K60-K59=0,\"\",K60-K59)","v":399},{"$f":"IF(L60-L59=0,\"\",L60-L59)","v":74},{"$f":"IF(M60-M59=0,\"\",M60-M59)","v":784},{"$f":"IF(N60-N59=0,\"\",N60-N59)","v":6079},{"$f":"IF(M60=0,0,H60/M60)","v":0.66502484717885568},{"$f":"IF(M60=0,0,K60/M60)","v":0.22243722239324509},{"$f":"IF(M60=0,0,L60/M60)","v":0.11253793042789921},{"$f":"L60*100/B$1537","v":90424.028268551236},0.11253793042789921]
["2020-04-23T17:00:00",1,"Piemonte",3039,261,3300,11852,15152,30,401,5358,2630,23140,117970,84648,{"$f":"IF(Q61=\"x2\",M61,P60)","v":19108},{"$f":"IF(M61>P60*2,\"x2\",P60)","v":19108},{"$f":"IF(Q61=\"x2\",M61,\"\")","v":""},null,{"$f":"M61*100/M1606","v":12.180678306917299},{"$f":"IF(J61-J60=0,\"\",J61-J60)","v":-383},{"$f":"IF(K61-K60=0,\"\",K61-K60)","v":300},{"$f":"IF(L61-L60=0,\"\",L61-L60)","v":71},{"$f":"IF(M61-M60=0,\"\",M61-M60)","v":401},{"$f":"IF(N61-N60=0,\"\",N61-N60)","v":6457},{"$f":"IF(M61=0,0,H61/M61)","v":0.6547968885047537},{"$f":"IF(M61=0,0,K61/M61)","v":0.23154710458081246},{"$f":"IF(M61=0,0,L61/M61)","v":0.11365600691443388},{"$f":"L61*100/B$1537","v":92932.862190812724},{"$f":"IF(M61=0,0,L61/M61)","v":0.11365600691443388}]
["2020-04-24T17:00:00",1,"Piemonte",2918,257,3175,12216,15391,239,682,5732,2699,23822,125300,89392,{"$f":"IF(Q62=\"x2\",M62,P61)","v":19108},{"$f":"IF(M62>P61*2,\"x2\",P61)","v":19108},{"$f":"IF(Q62=\"x2\",M62,\"\")","v":""},null,{"$f":"M62*100/M1607","v":12.343388913644985},{"$f":"IF(J62-J61=0,\"\",J62-J61)","v":281},{"$f":"IF(K62-K61=0,\"\",K62-K61)","v":374},{"$f":"IF(L62-L61=0,\"\",L62-L61)","v":69},{"$f":"IF(M62-M61=0,\"\",M62-M61)","v":682},{"$f":"IF(N62-N61=0,\"\",N62-N61)","v":7330},{"$f":"IF(M62=0,0,H62/M62)","v":0.64608345227100994},{"$f":"IF(M62=0,0,K62/M62)","v":0.24061791621190495},{"$f":"IF(M62=0,0,L62/M62)","v":0.11329863151708505},{"$f":"L62*100/B$1537","v":95371.024734982333},{"$f":"IF(M62=0,0,L62/M62)","v":0.11329863151708505}]
["2020-04-25T17:00:00",1,"Piemonte",2937,238,3175,12327,15502,111,604,6157,2767,24426,131107,93325,{"$f":"IF(Q63=\"x2\",M63,P62)","v":19108},{"$f":"IF(M63>P62*2,\"x2\",P62)","v":19108},{"$f":"IF(Q63=\"x2\",M63,\"\")","v":""},null,{"$f":"M63*100/M1608","v":12.503647281047959},{"$f":"IF(J63-J62=0,\"\",J63-J62)","v":-78},{"$f":"IF(K63-K62=0,\"\",K63-K62)","v":425},{"$f":"IF(L63-L62=0,\"\",L63-L62)","v":68},{"$f":"IF(M63-M62=0,\"\",M63-M62)","v":604},{"$f":"IF(N63-N62=0,\"\",N63-N62)","v":5807},{"$f":"IF(M63=0,0,H63/M63)","v":0.63465160075329563},{"$f":"IF(M63=0,0,K63/M63)","v":0.25206746909031358},{"$f":"IF(M63=0,0,L63/M63)","v":0.11328093015639074},{"$f":"L63*100/B$1537","v":97773.851590106002},{"$f":"IF(M63=0,0,L63/M63)","v":0.11328093015639074}]
["2020-04-26T17:00:00",1,"Piemonte",2866,214,3080,12439,15519,17,394,6478,2823,24820,135142,96977,{"$f":"IF(Q64=\"x2\",M64,P63)","v":19108},{"$f":"IF(M64>P63*2,\"x2\",P63)","v":19108},{"$f":"IF(Q64=\"x2\",M64,\"\")","v":""},null,{"$f":"M64*100/M1609","v":12.555963070696851},{"$f":"IF(J64-J63=0,\"\",J64-J63)","v":-210},{"$f":"IF(K64-K63=0,\"\",K64-K63)","v":321},{"$f":"IF(L64-L63=0,\"\",L64-L63)","v":56},{"$f":"IF(M64-M63=0,\"\",M64-M63)","v":394},{"$f":"IF(N64-N63=0,\"\",N64-N63)","v":4035},{"$f":"IF(M64=0,0,H64/M64)","v":0.62526188557614826},{"$f":"IF(M64=0,0,K64/M64)","v":0.26099919419822726},{"$f":"IF(M64=0,0,L64/M64)","v":0.1137389202256245},{"$f":"L64*100/B$1537","v":99752.650176678449},{"$f":"IF(M64=0,0,L64/M64)","v":0.1137389202256245}]
["2020-04-27T17:00:00",1,"Piemonte",2830,214,3044,12464,15508,-11,278,6712,2878,25098,139348,99144,{"$f":"IF(Q65=\"x2\",M65,P64)","v":19108},{"$f":"IF(M65>P64*2,\"x2\",P64)","v":19108},{"$f":"IF(Q65=\"x2\",M65,\"\")","v":""},null,{"$f":"M65*100/M1610","v":12.585876618492183},{"$f":"IF(J65-J64=0,\"\",J65-J64)","v":-116},{"$f":"IF(K65-K64=0,\"\",K65-K64)","v":234},{"$f":"IF(L65-L64=0,\"\",L65-L64)","v":55},{"$f":"IF(M65-M64=0,\"\",M65-M64)","v":278},{"$f":"IF(N65-N64=0,\"\",N65-N64)","v":4206},{"$f":"IF(M65=0,0,H65/M65)","v":0.61789784046537577},{"$f":"IF(M65=0,0,K65/M65)","v":0.26743166786198103},{"$f":"IF(M65=0,0,L65/M65)","v":0.11467049167264323},{"$f":"L65*100/B$1537","v":101696.11307420494},{"$f":"IF(M65=0,0,L65/M65)","v":0.11467049167264323}]
[{"$f":"A65 + 1","v":"2020-04-28T17:00:00"},null,null,null,null,null,null,null,null,null,null,null,null,null,null,null,"Media x2",{"$f":"COUNT(N2:N65) / COUNT(R2:R65)","v":6.4}]
[{"$f":"A66+1","v":"2020-04-29T17:00:00"}]
[{"$f":"A67+1","v":"2020-04-30T17:00:00"}]
[null,null,null,null,{"$f":"E65/$M65","v":8.5265758227747231E-3},null,null,{"$f":"H65/$M65","v":0.61789784046537577},null,null,{"$f":"K65/$M65","v":0.26743166786198103},{"$f":"L65/$M65","v":0.11467049167264323},null,{"$f":"N65/$M65","v":5.5521555502430475}]
[]
[]
[]
["Data","Codice","Regione","Ricoverati","Terap. Intens.","Ospedalizzati","Quarantena","Positivi","+ Positivi","Nuovi","Guariti","Deceduti","Totale","Tamponi","Testati",null,null,"x 2",null,"% su Tot.","+ Nuovi","+ Guariti","+ Deceduti","+ Totali","+ Tamponi","% Positivi","% Guariti","% Deceduti","P. Stimati","% Morti"]
["2020-02-24T18:00:00",2,"Valle d'Aosta",0,0,0,0,0,0,0,0,0,0,7,null,{"$f":"M74","v":0},null,{"$f":"M74","v":0},null,{"$f":"M74*100/M1547","v":0},null,null,null,null,null,{"$f":"IF(M74=0,0,H74/M74)","v":0},{"$f":"IF(M74=0,0,K74/M74)","v":0},{"$f":"IF(M74=0,0,L74/M74)","v":0},{"$f":"L74*100/B$1537","v":0},{"$f":"IF(M74=0,0,L74/M74)","v":0}]
["2020-02-25T18:00:00",2,"Valle d'Aosta",0,0,0,0,0,0,0,0,0,0,7,null,{"$f":"IF(Q75=\"x2\",M75,P74)","v":0},{"$f":"IF(M75>P74*2,\"x2\",P74)","v":0},{"$f":"IF(Q75=\"x2\",M75,\"\")","v":""},null,{"$f":"M75*100/M1548","v":0},{"$f":"IF(J75-J74=0,\"\",J75-J74)","v":""},{"$f":"IF(K75-K74=0,\"\",K75-K74)","v":""},{"$f":"IF(L75-L74=0,\"\",L75-L74)","v":""},{"$f":"IF(M75-M74=0,\"\",M75-M74)","v":""},{"$f":"IF(N75-N74=0,\"\",N75-N74)","v":""},0,0,0,{"$f":"L75*100/B$1537","v":0},0]
["2020-02-26T18:00:00",2,"Valle d'Aosta",0,0,0,0,0,0,0,0,0,0,7,null,0,0,"",null,{"$f":"M76*100/M1549","v":0},"","","","","",0,0,0,{"$f":"L76*100/B$1537","v":0},0]
["2020-02-27T18:00:00",2,"Valle d'Aosta",0,0,0,0,0,0,0,0,0,0,9,null,0,0,"",null,{"$f":"M77*100/M1550","v":0},"","","","",2,0,0,0,{"$f":"L77*100/B$1537","v":0},0]
["2020-02-28T18:00:00",2,"Valle d'Aosta",0,0,0,0,0,0,0,0,0,0,9,null,0,0,"",null,{"$f":"M78*100/M1551","v":0},"","","","","",0,0,0,{"$f":"L78*100/B$1537","v":0},0]
["2020-02-29T17:00:00",2,"Valle d'Aosta",0,0,0,0,0,0,0,0,0,0,9,null,0,0,"",null,{"$f":"M79*100/M1552","v":0},"","","","","",0,0,0,{"$f":"L79*100/B$1537","v":0},0]
["2020-03-01T17:00:00",2,"Valle d'Aosta",0,0,0,0,0,0,0,0,0,0,10,null,0,0,"",null,{"$f":"M80*100/M1553","v":0},"","","","",1,0,0,0,{"$f":"L80*100/B$1537","v":0},0]
["2020-03-02T18:00:00",2,"Valle d'Aosta",0,0,0,0,0,0,0,0,0,0,11,null,0,0,"",null,{"$f":"M81*100/M1554","v":0},"","","","",1,0,0,0,{"$f":"L81*100/B$1537","v":0},0]
["2020-03-03T18:00:00",2,"Valle d'Aosta",0,0,0,0,0,0,0,0,0,0,12,null,0,0,"",null,{"$f":"M82*100/M1555","v":0},"","","","",1,0,0,0,{"$f":"L82*100/B$1537","v":0},0]
["2020-03-04T17:00:00",2,"Valle d'Aosta",0,0,0,0,0,0,0,0,0,0,15,null,0,0,"",null,{"$f":"M83*100/M1556","v":0},"","","","",3,0,0,0,{"$f":"L83*100/B$1537","v":0},0]
["2020-03-05T17:00:00",2,"Valle d'Aosta",0,0,0,2,2,2,2,0,0,2,21,null,2,"x2",2,null,{"$f":"M84*100/M1557","v":5.1840331778123382E-2},2,"","",2,6,1,0,0,{"$f":"L84*100/B$1537","v":0},0]
["2020-03-06T17:00:00",2,"Valle d'Aosta",0,0,0,7,7,5,5,0,0,7,28,null,7,"x2",7,null,{"$f":"M85*100/M1558","v":0.15099223468507333},3,"","",5,7,1,0,0,{"$f":"L85*100/B$1537","v":0},0]
["2020-03-07T18:00:00",2,"Valle d'Aosta",1,0,1,7,8,1,1,0,0,8,32,null,7,7,"",null,{"$f":"M86*100/M1559","v":0.135985041645419},-4,"","",1,4,1,0,0,{"$f":"L86*100/B$1537","v":0},0]
["2020-03-08T18:00:00",2,"Valle d'Aosta",1,0,1,8,9,1,1,0,0,9,41,null,7,7,"",null,{"$f":"M87*100/M1560","v":0.12203389830508475},"","","",1,9,1,0,0,{"$f":"L87*100/B$1537","v":0},0]
["2020-03-09T18:00:00",2,"Valle d'Aosta",4,0,4,11,15,6,6,0,0,15,67,null,15,"x2",15,null,{"$f":"M88*100/M1561","v":0.16354121238552116},5,"","",6,26,1,0,0,{"$f":"L88*100/B$1537","v":0},0]
["2020-03-10T18:00:00",2,"Valle d'Aosta",2,0,2,15,17,2,2,0,0,17,89,null,15,15,"",null,{"$f":"M89*100/M1562","v":0.16750418760469013},-4,"","",2,22,1,0,0,{"$f":"L89*100/B$1537","v":0},0]
["2020-03-11T17:00:00",2,"Valle d'Aosta",2,0,2,17,19,2,2,0,1,20,99,null,15,15,"",null,{"$f":"M90*100/M1563","v":0.16048788316482104},"","",1,3,10,0.95,0,0.05,{"$f":"L90*100/B$1537","v":35.335689045936398},0.05]
["2020-03-12T17:00:00",2,"Valle d'Aosta",7,0,7,19,26,7,7,0,1,27,118,null,15,15,"",null,{"$f":"M91*100/M1564","v":0.17865413882088269},5,"","",7,19,0.96296296296296291,0,3.7037037037037035E-2,{"$f":"L91*100/B$1537","v":35.335689045936398},3.7037037037037035E-2]
["2020-03-13T17:00:00",2,"Valle d'Aosta",6,0,6,21,27,1,1,0,1,28,189,null,15,15,"",null,{"$f":"M92*100/M1565","v":0.15855039637599094},-6,"","",1,71,0.9642857142857143,0,3.5714285714285712E-2,{"$f":"L92*100/B$1537","v":35.335689045936398},3.5714285714285712E-2]
["2020-03-14T17:00:00",2,"Valle d'Aosta",12,0,12,29,41,14,14,0,1,42,231,null,42,"x2",42,null,{"$f":"M93*100/M1566","v":0.19851585763577068},13,"","",14,42,0.97619047619047616,0,2.3809523809523808E-2,{"$f":"L93*100/B$1537","v":35.335689045936398},2.3809523809523808E-2]
["2020-03-15T17:00:00",2,"Valle d'Aosta",10,3,13,43,56,15,15,0,1,57,230,null,42,42,"",null,{"$f":"M94*100/M1567","v":0.23033094920596436},1,"","",15,-1,0.98245614035087714,0,1.7543859649122806E-2,{"$f":"L94*100/B$1537","v":35.335689045936398},1.7543859649122806E-2]
["2020-03-16T17:00:00",2,"Valle d'Aosta",28,5,33,70,103,47,47,0,2,105,287,null,105,"x2",105,null,{"$f":"M95*100/M1568","v":0.37526804860614726},32,"",1,48,57,0.98095238095238091,0,1.9047619047619049E-2,{"$f":"L95*100/B$1537","v":70.671378091872796},1.9047619047619049E-2]
["2020-03-17T17:00:00",2,"Valle d'Aosta",35,6,41,93,134,31,31,0,2,136,398,null,105,105,"",null,{"$f":"M96*100/M1569","v":0.43166381006792359},-16,"","",31,111,0.98529411764705888,0,1.4705882352941176E-2,{"$f":"L96*100/B$1537","v":70.671378091872796},1.4705882352941176E-2]
["2020-03-18T17:00:00",2,"Valle d'Aosta",41,3,44,118,162,28,28,0,3,165,486,null,105,105,"",null,{"$f":"M97*100/M1570","v":0.46201663259877357},-3,"",1,29,88,0.98181818181818181,0,1.8181818181818181E-2,{"$f":"L97*100/B$1537","v":106.00706713780919},1.8181818181818181E-2]
["2020-03-19T17:00:00",2,"Valle d'Aosta",47,9,56,153,209,47,47,0,6,215,608,null,215,"x2",215,null,{"$f":"M98*100/M1571","v":0.52394297550871205},19,"",3,50,122,0.97209302325581393,0,2.7906976744186046E-2,{"$f":"L98*100/B$1537","v":212.01413427561837},2.7906976744186046E-2]
["2020-03-20T17:00:00",2,"Valle d'Aosta",54,9,63,194,257,48,48,0,7,264,814,null,215,215,"",null,{"$f":"M99*100/M1572","v":0.56145126645541354},1,"",1,49,206,0.97348484848484851,0,2.6515151515151516E-2,{"$f":"L99*100/B$1537","v":247.34982332155477},2.6515151515151516E-2]
["2020-03-21T17:00:00",2,"Valle d'Aosta",62,15,77,227,304,47,47,1,8,313,884,null,215,215,"",null,{"$f":"M100*100/M1573","v":0.58419500541266933},-1,1,1,49,70,0.97124600638977632,3.1948881789137379E-3,2.5559105431309903E-2,{"$f":"L100*100/B$1537","v":282.68551236749119},2.5559105431309903E-2]
["2020-03-22T17:00:00",2,"Valle d'Aosta",63,21,84,270,354,50,50,1,9,364,950,null,215,215,"",null,{"$f":"M101*100/M1574","v":0.61550948628631341},3,"",1,51,66,0.97252747252747251,2.7472527472527475E-3,2.4725274725274724E-2,{"$f":"L101*100/B$1537","v":318.02120141342755},2.4725274725274724E-2]
["2020-03-23T17:00:00",2,"Valle d'Aosta",69,20,89,290,379,25,25,2,12,393,1098,null,215,215,"",null,{"$f":"M102*100/M1575","v":0.61476371486226478},-25,1,3,29,148,0.96437659033078882,5.0890585241730284E-3,3.0534351145038167E-2,{"$f":"L102*100/B$1537","v":424.02826855123675},3.0534351145038167E-2]
["2020-03-24T17:00:00",2,"Valle d'Aosta",71,20,91,288,379,0,0,2,19,400,1180,null,215,215,"",null,{"$f":"M103*100/M1576","v":0.57823522608997335},-25,"",7,7,82,0.94750000000000001,5.0000000000000001E-3,4.7500000000000001E-2,{"$f":"L103*100/B$1537","v":671.37809187279152},4.7500000000000001E-2]
["2020-03-25T17:00:00",2,"Valle d'Aosta",70,25,95,280,375,-4,-4,2,24,401,1200,null,215,215,"",null,{"$f":"M104*100/M1577","v":0.53907993439625734},-4,"",5,1,20,0.93516209476309231,4.9875311720698253E-3,5.9850374064837904E-2,{"$f":"L104*100/B$1537","v":848.0565371024735},5.9850374064837904E-2]
["2020-03-26T17:00:00",2,"Valle d'Aosta",73,24,97,281,378,3,3,2,28,408,1203,null,215,215,"",null,{"$f":"M105*100/M1578","v":0.50658687095692767},7,"",4,7,3,0.92647058823529416,4.9019607843137254E-3,6.8627450980392163E-2,{"$f":"L105*100/B$1537","v":989.39929328621906},6.8627450980392163E-2]
["2020-03-27T17:00:00",2,"Valle d'Aosta",91,24,115,298,413,35,44,2,37,452,1252,null,452,"x2",452,null,{"$f":"M106*100/M1579","v":0.52255543480774125},41,"",9,44,49,{"$f":"IF(M106=0,0,H106/M106)","v":0.91371681415929207},{"$f":"IF(M106=0,0,K106/M106)","v":4.4247787610619468E-3},{"$f":"IF(M106=0,0,L106/M106)","v":8.185840707964602E-2},{"$f":"L106*100/B$1537","v":1307.4204946996465},8.185840707964602E-2]
["2020-03-28T17:00:00",2,"Valle d'Aosta",90,26,116,352,468,55,59,2,41,511,1380,null,{"$f":"IF(Q107=\"x2\",M107,P106)","v":452},{"$f":"IF(M107>P106*2,\"x2\",P106)","v":452},{"$f":"IF(Q107=\"x2\",M107,\"\")","v":""},null,{"$f":"M107*100/M1580","v":0.55259970585690799},{"$f":"IF(J107-J106=0,\"\",J107-J106)","v":15},{"$f":"IF(K107-K106=0,\"\",K107-K106)","v":""},{"$f":"IF(L107-L106=0,\"\",L107-L106)","v":4},{"$f":"IF(M107-M106=0,\"\",M107-M106)","v":59},{"$f":"IF(N107-N106=0,\"\",N107-N106)","v":128},0.91585127201565553,3.9138943248532287E-3,8.0234833659491189E-2,{"$f":"L107*100/B$1537","v":1448.7632508833922},8.0234833659491189E-2]
["2020-03-29T17:00:00",2,"Valle d'Aosta",90,26,116,423,539,71,73,2,43,584,1480,null,452,452,"",null,{"$f":"M108*100/M1581","v":0.59781551658835697},14,"",2,73,100,0.92294520547945202,3.4246575342465752E-3,7.3630136986301373E-2,{"$f":"L108*100/B$1537","v":1519.434628975265},7.3630136986301373E-2]
["2020-03-30T17:00:00",2,"Valle d'Aosta",92,26,118,400,518,-21,0,16,50,584,1536,null,452,452,"",null,{"$f":"M109*100/M1582","v":0.57401782993738881},-73,14,7,"",56,0.88698630136986301,2.7397260273972601E-2,8.5616438356164379E-2,{"$f":"L109*100/B$1537","v":1766.7844522968198},8.5616438356164379E-2]
["2020-03-31T17:00:00",2,"Valle d'Aosta",91,26,117,435,552,34,44,20,56,628,1582,null,452,452,"",null,{"$f":"M110*100/M1583","v":0.59361766485178469},44,4,6,44,46,0.87898089171974525,3.1847133757961783E-2,8.9171974522292988E-2,{"$f":"L110*100/B$1537","v":1978.7985865724381},8.9171974522292988E-2]
["2020-04-01T17:00:00",2,"Valle d'Aosta",85,27,112,428,540,-12,3,32,59,631,1717,null,452,452,"",null,{"$f":"M111*100/M1584","v":0.57065856349593935},-41,12,3,3,135,0.85578446909667194,5.0713153724247229E-2,9.3502377179080817E-2,{"$f":"L111*100/B$1537","v":2084.8056537102475},9.3502377179080817E-2]
["2020-04-02T17:00:00",2,"Valle d'Aosta",85,25,110,446,556,16,37,49,63,668,1934,null,452,452,"",null,{"$f":"M112*100/M1585","v":0.57964978046198434},34,17,4,37,217,0.83233532934131738,7.3353293413173648E-2,9.4311377245508976E-2,{"$f":"L112*100/B$1537","v":2226.1484098939927},9.4311377245508976E-2]
["2020-04-03T17:00:00",2,"Valle d'Aosta",85,25,110,450,560,4,51,89,70,719,2106,null,452,452,"",null,{"$f":"M113*100/M1586","v":0.60003171238535558},14,40,7,51,172,0.77885952712100137,0.12378303198887343,9.7357440890125171E-2,{"$f":"L113*100/B$1537","v":2473.4982332155478},9.7357440890125171E-2]
["2020-04-04T17:00:00",2,"Valle d'Aosta",63,23,86,474,560,0,29,106,82,748,2274,null,452,452,"",null,{"$f":"M114*100/M1587","v":0.60016689132806988},-22,17,12,29,168,0.74866310160427807,0.14171122994652408,0.10962566844919786,{"$f":"L114*100/B$1537","v":2897.5265017667843},0.10962566844919786]
["2020-04-05T17:00:00",2,"Valle d'Aosta",96,23,119,457,576,16,34,115,91,782,2390,null,452,452,"",null,{"$f":"M115*100/M1588","v":0.60644600924403635},5,9,9,34,116,0.73657289002557547,0.14705882352941177,0.11636828644501279,{"$f":"L115*100/B$1537","v":3215.547703180212},0.11636828644501279]
["2020-04-06T17:00:00",2,"Valle d'Aosta",109,21,130,437,567,-9,23,142,96,805,2590,null,452,452,"",null,{"$f":"M116*100/M1589","v":0.60733173893034165},-11,27,5,23,200,0.70434782608695656,0.1763975155279503,0.11925465838509317,{"$f":"L116*100/B$1537","v":3392.226148409894},0.11925465838509317]
["2020-04-07T17:00:00",2,"Valle d'Aosta",118,17,135,458,593,26,30,142,100,835,2754,null,452,452,"",null,{"$f":"M117*100/M1590","v":0.61584529376189279},7,"",4,30,164,0.71017964071856288,0.17005988023952096,0.11976047904191617,{"$f":"L117*100/B$1537","v":3533.5689045936397},0.11976047904191617]
["2020-04-08T17:00:00",2,"Valle d'Aosta",120,20,140,466,606,13,15,142,102,850,2953,null,452,452,"",null,{"$f":"M118*100/M1591","v":0.60965988151080897},-15,"",2,15,199,0.71294117647058819,0.16705882352941176,0.12,{"$f":"L118*100/B$1537","v":3604.2402826855123},0.12]
["2020-04-09T17:00:00",2,"Valle d'Aosta",118,18,136,473,609,3,18,154,105,868,3142,null,452,452,"",null,{"$f":"M119*100/M1592","v":0.6043474022809241},3,12,3,18,189,0.70161290322580649,0.17741935483870969,0.12096774193548387,{"$f":"L119*100/B$1537","v":3710.2473498233217},0.12096774193548387]
["2020-04-10T17:00:00",2,"Valle d'Aosta",131,16,147,455,602,-7,11,170,107,879,3328,null,452,452,"",null,{"$f":"M120*100/M1593","v":0.5956212688969148},-7,16,2,11,186,0.68486916951080778,0.19340159271899887,0.1217292377701934,{"$f":"L120*100/B$1537","v":3780.9187279151943},0.1217292377701934]
["2020-04-11T17:00:00",2,"Valle d'Aosta",118,17,135,455,590,-12,23,205,107,902,3464,null,452,452,"",null,{"$f":"M121*100/M1594","v":0.59236492831858989},12,35,"",23,136,0.65410199556541015,0.22727272727272727,0.11862527716186252,{"$f":"L121*100/B$1537","v":3780.9187279151943},0.11862527716186252]
["2020-04-12T17:00:00",2,"Valle d'Aosta",109,16,125,463,588,-2,19,221,112,921,3510,null,921,"x2",921,null,{"$f":"M122*100/M1595","v":0.58901402505707867},-4,16,5,19,46,0.6384364820846905,0.23995656894679696,0.12160694896851248,{"$f":"L122*100/B$1537","v":3957.5971731448763},0.12160694896851248]
["2020-04-13T17:00:00",2,"Valle d'Aosta",109,15,124,458,582,-6,6,230,115,927,3614,null,921,921,"",null,{"$f":"M123*100/M1596","v":0.58113292710449105},-13,9,3,6,104,0.62783171521035597,0.24811218985976269,0.12405609492988134,{"$f":"L123*100/B$1537","v":4063.6042402826856},0.12405609492988134]
["2020-04-14T17:00:00",2,"Valle d'Aosta",112,14,126,433,559,-23,20,270,118,947,3726,null,921,921,"",null,{"$f":"M124*100/M1597","v":0.58281226921372653},14,40,3,20,112,0.59028511087645197,0.28511087645195354,0.1246040126715945,{"$f":"L124*100/B$1537","v":4169.611307420495},0.1246040126715945]
["2020-04-15T17:00:00",2,"Valle d'Aosta",112,11,123,425,548,-11,11,289,121,958,3894,null,921,921,"",null,{"$f":"M125*100/M1598","v":0.58006115467288299},-9,19,3,11,168,0.57202505219206679,0.30167014613778703,0.12630480167014613,{"$f":"L125*100/B$1537","v":4275.6183745583039},0.12630480167014613]
["2020-04-16T17:00:00",2,"Valle d'Aosta",105,12,117,401,518,-30,13,331,122,971,4159,null,921,921,"",null,{"$f":"M126*100/M1599","v":0.57475686778224355},2,42,1,13,265,0.53347064881565398,0.3408856848609681,0.12564366632337795,{"$f":"L126*100/B$1537","v":4310.9540636042402},0.12564366632337795]
["2020-04-17T17:00:00",2,"Valle d'Aosta",108,9,117,374,491,-27,22,379,123,993,4366,null,{"$f":"IF(Q127=\"x2\",M127,P126)","v":921},{"$f":"IF(M127>P126*2,\"x2\",P126)","v":921},{"$f":"IF(Q127=\"x2\",M127,\"\")","v":""},null,{"$f":"M127*100/M1600","v":0.57587250774209264},{"$f":"IF(J127-J126=0,\"\",J127-J126)","v":9},{"$f":"IF(K127-K126=0,\"\",K127-K126)","v":48},{"$f":"IF(L127-L126=0,\"\",L127-L126)","v":1},{"$f":"IF(M127-M126=0,\"\",M127-M126)","v":22},{"$f":"IF(N127-N126=0,\"\",N127-N126)","v":207},{"$f":"IF(M127=0,0,H127/M127)","v":0.49446122860020142},{"$f":"IF(M127=0,0,K127/M127)","v":0.38167170191339378},{"$f":"IF(M127=0,0,L127/M127)","v":0.12386706948640483},{"$f":"L127*100/B$1537","v":4346.2897526501765},0.12386706948640483]
["2020-04-18T17:00:00",2,"Valle d'Aosta",107,10,117,432,549,58,80,400,124,1073,4521,null,{"$f":"IF(Q128=\"x2\",M128,P127)","v":921},{"$f":"IF(M128>P127*2,\"x2\",P127)","v":921},{"$f":"IF(Q128=\"x2\",M128,\"\")","v":""},null,{"$f":"M128*100/M1601","v":0.60991899957368201},{"$f":"IF(J128-J127=0,\"\",J128-J127)","v":58},{"$f":"IF(K128-K127=0,\"\",K128-K127)","v":21},{"$f":"IF(L128-L127=0,\"\",L128-L127)","v":1},{"$f":"IF(M128-M127=0,\"\",M128-M127)","v":80},{"$f":"IF(N128-N127=0,\"\",N128-N127)","v":155},{"$f":"IF(M128=0,0,H128/M128)","v":0.51164958061509791},{"$f":"IF(M128=0,0,K128/M128)","v":0.37278657968313139},{"$f":"IF(M128=0,0,L128/M128)","v":0.11556383970177074},{"$f":"L128*100/B$1537","v":4381.6254416961128},0.11556383970177074]
["2020-04-19T17:00:00",2,"Valle d'Aosta",102,10,112,450,562,13,15,401,125,1088,4677,3802,{"$f":"IF(Q129=\"x2\",M129,P128)","v":921},{"$f":"IF(M129>P128*2,\"x2\",P128)","v":921},{"$f":"IF(Q129=\"x2\",M129,\"\")","v":""},null,{"$f":"M129*100/M1602","v":0.60791632210625124},{"$f":"IF(J129-J128=0,\"\",J129-J128)","v":-65},{"$f":"IF(K129-K128=0,\"\",K129-K128)","v":1},{"$f":"IF(L129-L128=0,\"\",L129-L128)","v":1},{"$f":"IF(M129-M128=0,\"\",M129-M128)","v":15},{"$f":"IF(N129-N128=0,\"\",N129-N128)","v":156},{"$f":"IF(M129=0,0,H129/M129)","v":0.51654411764705888},{"$f":"IF(M129=0,0,K129/M129)","v":0.36856617647058826},{"$f":"IF(M129=0,0,L129/M129)","v":0.11488970588235294},{"$f":"L129*100/B$1537","v":4416.9611307420491},0.11488970588235294]
["2020-04-20T17:00:00",2,"Valle d'Aosta",102,8,110,438,548,-14,0,413,127,1088,4799,3910,{"$f":"IF(Q130=\"x2\",M130,P129)","v":921},{"$f":"IF(M130>P129*2,\"x2\",P129)","v":921},{"$f":"IF(Q130=\"x2\",M130,\"\")","v":""},null,{"$f":"M130*100/M1603","v":0.60034873198402017},{"$f":"IF(J130-J129=0,\"\",J130-J129)","v":-15},{"$f":"IF(K130-K129=0,\"\",K130-K129)","v":12},{"$f":"IF(L130-L129=0,\"\",L130-L129)","v":2},{"$f":"IF(M130-M129=0,\"\",M130-M129)","v":""},{"$f":"IF(N130-N129=0,\"\",N130-N129)","v":122},{"$f":"IF(M130=0,0,H130/M130)","v":0.50367647058823528},{"$f":"IF(M130=0,0,K130/M130)","v":0.3795955882352941},{"$f":"IF(M130=0,0,L130/M130)","v":0.11672794117647059},{"$f":"L130*100/B$1537","v":4487.6325088339217},0.11672794117647059]
["2020-04-21T17:00:00",2,"Valle d'Aosta",99,8,107,415,522,-26,5,445,126,1093,4911,3969,921,{"$f":"IF(M131>P130*2,\"x2\",P130)","v":921},{"$f":"IF(Q131=\"x2\",M131,\"\")","v":""},null,{"$f":"M131*100/M1604","v":0.59416059187744963},{"$f":"IF(J131-J130=0,\"\",J131-J130)","v":5},{"$f":"IF(K131-K130=0,\"\",K131-K130)","v":32},{"$f":"IF(L131-L130=0,\"\",L131-L130)","v":-1},{"$f":"IF(M131-M130=0,\"\",M131-M130)","v":5},{"$f":"IF(N131-N130=0,\"\",N131-N130)","v":112},{"$f":"IF(M131=0,0,H131/M131)","v":0.4775846294602013},{"$f":"IF(M131=0,0,K131/M131)","v":0.40713632204940531},{"$f":"IF(M131=0,0,L131/M131)","v":0.11527904849039342},{"$f":"L131*100/B$1537","v":4452.2968197879854},0.11527904849039342]
["2020-04-22T17:00:00",2,"Valle d'Aosta",92,8,100,401,501,-21,2,467,127,1095,5024,4011,921,{"$f":"IF(M132>P131*2,\"x2\",P131)","v":921},{"$f":"IF(Q132=\"x2\",M132,\"\")","v":""},null,{"$f":"M132*100/M1605","v":0.58453933495972288},{"$f":"IF(J132-J131=0,\"\",J132-J131)","v":-3},{"$f":"IF(K132-K131=0,\"\",K132-K131)","v":22},{"$f":"IF(L132-L131=0,\"\",L132-L131)","v":1},{"$f":"IF(M132-M131=0,\"\",M132-M131)","v":2},{"$f":"IF(N132-N131=0,\"\",N132-N131)","v":113},{"$f":"IF(M132=0,0,H132/M132)","v":0.45753424657534247},{"$f":"IF(M132=0,0,K132/M132)","v":0.42648401826484017},{"$f":"IF(M132=0,0,L132/M132)","v":0.11598173515981736},{"$f":"L132*100/B$1537","v":4487.6325088339217},0.11598173515981736]
["2020-04-23T17:00:00",2,"Valle d'Aosta",91,9,100,363,463,-38,1,506,127,1096,5227,4133,{"$f":"IF(Q133=\"x2\",M133,P132)","v":921},{"$f":"IF(M133>P132*2,\"x2\",P132)","v":921},{"$f":"IF(Q133=\"x2\",M133,\"\")","v":""},null,{"$f":"M133*100/M1606","v":0.57692408921267757},{"$f":"IF(J133-J132=0,\"\",J133-J132)","v":-1},{"$f":"IF(K133-K132=0,\"\",K133-K132)","v":39},{"$f":"IF(L133-L132=0,\"\",L133-L132)","v":""},{"$f":"IF(M133-M132=0,\"\",M133-M132)","v":1},{"$f":"IF(N133-N132=0,\"\",N133-N132)","v":203},{"$f":"IF(M133=0,0,H133/M133)","v":0.42244525547445255},{"$f":"IF(M133=0,0,K133/M133)","v":0.46167883211678834},{"$f":"IF(M133=0,0,L133/M133)","v":0.11587591240875912},{"$f":"L133*100/B$1537","v":4487.6325088339217},{"$f":"IF(M133=0,0,L133/M133)","v":0.11587591240875912}]
["2020-04-24T17:00:00",2,"Valle d'Aosta",88,7,95,259,354,-109,4,617,129,1100,5262,4454,{"$f":"IF(Q134=\"x2\",M134,P133)","v":921},{"$f":"IF(M134>P133*2,\"x2\",P133)","v":921},{"$f":"IF(Q134=\"x2\",M134,\"\")","v":""},null,{"$f":"M134*100/M1607","v":0.56996590567582417},{"$f":"IF(J134-J133=0,\"\",J134-J133)","v":3},{"$f":"IF(K134-K133=0,\"\",K134-K133)","v":111},{"$f":"IF(L134-L133=0,\"\",L134-L133)","v":2},{"$f":"IF(M134-M133=0,\"\",M134-M133)","v":4},{"$f":"IF(N134-N133=0,\"\",N134-N133)","v":35},{"$f":"IF(M134=0,0,H134/M134)","v":0.32181818181818184},{"$f":"IF(M134=0,0,K134/M134)","v":0.56090909090909091},{"$f":"IF(M134=0,0,L134/M134)","v":0.11727272727272728},{"$f":"L134*100/B$1537","v":4558.3038869257953},{"$f":"IF(M134=0,0,L134/M134)","v":0.11727272727272728}]
["2020-04-25T17:00:00",2,"Valle d'Aosta",83,6,89,224,313,-41,0,657,130,1100,5966,4694,{"$f":"IF(Q135=\"x2\",M135,P134)","v":921},{"$f":"IF(M135>P134*2,\"x2\",P134)","v":921},{"$f":"IF(Q135=\"x2\",M135,\"\")","v":""},null,{"$f":"M135*100/M1608","v":0.56308900389555205},{"$f":"IF(J135-J134=0,\"\",J135-J134)","v":-4},{"$f":"IF(K135-K134=0,\"\",K135-K134)","v":40},{"$f":"IF(L135-L134=0,\"\",L135-L134)","v":1},{"$f":"IF(M135-M134=0,\"\",M135-M134)","v":""},{"$f":"IF(N135-N134=0,\"\",N135-N134)","v":704},{"$f":"IF(M135=0,0,H135/M135)","v":0.28454545454545455},{"$f":"IF(M135=0,0,K135/M135)","v":0.59727272727272729},{"$f":"IF(M135=0,0,L135/M135)","v":0.11818181818181818},{"$f":"L135*100/B$1537","v":4593.6395759717316},{"$f":"IF(M135=0,0,L135/M135)","v":0.11818181818181818}]
["2020-04-26T17:00:00",2,"Valle d'Aosta",82,7,89,165,254,-59,6,721,131,1106,6135,4624,{"$f":"IF(Q136=\"x2\",M136,P135)","v":921},{"$f":"IF(M136>P135*2,\"x2\",P135)","v":921},{"$f":"IF(Q136=\"x2\",M136,\"\")","v":""},null,{"$f":"M136*100/M1609","v":0.55950423675224481},{"$f":"IF(J136-J135=0,\"\",J136-J135)","v":6},{"$f":"IF(K136-K135=0,\"\",K136-K135)","v":64},{"$f":"IF(L136-L135=0,\"\",L136-L135)","v":1},{"$f":"IF(M136-M135=0,\"\",M136-M135)","v":6},{"$f":"IF(N136-N135=0,\"\",N136-N135)","v":169},{"$f":"IF(M136=0,0,H136/M136)","v":0.22965641952983726},{"$f":"IF(M136=0,0,K136/M136)","v":0.65189873417721522},{"$f":"IF(M136=0,0,L136/M136)","v":0.11844484629294756},{"$f":"L136*100/B$1537","v":4628.9752650176679},{"$f":"IF(M136=0,0,L136/M136)","v":0.11844484629294756}]
["2020-04-27T17:00:00",2,"Valle d'Aosta",86,7,93,142,235,-19,5,743,133,1111,6551,4873,{"$f":"IF(Q137=\"x2\",M137,P136)","v":921},{"$f":"IF(M137>P136*2,\"x2\",P136)","v":921},{"$f":"IF(Q137=\"x2\",M137,\"\")","v":""},null,{"$f":"M137*100/M1610","v":0.55713239792592295},{"$f":"IF(J137-J136=0,\"\",J137-J136)","v":-1},{"$f":"IF(K137-K136=0,\"\",K137-K136)","v":22},{"$f":"IF(L137-L136=0,\"\",L137-L136)","v":2},{"$f":"IF(M137-M136=0,\"\",M137-M136)","v":5},{"$f":"IF(N137-N136=0,\"\",N137-N136)","v":416},{"$f":"IF(M137=0,0,H137/M137)","v":0.21152115211521152},{"$f":"IF(M137=0,0,K137/M137)","v":0.66876687668766877},{"$f":"IF(M137=0,0,L137/M137)","v":0.11971197119711971},{"$f":"L137*100/B$1537","v":4699.6466431095405},{"$f":"IF(M137=0,0,L137/M137)","v":0.11971197119711971}]
[{"$f":"A137 + 1","v":"2020-04-28T17:00:00"},null,null,null,null,null,null,null,null,null,null,null,null,null,null,null,"Media x2",{"$f":"COUNT(N74:N137) / COUNT(R74:R137)","v":7.1111111111111107}]
[{"$f":"A138+1","v":"2020-04-29T17:00:00"}]
[{"$f":"A139+1","v":"2020-04-30T17:00:00"}]
[null,null,null,null,{"$f":"E137/$M137","v":6.3006300630063005E-3},null,null,{"$f":"H137/$M137","v":0.21152115211521152},null,null,{"$f":"K137/$M137","v":0.66876687668766877},{"$f":"L137/$M137","v":0.11971197119711971},null,{"$f":"N137/$M137","v":5.8964896489648968}]
[]
[]
[]
["Data","Codice","Regione","Ricoverati","Terap. Intens.","Ospedalizzati","Quarantena","Positivi","+ Positivi","Nuovi","Guariti","Deceduti","Totale","Tamponi","Testati",null,null,"x 2",null,"% su Tot.","+ Nuovi","+ Guariti","+ Deceduti","+ Totali","+ Tamponi","% Positivi","% Guariti","% Deceduti","P. Stimati","% Morti"]
["2020-02-24T18:00:00",3,"Lombardia",76,19,95,71,166,0,166,0,6,172,1463,null,{"$f":"M146","v":172},null,{"$f":"M146","v":172},null,{"$f":"M146*100/M1547","v":75.109170305676855},null,null,null,null,null,{"$f":"IF(M146=0,0,H146/M146)","v":0.96511627906976749},{"$f":"IF(M146=0,0,K146/M146)","v":0},{"$f":"IF(M146=0,0,L146/M146)","v":3.4883720930232558E-2},{"$f":"L146*100/B$1537","v":212.01413427561837},{"$f":"IF(M146=0,0,L146/M146)","v":3.4883720930232558E-2}]
["2020-02-25T18:00:00",3,"Lombardia",79,25,104,127,231,65,65,0,9,240,3700,null,{"$f":"IF(Q147=\"x2\",M147,P146)","v":172},{"$f":"IF(M147>P146*2,\"x2\",P146)","v":172},{"$f":"IF(Q147=\"x2\",M147,\"\")","v":""},null,{"$f":"M147*100/M1548","v":74.534161490683232},{"$f":"IF(J147-J146=0,\"\",J147-J146)","v":-101},{"$f":"IF(K147-K146=0,\"\",K147-K146)","v":""},{"$f":"IF(L147-L146=0,\"\",L147-L146)","v":3},{"$f":"IF(M147-M146=0,\"\",M147-M146)","v":68},{"$f":"IF(N147-N146=0,\"\",N147-N146)","v":2237},0.96250000000000002,0,3.7499999999999999E-2,{"$f":"L147*100/B$1537","v":318.02120141342755},3.7499999999999999E-2]
["2020-02-26T18:00:00",3,"Lombardia",79,25,104,145,249,18,18,0,9,258,3208,null,172,172,"",null,{"$f":"M148*100/M1549","v":64.5},-47,"","",18,-492,0.96511627906976749,0,3.4883720930232558E-2,{"$f":"L148*100/B$1537","v":318.02120141342755},3.4883720930232558E-2]
["2020-02-27T18:00:00",3,"Lombardia",172,41,213,136,349,100,100,40,14,403,3320,null,403,"x2",403,null,{"$f":"M149*100/M1550","v":62},82,40,5,145,112,0.86600496277915628,9.9255583126550875E-2,3.4739454094292806E-2,{"$f":"L149*100/B$1537","v":494.69964664310953},3.4739454094292806E-2]
["2020-02-28T18:00:00",3,"Lombardia",235,47,282,192,474,125,125,40,17,531,4835,null,403,403,"",null,{"$f":"M150*100/M1551","v":59.797297297297298},25,"",3,128,1515,0.89265536723163841,7.5329566854990579E-2,3.2015065913370999E-2,{"$f":"L150*100/B$1537","v":600.70671378091868},3.2015065913370999E-2]
["2020-02-29T17:00:00",3,"Lombardia",256,80,336,216,552,78,78,40,23,615,5723,null,403,403,"",null,{"$f":"M151*100/M1552","v":54.521276595744681},-47,"",6,84,888,0.89756097560975612,6.5040650406504072E-2,3.7398373983739838E-2,{"$f":"L151*100/B$1537","v":812.72084805653708},3.7398373983739838E-2]
["2020-03-01T17:00:00",3,"Lombardia",406,106,512,375,887,335,335,73,24,984,6879,null,984,"x2",984,null,{"$f":"M152*100/M1553","v":58.087367178276267},257,33,1,369,1156,0.90142276422764223,7.41869918699187E-2,2.4390243902439025E-2,{"$f":"L152*100/B$1537","v":848.0565371024735},2.4390243902439025E-2]
["2020-03-02T18:00:00",3,"Lombardia",478,127,605,472,1077,190,190,139,38,1254,7925,null,984,984,"",null,{"$f":"M153*100/M1554","v":61.591355599214147},-145,66,14,270,1046,0.85885167464114831,0.11084529505582137,3.0303030303030304E-2,{"$f":"L153*100/B$1537","v":1342.756183745583},3.0303030303030304E-2]
["2020-03-03T18:00:00",3,"Lombardia",698,167,865,461,1326,249,249,139,55,1520,9577,null,984,984,"",null,{"$f":"M154*100/M1555","v":60.75139888089528},59,"",17,266,1652,0.87236842105263157,9.1447368421052638E-2,3.6184210526315791E-2,{"$f":"L154*100/B$1537","v":1943.4628975265018},3.6184210526315791E-2]
["2020-03-04T17:00:00",3,"Lombardia",877,209,1086,411,1497,171,171,250,73,1820,12138,null,984,984,"",null,{"$f":"M155*100/M1556","v":58.918743930074456},-78,111,18,300,2561,0.82252747252747249,0.13736263736263737,4.0109890109890113E-2,{"$f":"L155*100/B$1537","v":2579.5053003533567},4.0109890109890113E-2]
["2020-03-05T17:00:00",3,"Lombardia",1169,244,1413,364,1777,280,280,376,98,2251,12354,null,2251,"x2",2251,null,{"$f":"M156*100/M1557","v":58.346293416277867},109,126,25,431,216,0.78942692136828074,0.16703687250111063,4.3536206130608615E-2,{"$f":"L156*100/B$1537","v":3462.8975265017666},4.3536206130608615E-2]
["2020-03-06T17:00:00",3,"Lombardia",1622,309,1931,77,2008,231,231,469,135,2612,13556,null,2251,2251,"",null,{"$f":"M157*100/M1558","v":56.341673856773077},-49,93,37,361,1202,0.76875957120980087,0.17955589586523737,5.1684532924961717E-2,{"$f":"L157*100/B$1537","v":4770.3180212014131},5.1684532924961717E-2]
["2020-03-07T18:00:00",3,"Lombardia",1661,359,2020,722,2742,734,734,524,154,3420,15778,null,2251,2251,"",null,{"$f":"M158*100/M1559","v":58.133605303416623},503,55,19,808,2222,0.80175438596491233,0.15321637426900586,4.502923976608187E-2,{"$f":"L158*100/B$1537","v":5441.6961130742047},4.502923976608187E-2]
["2020-03-08T18:00:00",3,"Lombardia",2217,399,2616,756,3372,630,630,550,267,4189,18534,null,2251,2251,"",null,{"$f":"M159*100/M1560","v":56.8},-104,26,113,769,2756,0.80496538553354025,0.13129625208880402,6.3738362377655761E-2,{"$f":"L159*100/B$1537","v":9434.6289752650173},6.3738362377655761E-2]
["2020-03-09T18:00:00",3,"Lombardia",2802,440,3242,1248,4490,1118,1118,646,333,5469,20135,null,5469,"x2",5469,null,{"$f":"M160*100/M1561","v":59.627126035761009},488,96,66,1280,1601,0.82099104040958126,0.11812031449990858,6.0888645090510146E-2,{"$f":"L160*100/B$1537","v":11766.784452296819},6.0888645090510146E-2]
["2020-03-10T18:00:00",3,"Lombardia",3319,466,3785,642,4427,-63,-63,896,468,5791,21479,null,5469,5469,"",null,{"$f":"M161*100/M1562","v":57.059808848162383},-1181,250,135,322,1344,0.76446209635641516,0.15472284579519946,8.0815057848385427E-2,{"$f":"L161*100/B$1537","v":16537.102473498231},8.0815057848385427E-2]
["2020-03-11T17:00:00",3,"Lombardia",3852,560,4412,1351,5763,1336,1336,900,617,7280,25629,null,5469,5469,"",null,{"$f":"M162*100/M1563","v":58.417589471994866},1399,4,149,1489,4150,0.79162087912087908,0.12362637362637363,8.4752747252747257E-2,{"$f":"L162*100/B$1537","v":21802.120141342755},8.4752747252747257E-2]
["2020-03-12T17:00:00",3,"Lombardia",4247,605,4852,2044,6896,1133,1133,1085,744,8725,29534,null,5469,5469,"",null,{"$f":"M163*100/M1564","v":57.731754118970422},-203,185,127,1445,3905,0.79037249283667621,0.12435530085959885,8.5272206303724923E-2,{"$f":"L163*100/B$1537","v":26289.752650176677},8.5272206303724923E-2]
["2020-03-13T17:00:00",3,"Lombardia",4435,650,5085,2647,7732,836,836,1198,890,9820,32700,null,5469,5469,"",null,{"$f":"M164*100/M1565","v":55.605889014722536},-297,113,146,1095,3166,0.78737270875763743,0.12199592668024439,9.0631364562118122E-2,{"$f":"L164*100/B$1537","v":31448.763250883392},9.0631364562118122E-2]
["2020-03-14T17:00:00",3,"Lombardia",4898,732,5630,3429,9059,1327,1327,1660,966,11685,37138,null,11685,"x2",11685,null,{"$f":"M165*100/M1566","v":55.229947535094766},491,462,76,1865,4438,0.77526743688489519,0.14206247325631152,8.267008985879333E-2,{"$f":"L165*100/B$1537","v":34134.275618374559},8.267008985879333E-2]
["2020-03-15T17:00:00",3,"Lombardia",5500,767,6267,3776,10043,984,984,2011,1218,13272,40369,null,11685,11685,"",null,{"$f":"M166*100/M1567","v":53.630743120378227},-343,351,252,1587,3231,0.75670584689572029,0.15152200120554551,9.1772151898734181E-2,{"$f":"L166*100/B$1537","v":43038.86925795053},9.1772151898734181E-2]
["2020-03-16T17:00:00",3,"Lombardia",6171,823,6994,3867,10861,818,818,2368,1420,14649,43565,null,11685,11685,"",null,{"$f":"M167*100/M1568","v":52.355253752680483},-166,357,202,1377,3196,0.74141579630008869,0.16164925933510821,9.6934944364803058E-2,{"$f":"L167*100/B$1537","v":50176.678445229678},9.6934944364803058E-2]
["2020-03-17T17:00:00",3,"Lombardia",6953,879,7832,4263,12095,1234,1234,2485,1640,16220,46449,null,11685,11685,"",null,{"$f":"M168*100/M1569","v":51.482257347806765},416,117,220,1571,2884,0.74568434032059183,0.15320591861898891,0.10110974106041924,{"$f":"L168*100/B$1537","v":57950.530035335687},0.10110974106041924]
["2020-03-18T17:00:00",3,"Lombardia",7285,924,8209,4057,12266,171,171,3488,1959,17713,48983,null,11685,11685,"",null,{"$f":"M169*100/M1570","v":49.598185534679246},-1063,1003,319,1493,2534,0.6924857449331,0.19691751820696662,0.11059673685993338,{"$f":"L169*100/B$1537","v":69222.614840989394},0.11059673685993338]
["2020-03-19T17:00:00",3,"Lombardia",7387,1006,8393,5545,13938,1672,1672,3778,2168,19884,52244,null,11685,11685,"",null,{"$f":"M170*100/M1571","v":48.456195930303402},1501,290,209,2171,3261,0.70096560048280021,0.1900020116676725,0.10903238784952726,{"$f":"L170*100/B$1537","v":76607.7738515901},0.10903238784952726]
["2020-03-20T17:00:00",3,"Lombardia",7735,1050,8785,6635,15420,1482,1482,4295,2549,22264,57174,null,11685,11685,"",null,{"$f":"M171*100/M1572","v":47.349056804406544},-190,517,381,2380,4930,0.69259791591807407,0.19291232482932089,0.1144897592526051,{"$f":"L171*100/B$1537","v":90070.671378091865},0.1144897592526051]
["2020-03-21T17:00:00",3,"Lombardia",8258,1093,9351,8019,17370,1950,1950,5050,3095,25515,66730,null,25515,"x2",25515,null,{"$f":"M172*100/M1573","v":47.622158348575908},468,755,546,3251,9556,0.6807760141093474,0.19792279051538311,0.12130119537526945,{"$f":"L172*100/B$1537","v":109363.95759717314},0.12130119537526945]
["2020-03-22T17:00:00",3,"Lombardia",9439,1142,10581,7304,17885,515,515,5865,3456,27206,70598,null,25515,25515,"",null,{"$f":"M173*100/M1574","v":46.004261219520444},-1435,815,361,1691,3868,0.65739175181945164,0.2155774461515842,0.12703080202896419,{"$f":"L173*100/B$1537","v":122120.14134275618},0.12703080202896419]
["2020-03-23T17:00:00",3,"Lombardia",9266,1183,10449,8461,18910,1025,1025,6075,3776,28761,73242,null,25515,25515,"",null,{"$f":"M174*100/M1575","v":44.99037965179032},510,210,320,1555,2644,0.65748756997322766,0.21122353186606863,0.13128889816070374,{"$f":"L174*100/B$1537","v":133427.56183745584},0.13128889816070374]
["2020-03-24T17:00:00",3,"Lombardia",9711,1194,10905,8963,19868,958,958,6657,4178,30703,76695,null,25515,25515,"",null,{"$f":"M175*100/M1576","v":44.383890366601136},-67,582,402,1942,3453,0.64710288896850465,0.21681920333517898,0.13607790769631631,{"$f":"L175*100/B$1537","v":147632.50883392227},0.13607790769631631]
["2020-03-25T17:00:00",3,"Lombardia",10026,1236,11262,9329,20591,723,723,7281,4474,32346,81666,null,25515,25515,"",null,{"$f":"M176*100/M1577","v":43.483988922646738},-235,624,296,1643,4971,0.63658566747047551,0.22509738452977185,0.13831694799975267,{"$f":"L176*100/B$1537","v":158091.87279151942},0.13831694799975267]
["2020-03-26T17:00:00",3,"Lombardia",10681,1263,11944,10245,22189,1598,1598,7839,4861,34889,87713,null,25515,25515,"",null,{"$f":"M177*100/M1578","v":43.319385639255515},875,558,387,2543,6047,0.63598842041904324,0.22468399782166298,0.13932758175929377,{"$f":"L177*100/B$1537","v":171766.78445229682},0.13932758175929377]
["2020-03-27T17:00:00",3,"Lombardia",11137,1292,12429,11466,23895,1706,2409,8001,5402,37298,95860,null,25515,25515,"",null,{"$f":"M178*100/M1579","v":43.12007214039631},811,162,541,2409,8147,{"$f":"IF(M178=0,0,H178/M178)","v":0.64065097324253306},{"$f":"IF(M178=0,0,K178/M178)","v":0.21451552362056947},{"$f":"IF(M178=0,0,L178/M178)","v":0.14483350313689741},{"$f":"L178*100/B$1537","v":190883.3922261484},0.14483350313689741]
["2020-03-28T17:00:00",3,"Lombardia",11152,1319,12471,12038,24509,614,2117,8962,5944,39415,102503,null,{"$f":"IF(Q179=\"x2\",M179,P178)","v":25515},{"$f":"IF(M179>P178*2,\"x2\",P178)","v":25515},{"$f":"IF(Q179=\"x2\",M179,\"\")","v":""},null,{"$f":"M179*100/M1580","v":42.623713123972664},{"$f":"IF(J179-J178=0,\"\",J179-J178)","v":-292},{"$f":"IF(K179-K178=0,\"\",K179-K178)","v":961},{"$f":"IF(L179-L178=0,\"\",L179-L178)","v":542},{"$f":"IF(M179-M178=0,\"\",M179-M178)","v":2117},{"$f":"IF(N179-N178=0,\"\",N179-N178)","v":6643},0.62181910440187749,0.22737536470886718,0.15080553088925536,{"$f":"L179*100/B$1537","v":210035.33568904593},0.15080553088925536]
["2020-03-29T17:00:00",3,"Lombardia",11613,1328,12941,12451,25392,883,1592,9255,6360,41007,107398,null,25515,25515,"",null,{"$f":"M180*100/M1581","v":41.97709056290882},-525,293,416,1592,4895,0.61921135415904605,0.22569317433608896,0.15509547150486502,{"$f":"L180*100/B$1537","v":224734.98233215546},0.15509547150486502]
["2020-03-30T17:00:00",3,"Lombardia",11815,1330,13145,11861,25006,-386,1154,10337,6818,42161,111057,null,25515,25515,"",null,{"$f":"M181*100/M1582","v":41.440352273955909},-438,1082,458,1154,3659,0.59310737411351722,0.24517919404188704,0.16171343184459572,{"$f":"L181*100/B$1537","v":240918.72791519435},0.16171343184459572]
["2020-03-31T17:00:00",3,"Lombardia",11883,1324,13207,11917,25124,118,1047,10885,7199,43208,114640,null,25515,25515,"",null,{"$f":"M182*100/M1583","v":40.842407743496672},-107,548,381,1047,3583,0.58146639511201625,0.25192094056656172,0.16661266432142197,{"$f":"L182*100/B$1537","v":254381.62544169612},0.16661266432142197]
["2020-04-01T17:00:00",3,"Lombardia",11927,1342,13269,12496,25765,641,1565,11415,7593,44773,121449,null,25515,25515,"",null,{"$f":"M183*100/M1584","v":40.491435599688899},518,530,394,1565,6809,0.57545842360351107,0.25495276170906572,0.16958881468742323,{"$f":"L183*100/B$1537","v":268303.88692579506},0.16958881468742323]
["2020-04-02T17:00:00",3,"Lombardia",11762,1351,13113,12763,25876,111,1292,12229,7960,46065,128286,null,25515,25515,"",null,{"$f":"M184*100/M1585","v":39.972405893684595},-273,814,367,1292,6837,0.56172799305329424,0.26547270161727993,0.17279930532942581,{"$f":"L184*100/B$1537","v":281272.08480565372},0.17279930532942581]
["2020-04-03T17:00:00",3,"Lombardia",11802,1381,13183,13006,26189,313,1455,13020,8311,47520,135051,null,25515,25515,"",null,{"$f":"M185*100/M1586","v":39.657172423577322},163,791,351,1455,6765,0.55111531986531992,0.27398989898989901,0.17489478114478116,{"$f":"L185*100/B$1537","v":293674.9116607774},0.17489478114478116]
["2020-04-04T17:00:00",3,"Lombardia",12002,1326,13328,13892,27220,1031,1598,13242,8656,49118,141877,null,25515,25515,"",null,{"$f":"M186*100/M1587","v":39.410424289107134},143,222,345,1598,6826,0.55417565861802187,0.26959566757604136,0.17622867380593674,{"$f":"L186*100/B$1537","v":305865.72438162542},0.17622867380593674]
["2020-04-05T17:00:00",3,"Lombardia",12009,1317,13326,14798,28124,904,1337,13426,8905,50455,149984,null,25515,25515,"",null,{"$f":"M187*100/M1588","v":39.128175698731269},-261,184,249,1337,8107,0.55740759092260428,0.26609850361708454,0.17649390546031116,{"$f":"L187*100/B$1537","v":314664.31095406361},0.17649390546031116]
["2020-04-06T17:00:00",3,"Lombardia",11914,1343,13257,15212,28469,345,1079,13863,9202,51534,154989,null,51534,"x2",51534,null,{"$f":"M188*100/M1589","v":38.879793582653697},-258,437,297,1079,5005,0.55243140450964412,0.26900686925136802,0.17856172623898786,{"$f":"L188*100/B$1537","v":325159.01060070668},0.17856172623898786]
["2020-04-07T17:00:00",3,"Lombardia",11833,1305,13138,15205,28343,-126,791,14498,9484,52325,159331,null,51534,51534,"",null,{"$f":"M189*100/M1590","v":38.591742510288675},-288,635,282,791,4342,0.54167224080267562,0.27707596751075014,0.18125179168657429,{"$f":"L189*100/B$1537","v":335123.67491166078},0.18125179168657429]
["2020-04-08T17:00:00",3,"Lombardia",11719,1257,12976,15569,28545,202,1089,15147,9722,53414,167557,null,51534,51534,"",null,{"$f":"M190*100/M1591","v":38.31102695413923},298,649,238,1089,8226,0.53441045418804056,0.28357733927434753,0.18201220653761185,{"$f":"L190*100/B$1537","v":343533.56890459365},0.18201220653761185]
["2020-04-09T17:00:00",3,"Lombardia",11796,1236,13032,16042,29074,529,1388,15706,10022,54802,176953,null,51534,51534,"",null,{"$f":"M191*100/M1592","v":38.156044170275578},299,559,300,1388,9396,0.53052808291668185,0.28659537973066679,0.18287653735265136,{"$f":"L191*100/B$1537","v":354134.27561837452},0.18287653735265136]
["2020-04-10T17:00:00",3,"Lombardia",11877,1202,13079,16451,29530,456,1246,16280,10238,56048,186325,null,51534,51534,"",null,{"$f":"M192*100/M1593","v":37.978817837467901},-142,574,216,1246,9372,0.52686982586354558,0.29046531544390525,0.18266485869254925,{"$f":"L192*100/B$1537","v":361766.78445229679},0.18266485869254925]
["2020-04-11T17:00:00",3,"Lombardia",12026,1174,13200,17058,30258,728,1544,16823,10511,57592,196302,null,51534,51534,"",null,{"$f":"M193*100/M1594","v":37.822040966434841},298,543,273,1544,9977,0.52538547020419502,0.29210654257535767,0.18250798722044728,{"$f":"L193*100/B$1537","v":371413.42756183742},0.18250798722044728]
["2020-04-12T17:00:00",3,"Lombardia",11969,1176,13145,18120,31265,1007,1460,17166,10621,59052,205832,null,51534,51534,"",null,{"$f":"M194*100/M1595","v":37.765967652193936},-84,343,110,1460,9530,0.52944862155388472,0.29069294858768541,0.17985842985842987,{"$f":"L194*100/B$1537","v":375300.35335689044},0.17985842985842987]
["2020-04-13T17:00:00",3,"Lombardia",12028,1143,13171,18764,31935,670,1262,17478,10901,60314,211092,null,51534,51534,"",null,{"$f":"M195*100/M1596","v":37.810627147120037},-198,312,280,1262,5260,0.52947905958815533,0.28978346652518489,0.18073747388665981,{"$f":"L195*100/B$1537","v":385194.34628975263},0.18073747388665981]
["2020-04-14T17:00:00",3,"Lombardia",12077,1122,13199,19164,32363,428,1012,17821,11142,61326,214870,null,51534,51534,"",null,{"$f":"M196*100/M1597","v":37.74186401457338},-250,343,241,1012,3778,0.5277207057365555,0.29059452760656168,0.18168476665688288,{"$f":"L196*100/B$1537","v":393710.2473498233},0.18168476665688288]
["2020-04-15T17:00:00",3,"Lombardia",12043,1074,13117,19804,32921,558,827,17855,11377,62153,221968,null,51534,51534,"",null,{"$f":"M197*100/M1598","v":37.633132511882778},-185,34,235,827,7098,0.52967676540150921,0.28727495052531654,0.18304828407317425,{"$f":"L197*100/B$1537","v":402014.13427561836},0.18304828407317425]
["2020-04-16T17:00:00",3,"Lombardia",11356,1032,12388,20702,33090,169,941,18396,11608,63094,232674,null,51534,51534,"",null,{"$f":"M198*100/M1599","v":37.346766030744462},114,541,231,941,10706,0.52445557422258848,0.29156496655783432,0.18397945921957715,{"$f":"L198*100/B$1537","v":410176.67844522966},0.18397945921957715]
["2020-04-17T17:00:00",3,"Lombardia",10627,971,11598,21836,33434,344,1041,18850,11851,64135,243513,null,{"$f":"IF(Q199=\"x2\",M199,P198)","v":51534},{"$f":"IF(M199>P198*2,\"x2\",P198)","v":51534},{"$f":"IF(Q199=\"x2\",M199,\"\")","v":""},null,{"$f":"M199*100/M1600","v":37.193940870130021},{"$f":"IF(J199-J198=0,\"\",J199-J198)","v":100},{"$f":"IF(K199-K198=0,\"\",K199-K198)","v":454},{"$f":"IF(L199-L198=0,\"\",L199-L198)","v":243},{"$f":"IF(M199-M198=0,\"\",M199-M198)","v":1041},{"$f":"IF(N199-N198=0,\"\",N199-N198)","v":10839},{"$f":"IF(M199=0,0,H199/M199)","v":0.52130661885086149},{"$f":"IF(M199=0,0,K199/M199)","v":0.29391128089186869},{"$f":"IF(M199=0,0,L199/M199)","v":0.18478210025726982},{"$f":"L199*100/B$1537","v":418763.25088339223},0.18478210025726982]
["2020-04-18T17:00:00",3,"Lombardia",10042,947,10989,23206,34195,761,1246,19136,12050,65381,255331,null,{"$f":"IF(Q200=\"x2\",M200,P199)","v":51534},{"$f":"IF(M200>P199*2,\"x2\",P199)","v":51534},{"$f":"IF(Q200=\"x2\",M200,\"\")","v":""},null,{"$f":"M200*100/M1601","v":37.164132442802334},{"$f":"IF(J200-J199=0,\"\",J200-J199)","v":205},{"$f":"IF(K200-K199=0,\"\",K200-K199)","v":286},{"$f":"IF(L200-L199=0,\"\",L200-L199)","v":199},{"$f":"IF(M200-M199=0,\"\",M200-M199)","v":1246},{"$f":"IF(N200-N199=0,\"\",N200-N199)","v":11818},{"$f":"IF(M200=0,0,H200/M200)","v":0.5230112723880026},{"$f":"IF(M200=0,0,K200/M200)","v":0.29268441902081643},{"$f":"IF(M200=0,0,L200/M200)","v":0.18430430859118094},{"$f":"L200*100/B$1537","v":425795.05300353357},0.18430430859118094]
["2020-04-19T17:00:00",3,"Lombardia",10342,922,11264,23233,34497,302,855,19526,12213,66236,264155,183757,{"$f":"IF(Q201=\"x2\",M201,P200)","v":51534},{"$f":"IF(M201>P200*2,\"x2\",P200)","v":51534},{"$f":"IF(Q201=\"x2\",M201,\"\")","v":""},null,{"$f":"M201*100/M1602","v":37.009141094696375},{"$f":"IF(J201-J200=0,\"\",J201-J200)","v":-391},{"$f":"IF(K201-K200=0,\"\",K201-K200)","v":390},{"$f":"IF(L201-L200=0,\"\",L201-L200)","v":163},{"$f":"IF(M201-M200=0,\"\",M201-M200)","v":855},{"$f":"IF(N201-N200=0,\"\",N201-N200)","v":8824},{"$f":"IF(M201=0,0,H201/M201)","v":0.52081949393079296},{"$f":"IF(M201=0,0,K201/M201)","v":0.29479437164079958},{"$f":"IF(M201=0,0,L201/M201)","v":0.18438613442840751},{"$f":"L201*100/B$1537","v":431554.77031802118},0.18438613442840751]
["2020-04-20T17:00:00",3,"Lombardia",10138,901,11039,23548,34587,90,735,20008,12376,66971,270486,173333,{"$f":"IF(Q202=\"x2\",M202,P201)","v":51534},{"$f":"IF(M202>P201*2,\"x2\",P201)","v":51534},{"$f":"IF(Q202=\"x2\",M202,\"\")","v":""},null,{"$f":"M202*100/M1603","v":36.954002692740637},{"$f":"IF(J202-J201=0,\"\",J202-J201)","v":-120},{"$f":"IF(K202-K201=0,\"\",K202-K201)","v":482},{"$f":"IF(L202-L201=0,\"\",L202-L201)","v":163},{"$f":"IF(M202-M201=0,\"\",M202-M201)","v":735},{"$f":"IF(N202-N201=0,\"\",N202-N201)","v":6331},{"$f":"IF(M202=0,0,H202/M202)","v":0.51644741753893475},{"$f":"IF(M202=0,0,K202/M202)","v":0.29875617804721449},{"$f":"IF(M202=0,0,L202/M202)","v":0.18479640441385078},{"$f":"L202*100/B$1537","v":437314.4876325088},0.18479640441385078]
["2020-04-21T17:00:00",3,"Lombardia",9805,851,10656,23322,33978,-609,960,21374,12579,67931,277197,173333,51534,{"$f":"IF(M203>P202*2,\"x2\",P202)","v":51534},{"$f":"IF(Q203=\"x2\",M203,\"\")","v":""},null,{"$f":"M203*100/M1604","v":36.927651570747514},{"$f":"IF(J203-J202=0,\"\",J203-J202)","v":225},{"$f":"IF(K203-K202=0,\"\",K203-K202)","v":1366},{"$f":"IF(L203-L202=0,\"\",L203-L202)","v":203},{"$f":"IF(M203-M202=0,\"\",M203-M202)","v":960},{"$f":"IF(N203-N202=0,\"\",N203-N202)","v":6711},{"$f":"IF(M203=0,0,H203/M203)","v":0.50018401024569048},{"$f":"IF(M203=0,0,K203/M203)","v":0.31464279931106565},{"$f":"IF(M203=0,0,L203/M203)","v":0.18517319044324387},{"$f":"L203*100/B$1537","v":444487.63250883389},0.18517319044324387]
["2020-04-22T17:00:00",3,"Lombardia",9692,817,10509,23733,34242,264,1161,22110,12740,69092,290699,184323,51534,{"$f":"IF(M204>P203*2,\"x2\",P203)","v":51534},{"$f":"IF(Q204=\"x2\",M204,\"\")","v":""},null,{"$f":"M204*100/M1605","v":36.883097471266822},{"$f":"IF(J204-J203=0,\"\",J204-J203)","v":201},{"$f":"IF(K204-K203=0,\"\",K204-K203)","v":736},{"$f":"IF(L204-L203=0,\"\",L204-L203)","v":161},{"$f":"IF(M204-M203=0,\"\",M204-M203)","v":1161},{"$f":"IF(N204-N203=0,\"\",N204-N203)","v":13502},{"$f":"IF(M204=0,0,H204/M204)","v":0.49560006947258728},{"$f":"IF(M204=0,0,K204/M204)","v":0.32000810513518207},{"$f":"IF(M204=0,0,L204/M204)","v":0.18439182539223065},{"$f":"L204*100/B$1537","v":450176.67844522966},0.18439182539223065]
["2020-04-23T17:00:00",3,"Lombardia",9192,790,9982,23891,33873,-369,1073,23352,12940,70165,302715,190451,{"$f":"IF(Q205=\"x2\",M205,P204)","v":51534},{"$f":"IF(M205>P204*2,\"x2\",P204)","v":51534},{"$f":"IF(Q205=\"x2\",M205,\"\")","v":""},null,{"$f":"M205*100/M1606","v":36.934195912050662},{"$f":"IF(J205-J204=0,\"\",J205-J204)","v":-88},{"$f":"IF(K205-K204=0,\"\",K205-K204)","v":1242},{"$f":"IF(L205-L204=0,\"\",L205-L204)","v":200},{"$f":"IF(M205-M204=0,\"\",M205-M204)","v":1073},{"$f":"IF(N205-N204=0,\"\",N205-N204)","v":12016},{"$f":"IF(M205=0,0,H205/M205)","v":0.48276206085655243},{"$f":"IF(M205=0,0,K205/M205)","v":0.33281550630656309},{"$f":"IF(M205=0,0,L205/M205)","v":0.18442243283688448},{"$f":"L205*100/B$1537","v":457243.81625441695},{"$f":"IF(M205=0,0,L205/M205)","v":0.18442243283688448}]
["2020-04-24T17:00:00",3,"Lombardia",8791,756,9547,24821,34368,495,1091,23782,13106,71256,314298,196406,{"$f":"IF(Q206=\"x2\",M206,P205)","v":51534},{"$f":"IF(M206>P205*2,\"x2\",P205)","v":51534},{"$f":"IF(Q206=\"x2\",M206,\"\")","v":""},null,{"$f":"M206*100/M1607","v":36.921355068033201},{"$f":"IF(J206-J205=0,\"\",J206-J205)","v":18},{"$f":"IF(K206-K205=0,\"\",K206-K205)","v":430},{"$f":"IF(L206-L205=0,\"\",L206-L205)","v":166},{"$f":"IF(M206-M205=0,\"\",M206-M205)","v":1091},{"$f":"IF(N206-N205=0,\"\",N206-N205)","v":11583},{"$f":"IF(M206=0,0,H206/M206)","v":0.48231727854496464},{"$f":"IF(M206=0,0,K206/M206)","v":0.33375435051083419},{"$f":"IF(M206=0,0,L206/M206)","v":0.1839283709442012},{"$f":"L206*100/B$1537","v":463109.54063604237},{"$f":"IF(M206=0,0,L206/M206)","v":0.1839283709442012}]
["2020-04-25T17:00:00",3,"Lombardia",8489,724,9213,25260,34473,105,713,24227,13269,71969,326940,202827,{"$f":"IF(Q207=\"x2\",M207,P206)","v":51534},{"$f":"IF(M207>P206*2,\"x2\",P206)","v":51534},{"$f":"IF(Q207=\"x2\",M207,\"\")","v":""},null,{"$f":"M207*100/M1608","v":36.840865928508173},{"$f":"IF(J207-J206=0,\"\",J207-J206)","v":-378},{"$f":"IF(K207-K206=0,\"\",K207-K206)","v":445},{"$f":"IF(L207-L206=0,\"\",L207-L206)","v":163},{"$f":"IF(M207-M206=0,\"\",M207-M206)","v":713},{"$f":"IF(N207-N206=0,\"\",N207-N206)","v":12642},{"$f":"IF(M207=0,0,H207/M207)","v":0.47899790187441815},{"$f":"IF(M207=0,0,K207/M207)","v":0.33663104947963707},{"$f":"IF(M207=0,0,L207/M207)","v":0.18437104864594478},{"$f":"L207*100/B$1537","v":468869.25795053004},{"$f":"IF(M207=0,0,L207/M207)","v":0.18437104864594478}]
["2020-04-26T17:00:00",3,"Lombardia",8481,706,9187,25979,35166,693,920,24398,13325,72889,337797,208471,{"$f":"IF(Q208=\"x2\",M208,P207)","v":51534},{"$f":"IF(M208>P207*2,\"x2\",P207)","v":51534},{"$f":"IF(Q208=\"x2\",M208,\"\")","v":""},null,{"$f":"M208*100/M1609","v":36.873150373087135},{"$f":"IF(J208-J207=0,\"\",J208-J207)","v":207},{"$f":"IF(K208-K207=0,\"\",K208-K207)","v":171},{"$f":"IF(L208-L207=0,\"\",L208-L207)","v":56},{"$f":"IF(M208-M207=0,\"\",M208-M207)","v":920},{"$f":"IF(N208-N207=0,\"\",N208-N207)","v":10857},{"$f":"IF(M208=0,0,H208/M208)","v":0.48245963039690487},{"$f":"IF(M208=0,0,K208/M208)","v":0.33472814828026176},{"$f":"IF(M208=0,0,L208/M208)","v":0.18281222132283334},{"$f":"L208*100/B$1537","v":470848.05653710244},{"$f":"IF(M208=0,0,L208/M208)","v":0.18281222132283334}]
["2020-04-27T17:00:00",3,"Lombardia",7525,680,8205,27236,35441,275,590,24589,13449,73479,342850,211523,{"$f":"IF(Q209=\"x2\",M209,P208)","v":51534},{"$f":"IF(M209>P208*2,\"x2\",P208)","v":51534},{"$f":"IF(Q209=\"x2\",M209,\"\")","v":""},null,{"$f":"M209*100/M1610","v":36.847463066785679},{"$f":"IF(J209-J208=0,\"\",J209-J208)","v":-330},{"$f":"IF(K209-K208=0,\"\",K209-K208)","v":191},{"$f":"IF(L209-L208=0,\"\",L209-L208)","v":124},{"$f":"IF(M209-M208=0,\"\",M209-M208)","v":590},{"$f":"IF(N209-N208=0,\"\",N209-N208)","v":5053},{"$f":"IF(M209=0,0,H209/M209)","v":0.48232828427169666},{"$f":"IF(M209=0,0,K209/M209)","v":0.33463982906680823},{"$f":"IF(M209=0,0,L209/M209)","v":0.18303188666149511},{"$f":"L209*100/B$1537","v":475229.68197879859},{"$f":"IF(M209=0,0,L209/M209)","v":0.18303188666149511}]
[{"$f":"A209 + 1","v":"2020-04-28T17:00:00"},null,null,null,null,null,null,null,null,null,null,null,null,null,null,null,"Media x2",{"$f":"COUNT(N146:N209) / COUNT(R146:R209)","v":8}]
[{"$f":"A210+1","v":"2020-04-29T17:00:00"}]
[{"$f":"A211+1","v":"2020-04-30T17:00:00"}]
[null,null,null,null,{"$f":"E209/$M209","v":9.2543447787803313E-3},null,null,{"$f":"H209/$M209","v":0.48232828427169666},null,null,{"$f":"K209/$M209","v":0.33463982906680823},{"$f":"L209/$M209","v":0.18303188666149511},null,{"$f":"N209/$M209","v":4.6659589814777007}]
[]
[]
[]
["Data","Codice","Regione","Ricoverati","Terap. Intens.","Ospedalizzati","Quarantena","Positivi","+ Positivi","Nuovi","Guariti","Deceduti","Totale","Tamponi","Testati",null,null,"x 2",null,"% su Tot.","+ Nuovi","+ Guariti","+ Deceduti","+ Totali","+ Tamponi","% Positivi","% Guariti","% Deceduti","P. Stimati","% Morti"]
["2020-02-24T18:00:00",4,"P.A. Bolzano",0,0,0,0,0,0,0,0,0,0,1,null,{"$f":"M218","v":0},null,{"$f":"M218","v":0},null,{"$f":"M218*100/M1547","v":0},null,null,null,null,null,{"$f":"IF(M218=0,0,H218/M218)","v":0},{"$f":"IF(M218=0,0,K218/M218)","v":0},{"$f":"IF(M218=0,0,L218/M218)","v":0},{"$f":"L218*100/B$1537","v":0},{"$f":"IF(M218=0,0,L218/M218)","v":0}]
["2020-02-25T18:00:00",4,"P.A. Bolzano",1,0,1,0,1,1,1,0,0,1,1,null,{"$f":"IF(Q219=\"x2\",M219,P218)","v":1},{"$f":"IF(M219>P218*2,\"x2\",P218)","v":"x2"},{"$f":"IF(Q219=\"x2\",M219,\"\")","v":1},null,{"$f":"M219*100/M1548","v":0.3105590062111801},{"$f":"IF(J219-J218=0,\"\",J219-J218)","v":1},{"$f":"IF(K219-K218=0,\"\",K219-K218)","v":""},{"$f":"IF(L219-L218=0,\"\",L219-L218)","v":""},{"$f":"IF(M219-M218=0,\"\",M219-M218)","v":1},{"$f":"IF(N219-N218=0,\"\",N219-N218)","v":""},1,0,0,{"$f":"L219*100/B$1537","v":0},0]
["2020-02-26T18:00:00",4,"P.A. Bolzano",1,0,1,0,1,0,0,0,0,1,1,null,1,1,"",null,{"$f":"M220*100/M1549","v":0.25},-1,"","","","",1,0,0,{"$f":"L220*100/B$1537","v":0},0]
["2020-02-27T18:00:00",4,"P.A. Bolzano",1,0,1,0,1,0,0,0,0,1,2,null,1,1,"",null,{"$f":"M221*100/M1550","v":0.15384615384615385},"","","","",1,1,0,0,{"$f":"L221*100/B$1537","v":0},0]
["2020-02-28T18:00:00",4,"P.A. Bolzano",1,0,1,0,1,0,0,0,0,1,2,null,1,1,"",null,{"$f":"M222*100/M1551","v":0.11261261261261261},"","","","","",1,0,0,{"$f":"L222*100/B$1537","v":0},0]
["2020-02-29T17:00:00",4,"P.A. Bolzano",1,0,1,0,1,0,0,0,0,1,16,null,1,1,"",null,{"$f":"M223*100/M1552","v":8.8652482269503549E-2},"","","","",14,1,0,0,{"$f":"L223*100/B$1537","v":0},0]
["2020-03-01T17:00:00",4,"P.A. Bolzano",1,0,1,0,1,0,0,0,0,1,20,null,1,1,"",null,{"$f":"M224*100/M1553","v":5.9031877213695398E-2},"","","","",4,1,0,0,{"$f":"L224*100/B$1537","v":0},0]
["2020-03-02T18:00:00",4,"P.A. Bolzano",1,0,1,0,1,0,0,0,0,1,20,null,1,1,"",null,{"$f":"M225*100/M1554","v":4.9115913555992138E-2},"","","","","",1,0,0,{"$f":"L225*100/B$1537","v":0},0]
["2020-03-03T18:00:00",4,"P.A. Bolzano",1,0,1,0,1,0,0,0,0,1,20,null,1,1,"",null,{"$f":"M226*100/M1555","v":3.9968025579536368E-2},"","","","","",1,0,0,{"$f":"L226*100/B$1537","v":0},0]
["2020-03-04T17:00:00",4,"P.A. Bolzano",1,0,1,0,1,0,0,0,0,1,20,null,1,1,"",null,{"$f":"M227*100/M1556","v":3.2372936225315639E-2},"","","","","",1,0,0,{"$f":"L227*100/B$1537","v":0},0]
["2020-03-05T17:00:00",4,"P.A. Bolzano",1,0,1,0,1,0,0,0,0,1,20,null,1,1,"",null,{"$f":"M228*100/M1557","v":2.5920165889061691E-2},"","","","","",1,0,0,{"$f":"L228*100/B$1537","v":0},0]
["2020-03-06T17:00:00",4,"P.A. Bolzano",4,0,4,0,4,3,3,0,0,4,36,null,4,"x2",4,null,{"$f":"M229*100/M1558","v":8.6281276962899056E-2},3,"","",3,16,1,0,0,{"$f":"L229*100/B$1537","v":0},0]
["2020-03-07T18:00:00",4,"P.A. Bolzano",8,0,8,1,9,5,5,0,0,9,36,null,9,"x2",9,null,{"$f":"M230*100/M1559","v":0.15298317185109639},2,"","",5,"",1,0,0,{"$f":"L230*100/B$1537","v":0},0]
["2020-03-08T18:00:00",4,"P.A. Bolzano",8,0,8,1,9,0,0,0,0,9,36,null,9,9,"",null,{"$f":"M231*100/M1560","v":0.12203389830508475},-5,"","","","",1,0,0,{"$f":"L231*100/B$1537","v":0},0]
["2020-03-09T18:00:00",4,"P.A. Bolzano",8,0,8,1,9,0,0,0,0,9,36,null,9,9,"",null,{"$f":"M232*100/M1561","v":9.8124727431312689E-2},"","","","","",1,0,0,{"$f":"L232*100/B$1537","v":0},0]
["2020-03-10T18:00:00",4,"P.A. Bolzano",17,1,18,20,38,29,29,0,0,38,36,null,38,"x2",38,null,{"$f":"M233*100/M1562","v":0.37442112523401322},29,"","",29,"",1,0,0,{"$f":"L233*100/B$1537","v":0},0]
["2020-03-11T17:00:00",4,"P.A. Bolzano",8,4,12,63,75,37,37,0,0,75,75,null,38,38,"",null,{"$f":"M234*100/M1563","v":0.60182956186807901},8,"","",37,39,1,0,0,{"$f":"L234*100/B$1537","v":0},0]
["2020-03-12T17:00:00",4,"P.A. Bolzano",21,4,25,78,103,28,28,0,1,104,607,null,104,"x2",104,null,{"$f":"M235*100/M1564","v":0.6881492754582148},-9,"",1,29,532,0.99038461538461542,0,9.6153846153846159E-3,{"$f":"L235*100/B$1537","v":35.335689045936398},9.6153846153846159E-3]
["2020-03-13T17:00:00",4,"P.A. Bolzano",20,5,25,98,123,20,20,0,2,125,811,null,104,104,"",null,{"$f":"M236*100/M1565","v":0.70781426953567383},-8,"",1,21,204,0.98399999999999999,0,1.6E-2,{"$f":"L236*100/B$1537","v":70.671378091872796},1.6E-2]
["2020-03-14T17:00:00",4,"P.A. Bolzano",26,7,33,137,170,47,47,0,3,173,1135,null,104,104,"",null,{"$f":"M237*100/M1566","v":0.81769627073781725},27,"",1,48,324,0.98265895953757221,0,1.7341040462427744E-2,{"$f":"L237*100/B$1537","v":106.00706713780919},1.7341040462427744E-2]
["2020-03-15T17:00:00",4,"P.A. Bolzano",50,4,54,145,199,29,29,0,5,204,1497,null,104,104,"",null,{"$f":"M238*100/M1567","v":0.82434234452660926},-18,"",2,31,362,0.97549019607843135,0,2.4509803921568627E-2,{"$f":"L238*100/B$1537","v":176.67844522968198},2.4509803921568627E-2]
["2020-03-16T17:00:00",4,"P.A. Bolzano",53,11,64,171,235,36,36,0,6,241,1740,null,241,"x2",241,null,{"$f":"M239*100/M1568","v":0.8613295210864903},7,"",1,37,243,0.975103734439834,0,2.4896265560165973E-2,{"$f":"L239*100/B$1537","v":212.01413427561837},2.4896265560165973E-2]
["2020-03-17T17:00:00",4,"P.A. Bolzano",71,11,82,200,282,47,47,1,8,291,2149,null,241,241,"",null,{"$f":"M240*100/M1569","v":0.92363359360121877},11,1,2,50,409,0.96907216494845361,3.4364261168384879E-3,2.7491408934707903E-2,{"$f":"L240*100/B$1537","v":282.68551236749119},2.7491408934707903E-2]
["2020-03-18T17:00:00",4,"P.A. Bolzano",79,18,97,269,366,84,84,1,9,376,2844,null,241,241,"",null,{"$f":"M241*100/M1570","v":1.0528379021644778},37,"",1,85,695,0.97340425531914898,2.6595744680851063E-3,2.3936170212765957E-2,{"$f":"L241*100/B$1537","v":318.02120141342755},2.3936170212765957E-2]
["2020-03-19T17:00:00",4,"P.A. Bolzano",87,18,105,316,421,55,55,1,14,436,3568,null,241,241,"",null,{"$f":"M242*100/M1571","v":1.0625076154502253},-29,"",5,60,724,0.9655963302752294,2.2935779816513763E-3,3.2110091743119268E-2,{"$f":"L242*100/B$1537","v":494.69964664310953},3.2110091743119268E-2]
["2020-03-20T17:00:00",4,"P.A. Bolzano",99,24,123,407,530,109,109,1,17,548,4433,null,548,"x2",548,null,{"$f":"M243*100/M1572","v":1.1654367197635098},54,"",3,112,865,0.96715328467153283,1.8248175182481751E-3,3.1021897810218978E-2,{"$f":"L243*100/B$1537","v":600.70671378091868},3.1021897810218978E-2]
["2020-03-21T17:00:00",4,"P.A. Bolzano",127,30,157,443,600,70,70,1,20,621,5179,null,548,548,"",null,{"$f":"M244*100/M1573","v":1.1590578222404719},-39,"",3,73,746,0.96618357487922701,1.6103059581320451E-3,3.2206119162640899E-2,{"$f":"L244*100/B$1537","v":706.71378091872793},3.2206119162640899E-2]
["2020-03-22T17:00:00",4,"P.A. Bolzano",146,32,178,470,648,48,48,7,23,678,5718,null,548,548,"",null,{"$f":"M245*100/M1574","v":1.1464709662146166},-22,6,3,57,539,0.95575221238938057,1.0324483775811209E-2,3.3923303834808259E-2,{"$f":"L245*100/B$1537","v":812.72084805653708},3.3923303834808259E-2]
["2020-03-23T17:00:00",4,"P.A. Bolzano",145,33,178,510,688,40,40,7,29,724,6084,null,548,548,"",null,{"$f":"M246*100/M1575","v":1.132541805496895},-8,"",6,46,366,0.95027624309392267,9.6685082872928173E-3,4.0055248618784532E-2,{"$f":"L246*100/B$1537","v":1024.7349823321554},4.0055248618784532E-2]
["2020-03-24T17:00:00",4,"P.A. Bolzano",166,38,204,495,699,11,11,44,38,781,6509,null,548,548,"",null,{"$f":"M247*100/M1576","v":1.1290042789406731},-29,37,9,57,425,0.89500640204865556,5.6338028169014086E-2,4.8655569782330349E-2,{"$f":"L247*100/B$1537","v":1342.756183745583},4.8655569782330349E-2]
["2020-03-25T17:00:00",4,"P.A. Bolzano",190,40,230,518,748,49,49,67,43,858,6649,null,548,548,"",null,{"$f":"M248*100/M1577","v":1.1534428521495981},38,23,5,77,140,0.87179487179487181,7.8088578088578095E-2,5.011655011655012E-2,{"$f":"L248*100/B$1537","v":1519.434628975265},5.011655011655012E-2]
["2020-03-26T17:00:00",4,"P.A. Bolzano",223,43,266,525,791,43,43,67,48,906,7744,null,548,548,"",null,{"$f":"M249*100/M1578","v":1.124920845801413},-6,"",5,48,1095,0.8730684326710817,7.3951434878587199E-2,5.2980132450331126E-2,{"$f":"L249*100/B$1537","v":1696.113074204947},5.2980132450331126E-2]
["2020-03-27T17:00:00",4,"P.A. Bolzano",249,45,294,539,833,42,97,110,60,1003,8520,null,548,548,"",null,{"$f":"M250*100/M1579","v":1.1595643829915143},54,43,12,97,776,{"$f":"IF(M250=0,0,H250/M250)","v":0.83050847457627119},{"$f":"IF(M250=0,0,K250/M250)","v":0.10967098703888335},{"$f":"IF(M250=0,0,L250/M250)","v":5.9820538384845461E-2},{"$f":"L250*100/B$1537","v":2120.1413427561838},5.9820538384845461E-2]
["2020-03-28T17:00:00",4,"P.A. Bolzano",225,51,276,653,929,96,106,116,64,1109,9168,null,{"$f":"IF(Q251=\"x2\",M251,P250)","v":1109},{"$f":"IF(M251>P250*2,\"x2\",P250)","v":"x2"},{"$f":"IF(Q251=\"x2\",M251,\"\")","v":1109},null,{"$f":"M251*100/M1580","v":1.1992819448049139},{"$f":"IF(J251-J250=0,\"\",J251-J250)","v":9},{"$f":"IF(K251-K250=0,\"\",K251-K250)","v":6},{"$f":"IF(L251-L250=0,\"\",L251-L250)","v":4},{"$f":"IF(M251-M250=0,\"\",M251-M250)","v":106},{"$f":"IF(N251-N250=0,\"\",N251-N250)","v":648},0.83769161406672676,0.10459873760144274,5.7709648331830475E-2,{"$f":"L251*100/B$1537","v":2261.4840989399295},5.7709648331830475E-2]
["2020-03-29T17:00:00",4,"P.A. Bolzano",234,56,290,744,1034,105,105,116,64,1214,10137,null,1109,1109,"",null,{"$f":"M252*100/M1581","v":1.2427192416751118},-1,"","",105,969,0.8517298187808896,9.5551894563426693E-2,5.2718286655683691E-2,{"$f":"L252*100/B$1537","v":2261.4840989399295},5.2718286655683691E-2]
["2020-03-30T17:00:00",4,"P.A. Bolzano",231,62,293,805,1098,64,111,153,74,1325,10640,null,1109,1109,"",null,{"$f":"M253*100/M1582","v":1.302352097032603},6,37,10,111,503,0.82867924528301884,0.11547169811320755,5.5849056603773588E-2,{"$f":"L253*100/B$1537","v":2614.840989399293},5.5849056603773588E-2]
["2020-03-31T17:00:00",4,"P.A. Bolzano",249,62,311,831,1142,44,46,153,76,1371,11275,null,1109,1109,"",null,{"$f":"M254*100/M1583","v":1.2959392014519056},-65,"",2,46,635,0.83296863603209337,0.11159737417943107,5.5433989788475566E-2,{"$f":"L254*100/B$1537","v":2685.5123674911661},5.5433989788475566E-2]
["2020-04-01T17:00:00",4,"P.A. Bolzano",269,57,326,786,1112,-30,47,190,116,1418,11951,null,1109,1109,"",null,{"$f":"M255*100/M1584","v":1.2823991173331886},1,37,40,47,676,0.7842031029619182,0.13399153737658676,8.1805359661495061E-2,{"$f":"L255*100/B$1537","v":4098.9399293286215},8.1805359661495061E-2]
["2020-04-02T17:00:00",4,"P.A. Bolzano",279,60,339,821,1160,48,61,190,129,1479,12677,null,1109,1109,"",null,{"$f":"M256*100/M1585","v":1.2833862654240642},14,"",13,61,726,0.78431372549019607,0.12846517917511832,8.7221095334685597E-2,{"$f":"L256*100/B$1537","v":4558.3038869257953},8.7221095334685597E-2]
["2020-04-03T17:00:00",4,"P.A. Bolzano",291,60,351,858,1209,49,80,211,139,1559,13976,null,1109,1109,"",null,{"$f":"M257*100/M1586","v":1.3010423360344496},19,21,10,80,1299,0.77549711353431683,0.13534316869788326,8.9159717767799865E-2,{"$f":"L257*100/B$1537","v":4911.6607773851592},8.9159717767799865E-2]
["2020-04-04T17:00:00",4,"P.A. Bolzano",291,61,352,849,1201,-8,33,245,146,1592,15045,null,1109,1109,"",null,{"$f":"M258*100/M1587","v":1.2773605494576032},-47,34,7,33,1069,0.75439698492462315,0.15389447236180903,9.1708542713567834E-2,{"$f":"L258*100/B$1537","v":5159.0106007067134},9.1708542713567834E-2]
["2020-04-05T17:00:00",4,"P.A. Bolzano",239,53,292,934,1226,25,52,260,158,1644,15723,null,1109,1109,"",null,{"$f":"M259*100/M1588","v":1.2749325309427055},19,15,12,52,678,0.74574209245742096,0.15815085158150852,9.6107055961070553E-2,{"$f":"L259*100/B$1537","v":5583.03886925795},9.6107055961070553E-2]
["2020-04-06T17:00:00",4,"P.A. Bolzano",245,52,297,963,1260,34,78,298,164,1722,16825,null,1109,1109,"",null,{"$f":"M260*100/M1589","v":1.2991618067553397},26,38,6,78,1102,0.73170731707317072,0.17305458768873402,9.5238095238095233E-2,{"$f":"L260*100/B$1537","v":5795.0530035335687},9.5238095238095233E-2]
["2020-04-07T17:00:00",4,"P.A. Bolzano",325,64,389,912,1301,41,89,336,174,1811,17761,null,1109,1109,"",null,{"$f":"M261*100/M1590","v":1.3356836251530393},11,38,10,89,936,0.71838763114301496,0.18553285477636663,9.6079514080618447E-2,{"$f":"L261*100/B$1537","v":6148.4098939929327},9.6079514080618447E-2]
["2020-04-08T17:00:00",4,"P.A. Bolzano",268,65,333,948,1281,-20,24,371,183,1835,18865,null,1109,1109,"",null,{"$f":"M262*100/M1591","v":1.3161480971439228},-65,35,9,24,1104,0.6980926430517711,0.20217983651226157,9.9727520435967304E-2,{"$f":"L262*100/B$1537","v":6466.4310954063603},9.9727520435967304E-2]
["2020-04-09T17:00:00",4,"P.A. Bolzano",263,64,327,988,1315,34,68,401,187,1903,19875,null,1109,1109,"",null,{"$f":"M263*100/M1592","v":1.3249690167518415},44,30,4,68,1010,0.69101418812401472,0.21071991592222805,9.8265895953757232E-2,{"$f":"L263*100/B$1537","v":6607.7738515901056},9.8265895953757232E-2]
["2020-04-10T17:00:00",4,"P.A. Bolzano",258,58,316,1001,1317,2,52,447,191,1955,20866,null,1109,1109,"",null,{"$f":"M264*100/M1593","v":1.324732173712706},-16,46,4,52,991,0.6736572890025575,0.22864450127877237,9.7698209718670076E-2,{"$f":"L264*100/B$1537","v":6749.1166077738517},9.7698209718670076E-2]
["2020-04-11T17:00:00",4,"P.A. Bolzano",246,56,302,967,1269,-48,2,488,200,1957,22186,null,1109,1109,"",null,{"$f":"M265*100/M1594","v":1.2852086083364527},-50,41,9,2,1320,0.6484414920797138,0.24936126724578436,0.10219724067450178,{"$f":"L265*100/B$1537","v":7067.1378091872793},0.10219724067450178]
["2020-04-12T17:00:00",4,"P.A. Bolzano",183,45,228,1287,1515,246,141,378,205,2098,23246,null,1109,1109,"",null,{"$f":"M266*100/M1595","v":1.3417496466555388},139,-110,5,141,1060,0.7221163012392755,0.1801715919923737,9.7712106768350807E-2,{"$f":"L266*100/B$1537","v":7243.8162544169609},9.7712106768350807E-2]
["2020-04-13T17:00:00",4,"P.A. Bolzano",190,41,231,1306,1537,22,51,400,212,2149,24157,null,1109,1109,"",null,{"$f":"M267*100/M1596","v":1.34720028084957},-90,22,7,51,911,0.71521637971149377,0.18613308515588645,9.8650535132619829E-2,{"$f":"L267*100/B$1537","v":7491.1660777385159},9.8650535132619829E-2]
["2020-04-14T17:00:00",4,"P.A. Bolzano",177,39,216,1348,1564,27,35,406,214,2184,24457,null,1109,1109,"",null,{"$f":"M268*100/M1597","v":1.3440992565604846},-16,6,2,35,300,0.71611721611721613,0.1858974358974359,9.7985347985347984E-2,{"$f":"L268*100/B$1537","v":7561.8374558303885},9.7985347985347984E-2]
["2020-04-15T17:00:00",4,"P.A. Bolzano",166,32,198,1378,1576,12,40,425,223,2224,25370,null,2224,"x2",2224,null,{"$f":"M269*100/M1598","v":1.3466137870485302},5,19,9,40,913,0.70863309352517989,0.19109712230215828,0.10026978417266187,{"$f":"L269*100/B$1537","v":7879.8586572438162},0.10026978417266187]
["2020-04-16T17:00:00",4,"P.A. Bolzano",180,34,214,1379,1593,17,43,449,225,2267,26416,null,2224,2224,"",null,{"$f":"M270*100/M1599","v":1.3418885883237344},3,24,2,43,1046,0.70269078076753422,0.19805910895456549,9.9250110277900302E-2,{"$f":"L270*100/B$1537","v":7950.5300353356888},9.9250110277900302E-2]
["2020-04-17T17:00:00",4,"P.A. Bolzano",181,32,213,1369,1582,-11,29,480,234,2296,27698,null,{"$f":"IF(Q271=\"x2\",M271,P270)","v":2224},{"$f":"IF(M271>P270*2,\"x2\",P270)","v":2224},{"$f":"IF(Q271=\"x2\",M271,\"\")","v":""},null,{"$f":"M271*100/M1600","v":1.3315239453935999},{"$f":"IF(J271-J270=0,\"\",J271-J270)","v":-14},{"$f":"IF(K271-K270=0,\"\",K271-K270)","v":31},{"$f":"IF(L271-L270=0,\"\",L271-L270)","v":9},{"$f":"IF(M271-M270=0,\"\",M271-M270)","v":29},{"$f":"IF(N271-N270=0,\"\",N271-N270)","v":1282},{"$f":"IF(M271=0,0,H271/M271)","v":0.68902439024390238},{"$f":"IF(M271=0,0,K271/M271)","v":0.20905923344947736},{"$f":"IF(M271=0,0,L271/M271)","v":0.1019163763066202},{"$f":"L271*100/B$1537","v":8268.5512367491156},0.1019163763066202]
["2020-04-18T17:00:00",4,"P.A. Bolzano",179,28,207,1349,1556,-26,29,530,239,2325,28888,null,{"$f":"IF(Q272=\"x2\",M272,P271)","v":2224},{"$f":"IF(M272>P271*2,\"x2\",P271)","v":2224},{"$f":"IF(Q272=\"x2\",M272,\"\")","v":""},null,{"$f":"M272*100/M1601","v":1.3215859030837005},{"$f":"IF(J272-J271=0,\"\",J272-J271)","v":""},{"$f":"IF(K272-K271=0,\"\",K272-K271)","v":50},{"$f":"IF(L272-L271=0,\"\",L272-L271)","v":5},{"$f":"IF(M272-M271=0,\"\",M272-M271)","v":29},{"$f":"IF(N272-N271=0,\"\",N272-N271)","v":1190},{"$f":"IF(M272=0,0,H272/M272)","v":0.66924731182795694},{"$f":"IF(M272=0,0,K272/M272)","v":0.22795698924731184},{"$f":"IF(M272=0,0,L272/M272)","v":0.10279569892473119},{"$f":"L272*100/B$1537","v":8445.2296819787989},0.10279569892473119]
["2020-04-19T17:00:00",4,"P.A. Bolzano",162,23,185,1381,1566,10,55,569,245,2380,30361,14783,{"$f":"IF(Q273=\"x2\",M273,P272)","v":2224},{"$f":"IF(M273>P272*2,\"x2\",P272)","v":2224},{"$f":"IF(Q273=\"x2\",M273,\"\")","v":""},null,{"$f":"M273*100/M1602","v":1.3298169546074246},{"$f":"IF(J273-J272=0,\"\",J273-J272)","v":26},{"$f":"IF(K273-K272=0,\"\",K273-K272)","v":39},{"$f":"IF(L273-L272=0,\"\",L273-L272)","v":6},{"$f":"IF(M273-M272=0,\"\",M273-M272)","v":55},{"$f":"IF(N273-N272=0,\"\",N273-N272)","v":1473},{"$f":"IF(M273=0,0,H273/M273)","v":0.65798319327731092},{"$f":"IF(M273=0,0,K273/M273)","v":0.23907563025210085},{"$f":"IF(M273=0,0,L273/M273)","v":0.10294117647058823},{"$f":"L273*100/B$1537","v":8657.2438162544167},0.10294117647058823]
["2020-04-20T17:00:00",4,"P.A. Bolzano",160,19,179,1361,1540,-26,14,605,249,2394,31381,15089,{"$f":"IF(Q274=\"x2\",M274,P273)","v":2224},{"$f":"IF(M274>P273*2,\"x2\",P273)","v":2224},{"$f":"IF(Q274=\"x2\",M274,\"\")","v":""},null,{"$f":"M274*100/M1603","v":1.3209879268104265},{"$f":"IF(J274-J273=0,\"\",J274-J273)","v":-41},{"$f":"IF(K274-K273=0,\"\",K274-K273)","v":36},{"$f":"IF(L274-L273=0,\"\",L274-L273)","v":4},{"$f":"IF(M274-M273=0,\"\",M274-M273)","v":14},{"$f":"IF(N274-N273=0,\"\",N274-N273)","v":1020},{"$f":"IF(M274=0,0,H274/M274)","v":0.64327485380116955},{"$f":"IF(M274=0,0,K274/M274)","v":0.25271512113617378},{"$f":"IF(M274=0,0,L274/M274)","v":0.10401002506265664},{"$f":"L274*100/B$1537","v":8798.586572438162},0.10401002506265664]
["2020-04-21T17:00:00",4,"P.A. Bolzano",159,20,179,1357,1536,-4,16,623,251,2410,31987,15405,2224,{"$f":"IF(M275>P274*2,\"x2\",P274)","v":2224},{"$f":"IF(Q275=\"x2\",M275,\"\")","v":""},null,{"$f":"M275*100/M1604","v":1.3100887707453372},{"$f":"IF(J275-J274=0,\"\",J275-J274)","v":2},{"$f":"IF(K275-K274=0,\"\",K275-K274)","v":18},{"$f":"IF(L275-L274=0,\"\",L275-L274)","v":2},{"$f":"IF(M275-M274=0,\"\",M275-M274)","v":16},{"$f":"IF(N275-N274=0,\"\",N275-N274)","v":606},{"$f":"IF(M275=0,0,H275/M275)","v":0.63734439834024892},{"$f":"IF(M275=0,0,K275/M275)","v":0.25850622406639007},{"$f":"IF(M275=0,0,L275/M275)","v":0.104149377593361},{"$f":"L275*100/B$1537","v":8869.2579505300346},0.104149377593361]
["2020-04-22T17:00:00",4,"P.A. Bolzano",157,19,176,1336,1512,-24,6,648,256,2416,32722,15736,2224,{"$f":"IF(M276>P275*2,\"x2\",P275)","v":2224},{"$f":"IF(Q276=\"x2\",M276,\"\")","v":""},null,{"$f":"M276*100/M1605","v":1.2897233180481191},{"$f":"IF(J276-J275=0,\"\",J276-J275)","v":-10},{"$f":"IF(K276-K275=0,\"\",K276-K275)","v":25},{"$f":"IF(L276-L275=0,\"\",L276-L275)","v":5},{"$f":"IF(M276-M275=0,\"\",M276-M275)","v":6},{"$f":"IF(N276-N275=0,\"\",N276-N275)","v":735},{"$f":"IF(M276=0,0,H276/M276)","v":0.6258278145695364},{"$f":"IF(M276=0,0,K276/M276)","v":0.26821192052980131},{"$f":"IF(M276=0,0,L276/M276)","v":0.10596026490066225},{"$f":"L276*100/B$1537","v":9045.9363957597179},0.10596026490066225]
["2020-04-23T17:00:00",4,"P.A. Bolzano",141,17,158,1336,1494,-18,19,680,261,2435,33994,16442,{"$f":"IF(Q277=\"x2\",M277,P276)","v":2224},{"$f":"IF(M277>P276*2,\"x2\",P276)","v":2224},{"$f":"IF(Q277=\"x2\",M277,\"\")","v":""},null,{"$f":"M277*100/M1606","v":1.2817610923657572},{"$f":"IF(J277-J276=0,\"\",J277-J276)","v":13},{"$f":"IF(K277-K276=0,\"\",K277-K276)","v":32},{"$f":"IF(L277-L276=0,\"\",L277-L276)","v":5},{"$f":"IF(M277-M276=0,\"\",M277-M276)","v":19},{"$f":"IF(N277-N276=0,\"\",N277-N276)","v":1272},{"$f":"IF(M277=0,0,H277/M277)","v":0.61355236139630387},{"$f":"IF(M277=0,0,K277/M277)","v":0.27926078028747431},{"$f":"IF(M277=0,0,L277/M277)","v":0.10718685831622177},{"$f":"L277*100/B$1537","v":9222.6148409893995},{"$f":"IF(M277=0,0,L277/M277)","v":0.10718685831622177}]
["2020-04-24T17:00:00",4,"P.A. Bolzano",148,16,164,929,1093,-401,21,1100,263,2456,35062,17024,{"$f":"IF(Q278=\"x2\",M278,P277)","v":2224},{"$f":"IF(M278>P277*2,\"x2\",P277)","v":2224},{"$f":"IF(Q278=\"x2\",M278,\"\")","v":""},null,{"$f":"M278*100/M1607","v":1.2725784221271128},{"$f":"IF(J278-J277=0,\"\",J278-J277)","v":2},{"$f":"IF(K278-K277=0,\"\",K278-K277)","v":420},{"$f":"IF(L278-L277=0,\"\",L278-L277)","v":2},{"$f":"IF(M278-M277=0,\"\",M278-M277)","v":21},{"$f":"IF(N278-N277=0,\"\",N278-N277)","v":1068},{"$f":"IF(M278=0,0,H278/M278)","v":0.44503257328990226},{"$f":"IF(M278=0,0,K278/M278)","v":0.44788273615635177},{"$f":"IF(M278=0,0,L278/M278)","v":0.10708469055374593},{"$f":"L278*100/B$1537","v":9293.2862190812721},{"$f":"IF(M278=0,0,L278/M278)","v":0.10708469055374593}]
["2020-04-25T17:00:00",4,"P.A. Bolzano",141,14,155,880,1035,-58,20,1176,265,2476,36608,17573,{"$f":"IF(Q279=\"x2\",M279,P278)","v":2224},{"$f":"IF(M279>P278*2,\"x2\",P278)","v":2224},{"$f":"IF(Q279=\"x2\",M279,\"\")","v":""},null,{"$f":"M279*100/M1608","v":1.2674621578594427},{"$f":"IF(J279-J278=0,\"\",J279-J278)","v":-1},{"$f":"IF(K279-K278=0,\"\",K279-K278)","v":76},{"$f":"IF(L279-L278=0,\"\",L279-L278)","v":2},{"$f":"IF(M279-M278=0,\"\",M279-M278)","v":20},{"$f":"IF(N279-N278=0,\"\",N279-N278)","v":1546},{"$f":"IF(M279=0,0,H279/M279)","v":0.41801292407108237},{"$f":"IF(M279=0,0,K279/M279)","v":0.47495961227786754},{"$f":"IF(M279=0,0,L279/M279)","v":0.10702746365105008},{"$f":"L279*100/B$1537","v":9363.9575971731447},{"$f":"IF(M279=0,0,L279/M279)","v":0.10702746365105008}]
["2020-04-26T17:00:00",4,"P.A. Bolzano",138,14,152,842,994,-41,5,1218,269,2481,37431,17895,{"$f":"IF(Q280=\"x2\",M280,P279)","v":2224},{"$f":"IF(M280>P279*2,\"x2\",P279)","v":2224},{"$f":"IF(Q280=\"x2\",M280,\"\")","v":""},null,{"$f":"M280*100/M1609","v":1.2550904262046287},{"$f":"IF(J280-J279=0,\"\",J280-J279)","v":-15},{"$f":"IF(K280-K279=0,\"\",K280-K279)","v":42},{"$f":"IF(L280-L279=0,\"\",L280-L279)","v":4},{"$f":"IF(M280-M279=0,\"\",M280-M279)","v":5},{"$f":"IF(N280-N279=0,\"\",N280-N279)","v":823},{"$f":"IF(M280=0,0,H280/M280)","v":0.40064490124949614},{"$f":"IF(M280=0,0,K280/M280)","v":0.49093107617896009},{"$f":"IF(M280=0,0,L280/M280)","v":0.10842402257154374},{"$f":"L280*100/B$1537","v":9505.3003533568899},{"$f":"IF(M280=0,0,L280/M280)","v":0.10842402257154374}]
["2020-04-27T17:00:00",4,"P.A. Bolzano",150,16,166,774,940,-54,15,1286,270,2496,38640,18423,{"$f":"IF(Q281=\"x2\",M281,P280)","v":2224},{"$f":"IF(M281>P280*2,\"x2\",P280)","v":2224},{"$f":"IF(Q281=\"x2\",M281,\"\")","v":""},null,{"$f":"M281*100/M1610","v":1.2516673854393372},{"$f":"IF(J281-J280=0,\"\",J281-J280)","v":10},{"$f":"IF(K281-K280=0,\"\",K281-K280)","v":68},{"$f":"IF(L281-L280=0,\"\",L281-L280)","v":1},{"$f":"IF(M281-M280=0,\"\",M281-M280)","v":15},{"$f":"IF(N281-N280=0,\"\",N281-N280)","v":1209},{"$f":"IF(M281=0,0,H281/M281)","v":0.3766025641025641},{"$f":"IF(M281=0,0,K281/M281)","v":0.51522435897435892},{"$f":"IF(M281=0,0,L281/M281)","v":0.10817307692307693},{"$f":"L281*100/B$1537","v":9540.6360424028262},{"$f":"IF(M281=0,0,L281/M281)","v":0.10817307692307693}]
[{"$f":"A281 + 1","v":"2020-04-28T17:00:00"},null,null,null,null,null,null,null,null,null,null,null,null,null,null,null,"Media x2",{"$f":"COUNT(N218:N281) / COUNT(R218:R281)","v":6.4}]
[{"$f":"A282+1","v":"2020-04-29T17:00:00"}]
[{"$f":"A283+1","v":"2020-04-30T17:00:00"}]
[null,null,null,null,{"$f":"E281/$M281","v":6.41025641025641E-3},null,null,{"$f":"H281/$M281","v":0.3766025641025641},null,null,{"$f":"K281/$M281","v":0.51522435897435892},{"$f":"L281/$M281","v":0.10817307692307693},null,{"$f":"N281/$M281","v":15.48076923076923}]
[]
[]
[]
["Data","Codice","Regione","Ricoverati","Terap. Intens.","Ospedalizzati","Quarantena","Positivi","+ Positivi","Nuovi","Guariti","Deceduti","Totale","Tamponi","Testati",null,null,"x 2",null,"% su Tot.","+ Nuovi","+ Guariti","+ Deceduti","+ Totali","+ Tamponi","% Positivi","% Guariti","% Deceduti","P. Stimati","% Morti"]
["2020-02-24T18:00:00",4,"P.A. Trento",0,0,0,0,0,0,0,0,0,0,3,null,{"$f":"M290","v":0},null,{"$f":"M290","v":0},null,{"$f":"M290*100/M1547","v":0},null,null,null,null,null,{"$f":"IF(M290=0,0,H290/M290)","v":0},{"$f":"IF(M290=0,0,K290/M290)","v":0},{"$f":"IF(M290=0,0,L290/M290)","v":0},{"$f":"L290*100/B$1537","v":0},{"$f":"IF(M290=0,0,L290/M290)","v":0}]
["2020-02-25T18:00:00",4,"P.A. Trento",0,0,0,0,0,0,0,0,0,0,3,null,{"$f":"IF(Q291=\"x2\",M291,P290)","v":0},{"$f":"IF(M291>P290*2,\"x2\",P290)","v":0},{"$f":"IF(Q291=\"x2\",M291,\"\")","v":""},null,{"$f":"M291*100/M1548","v":0},{"$f":"IF(J291-J290=0,\"\",J291-J290)","v":""},{"$f":"IF(K291-K290=0,\"\",K291-K290)","v":""},{"$f":"IF(L291-L290=0,\"\",L291-L290)","v":""},{"$f":"IF(M291-M290=0,\"\",M291-M290)","v":""},{"$f":"IF(N291-N290=0,\"\",N291-N290)","v":""},0,0,0,{"$f":"L291*100/B$1537","v":0},0]
["2020-02-26T18:00:00",4,"P.A. Trento",0,0,0,0,0,0,0,0,0,0,3,null,0,0,"",null,{"$f":"M292*100/M1549","v":0},"","","","","",0,0,0,{"$f":"L292*100/B$1537","v":0},0]
["2020-02-27T18:00:00",4,"P.A. Trento",0,0,0,0,0,0,0,0,0,0,32,null,0,0,"",null,{"$f":"M293*100/M1550","v":0},"","","","",29,0,0,0,{"$f":"L293*100/B$1537","v":0},0]
["2020-02-28T18:00:00",4,"P.A. Trento",0,0,0,0,0,0,0,0,0,0,32,null,0,0,"",null,{"$f":"M294*100/M1551","v":0},"","","","","",0,0,0,{"$f":"L294*100/B$1537","v":0},0]
["2020-02-29T17:00:00",4,"P.A. Trento",0,0,0,0,0,0,0,0,0,0,43,null,0,0,"",null,{"$f":"M295*100/M1552","v":0},"","","","",11,0,0,0,{"$f":"L295*100/B$1537","v":0},0]
["2020-03-01T17:00:00",4,"P.A. Trento",0,0,0,0,0,0,0,0,0,0,122,null,0,0,"",null,{"$f":"M296*100/M1553","v":0},"","","","",79,0,0,0,{"$f":"L296*100/B$1537","v":0},0]
["2020-03-02T18:00:00",4,"P.A. Trento",0,0,0,0,0,0,0,0,0,0,122,null,0,0,"",null,{"$f":"M297*100/M1554","v":0},"","","","","",0,0,0,{"$f":"L297*100/B$1537","v":0},0]
["2020-03-03T18:00:00",4,"P.A. Trento",1,0,1,3,4,4,4,0,0,4,122,null,4,"x2",4,null,{"$f":"M298*100/M1555","v":0.15987210231814547},4,"","",4,"",1,0,0,{"$f":"L298*100/B$1537","v":0},0]
["2020-03-04T17:00:00",4,"P.A. Trento",1,0,1,4,5,1,1,0,0,5,122,null,4,4,"",null,{"$f":"M299*100/M1556","v":0.16186468112657817},-3,"","",1,"",1,0,0,{"$f":"L299*100/B$1537","v":0},0]
["2020-03-05T17:00:00",4,"P.A. Trento",2,0,2,5,7,2,2,0,0,7,122,null,4,4,"",null,{"$f":"M300*100/M1557","v":0.18144116122343182},1,"","",2,"",1,0,0,{"$f":"L300*100/B$1537","v":0},0]
["2020-03-06T17:00:00",4,"P.A. Trento",4,0,4,6,10,3,3,0,0,10,122,null,10,"x2",10,null,{"$f":"M301*100/M1558","v":0.21570319240724764},1,"","",3,"",1,0,0,{"$f":"L301*100/B$1537","v":0},0]
["2020-03-07T18:00:00",4,"P.A. Trento",6,1,7,7,14,4,4,0,0,14,194,null,10,10,"",null,{"$f":"M302*100/M1559","v":0.23797382287948327},1,"","",4,72,1,0,0,{"$f":"L302*100/B$1537","v":0},0]
["2020-03-08T18:00:00",4,"P.A. Trento",7,2,9,14,23,9,9,0,0,23,228,null,23,"x2",23,null,{"$f":"M303*100/M1560","v":0.31186440677966104},5,"","",9,34,1,0,0,{"$f":"L303*100/B$1537","v":0},0]
["2020-03-09T18:00:00",4,"P.A. Trento",10,2,12,21,33,10,10,0,0,33,267,null,23,23,"",null,{"$f":"M304*100/M1561","v":0.35979066724814651},1,"","",10,39,1,0,0,{"$f":"L304*100/B$1537","v":0},0]
["2020-03-10T18:00:00",4,"P.A. Trento",19,3,22,28,50,17,17,2,0,52,399,null,52,"x2",52,null,{"$f":"M305*100/M1562","v":0.51236575032022857},7,2,"",19,132,0.96153846153846156,3.8461538461538464E-2,0,{"$f":"L305*100/B$1537","v":0},0]
["2020-03-11T17:00:00",4,"P.A. Trento",28,4,32,42,74,24,24,3,0,77,527,null,52,52,"",null,{"$f":"M306*100/M1563","v":0.61787835018456105},7,1,"",25,128,0.96103896103896103,3.896103896103896E-2,0,{"$f":"L306*100/B$1537","v":0},0]
["2020-03-12T17:00:00",4,"P.A. Trento",43,5,48,54,102,28,28,4,1,107,593,null,107,"x2",107,null,{"$f":"M307*100/M1564","v":0.70799973532720173},4,1,1,30,66,0.95327102803738317,3.7383177570093455E-2,9.3457943925233638E-3,{"$f":"L307*100/B$1537","v":35.335689045936398},9.3457943925233638E-3]
["2020-03-13T17:00:00",4,"P.A. Trento",58,6,64,93,157,55,55,4,2,163,846,null,107,107,"",null,{"$f":"M308*100/M1565","v":0.92298980747451864},27,"",1,56,253,0.96319018404907975,2.4539877300613498E-2,1.2269938650306749E-2,{"$f":"L308*100/B$1537","v":70.671378091872796},1.2269938650306749E-2]
["2020-03-14T17:00:00",4,"P.A. Trento",68,12,80,119,199,42,42,5,2,206,1006,null,107,107,"",null,{"$f":"M309*100/M1566","v":0.97367301602306566},-13,1,"",43,160,0.96601941747572817,2.4271844660194174E-2,9.7087378640776691E-3,{"$f":"L309*100/B$1537","v":70.671378091872796},9.7087378640776691E-3]
["2020-03-15T17:00:00",4,"P.A. Trento",73,19,92,275,367,168,168,5,6,378,1006,null,378,"x2",378,null,{"$f":"M310*100/M1567","v":1.5274578736816584},126,"",4,172,"",0.97089947089947093,1.3227513227513227E-2,1.5873015873015872E-2,{"$f":"L310*100/B$1537","v":212.01413427561837},1.5873015873015872E-2]
["2020-03-16T17:00:00",4,"P.A. Trento",73,19,92,275,367,0,0,5,6,378,1006,null,378,378,"",null,{"$f":"M311*100/M1568","v":1.3509649749821302},-168,"","","","",0.97089947089947093,1.3227513227513227E-2,1.5873015873015872E-2,{"$f":"L311*100/B$1537","v":212.01413427561837},1.5873015873015872E-2]
["2020-03-17T17:00:00",4,"P.A. Trento",107,22,129,239,368,1,1,10,7,385,1727,null,378,378,"",null,{"$f":"M312*100/M1569","v":1.2219894623246366},1,5,1,7,721,0.95584415584415583,2.5974025974025976E-2,1.8181818181818181E-2,{"$f":"L312*100/B$1537","v":247.34982332155477},1.8181818181818181E-2]
["2020-03-18T17:00:00",4,"P.A. Trento",141,22,163,273,436,68,68,12,7,455,2187,null,378,378,"",null,{"$f":"M313*100/M1570","v":1.2740458656511635},67,2,"",70,460,0.95824175824175828,2.6373626373626374E-2,1.5384615384615385E-2,{"$f":"L313*100/B$1537","v":247.34982332155477},1.5384615384615385E-2]
["2020-03-19T17:00:00",4,"P.A. Trento",169,30,199,292,491,55,55,20,12,523,2203,null,378,378,"",null,{"$f":"M314*100/M1571","v":1.2745217497258439},-13,8,5,68,16,0.93881453154875716,3.8240917782026769E-2,2.2944550669216062E-2,{"$f":"L314*100/B$1537","v":424.02826855123675},2.2944550669216062E-2]
["2020-03-20T17:00:00",4,"P.A. Trento",198,34,232,368,600,109,109,29,13,642,2656,null,378,378,"",null,{"$f":"M315*100/M1572","v":1.3653473979711193},54,9,1,119,453,0.93457943925233644,4.5171339563862926E-2,2.0249221183800622E-2,{"$f":"L315*100/B$1537","v":459.36395759717311},2.0249221183800622E-2]
["2020-03-21T17:00:00",4,"P.A. Trento",233,39,272,448,720,120,120,34,28,782,2656,null,782,"x2",782,null,{"$f":"M316*100/M1573","v":1.4595542946731868},11,5,15,140,"",0.92071611253196928,4.3478260869565216E-2,3.5805626598465472E-2,{"$f":"L316*100/B$1537","v":989.39929328621906},3.5805626598465472E-2]
["2020-03-22T17:00:00",4,"P.A. Trento",235,46,281,604,885,165,165,34,35,954,3050,null,782,782,"",null,{"$f":"M317*100/M1574","v":1.6131759613108323},45,"",7,172,394,0.92767295597484278,3.5639412997903561E-2,3.668763102725367E-2,{"$f":"L317*100/B$1537","v":1236.7491166077739},3.668763102725367E-2]
["2020-03-23T17:00:00",4,"P.A. Trento",249,46,295,619,914,29,29,68,41,1023,3150,null,782,782,"",null,{"$f":"M318*100/M1575","v":1.6002627997559717},-136,34,6,69,100,0.89345063538611924,6.647116324535679E-2,4.0078201368523948E-2,{"$f":"L318*100/B$1537","v":1448.7632508833922},4.0078201368523948E-2]
["2020-03-24T17:00:00",4,"P.A. Trento",308,49,357,618,975,61,61,79,56,1110,3712,null,782,782,"",null,{"$f":"M319*100/M1576","v":1.6046027523996762},32,11,15,87,562,0.8783783783783784,7.1171171171171166E-2,5.0450450450450449E-2,{"$f":"L319*100/B$1537","v":1978.7985865724381},5.0450450450450449E-2]
["2020-03-25T17:00:00",4,"P.A. Trento",308,65,373,685,1058,83,83,90,74,1222,4114,null,782,782,"",null,{"$f":"M320*100/M1577","v":1.6427822439706397},22,11,18,112,402,0.86579378068739776,7.3649754500818329E-2,6.0556464811783964E-2,{"$f":"L320*100/B$1537","v":2614.840989399293},6.0556464811783964E-2]
["2020-03-26T17:00:00",4,"P.A. Trento",300,66,366,728,1094,36,36,117,86,1297,4600,null,782,782,"",null,{"$f":"M321*100/M1578","v":1.6103999304684686},-47,27,12,75,486,0.84348496530454897,9.0208172706245177E-2,6.6306861989205865E-2,{"$f":"L321*100/B$1537","v":3038.86925795053},6.6306861989205865E-2]
["2020-03-27T17:00:00",4,"P.A. Trento",341,66,407,757,1164,70,94,125,102,1391,4923,null,782,782,"",null,{"$f":"M322*100/M1579","v":1.6081296677379824},58,8,16,94,323,{"$f":"IF(M322=0,0,H322/M322)","v":0.83680805176132278},{"$f":"IF(M322=0,0,K322/M322)","v":8.986340762041696E-2},{"$f":"IF(M322=0,0,L322/M322)","v":7.3328540618260246E-2},{"$f":"L322*100/B$1537","v":3604.2402826855123},7.3328540618260246E-2]
["2020-03-28T17:00:00",4,"P.A. Trento",351,72,423,811,1234,70,114,151,120,1505,5561,null,{"$f":"IF(Q323=\"x2\",M323,P322)","v":782},{"$f":"IF(M323>P322*2,\"x2\",P322)","v":782},{"$f":"IF(Q323=\"x2\",M323,\"\")","v":""},null,{"$f":"M323*100/M1580","v":1.6275196816333592},{"$f":"IF(J323-J322=0,\"\",J323-J322)","v":20},{"$f":"IF(K323-K322=0,\"\",K323-K322)","v":26},{"$f":"IF(L323-L322=0,\"\",L323-L322)","v":18},{"$f":"IF(M323-M322=0,\"\",M323-M322)","v":114},{"$f":"IF(N323-N322=0,\"\",N323-N322)","v":638},0.8199335548172757,0.10033222591362126,7.9734219269102985E-2,{"$f":"L323*100/B$1537","v":4240.2826855123676},7.9734219269102985E-2]
["2020-03-29T17:00:00",4,"P.A. Trento",356,75,431,862,1293,59,89,172,129,1594,5950,null,1594,"x2",1594,null,{"$f":"M324*100/M1581","v":1.6317087901401386},-25,21,9,89,389,0.81116687578419067,0.10790464240903387,8.0928481806775407E-2,{"$f":"L324*100/B$1537","v":4558.3038869257953},8.0928481806775407E-2]
["2020-03-30T17:00:00",4,"P.A. Trento",353,78,431,926,1357,64,88,178,147,1682,6377,null,1594,1594,"",null,{"$f":"M325*100/M1582","v":1.6532499827991232},-1,6,18,88,427,0.80677764565992871,0.10582639714625446,8.7395957193816889E-2,{"$f":"L325*100/B$1537","v":5194.3462897526497},8.7395957193816889E-2]
["2020-03-31T17:00:00",4,"P.A. Trento",354,80,434,955,1389,32,64,193,164,1746,6973,null,1594,1594,"",null,{"$f":"M326*100/M1583","v":1.6504083484573502},-24,15,17,64,596,0.79553264604810991,0.11053837342497136,9.3928980526918671E-2,{"$f":"L326*100/B$1537","v":5795.0530035335687},9.3928980526918671E-2]
["2020-04-01T17:00:00",4,"P.A. Trento",345,76,421,1062,1483,94,124,214,173,1870,7675,null,1594,1594,"",null,{"$f":"M327*100/M1584","v":1.6911751406298046},60,21,9,124,702,0.79304812834224603,0.11443850267379679,9.251336898395722E-2,{"$f":"L327*100/B$1537","v":6113.0742049469964},9.251336898395722E-2]
["2020-04-02T17:00:00",4,"P.A. Trento",339,78,417,1170,1587,104,133,229,187,2003,8496,null,1594,1594,"",null,{"$f":"M328*100/M1585","v":1.7380816021936447},9,15,14,133,821,0.79231153270094856,0.11432850723914129,9.3359960059910138E-2,{"$f":"L328*100/B$1537","v":6607.7738515901056},9.3359960059910138E-2]
["2020-04-03T17:00:00",4,"P.A. Trento",343,80,423,1236,1659,72,106,246,204,2109,8993,null,1594,1594,"",null,{"$f":"M329*100/M1586","v":1.7600373872332613},-27,17,17,106,497,0.78662873399715505,0.11664295874822191,9.6728307254623044E-2,{"$f":"L329*100/B$1537","v":7208.4805653710246},9.6728307254623044E-2]
["2020-04-04T17:00:00",4,"P.A. Trento",353,81,434,1319,1753,94,111,257,210,2220,9863,null,1594,1594,"",null,{"$f":"M330*100/M1587","v":1.7812439822838437},5,11,6,111,870,0.78963963963963968,0.11576576576576576,9.45945945945946E-2,{"$f":"L330*100/B$1537","v":7420.4946996466433},9.45945945945946E-2]
["2020-04-05T17:00:00",4,"P.A. Trento",352,80,432,1363,1795,42,65,273,217,2285,10476,null,1594,1594,"",null,{"$f":"M331*100/M1588","v":1.7720321369854515},-46,16,7,65,613,0.78555798687089717,0.11947483588621444,9.4967177242888404E-2,{"$f":"L331*100/B$1537","v":7667.8445229681975},9.4967177242888404E-2]
["2020-04-06T17:00:00",4,"P.A. Trento",354,79,433,1405,1838,43,63,280,230,2348,11130,null,1594,1594,"",null,{"$f":"M332*100/M1589","v":1.7714471093272575},-2,7,13,63,654,0.782793867120954,0.11925042589437819,9.7955706984667809E-2,{"$f":"L332*100/B$1537","v":8127.2084805653712},9.7955706984667809E-2]
["2020-04-07T17:00:00",4,"P.A. Trento",360,78,438,1452,1890,52,128,342,244,2476,12030,null,1594,1594,"",null,{"$f":"M333*100/M1590","v":1.8261472423406546},65,62,14,128,900,0.76332794830371564,0.1381260096930533,9.8546042003231013E-2,{"$f":"L333*100/B$1537","v":8621.9081272084804},9.8546042003231013E-2]
["2020-04-08T17:00:00",4,"P.A. Trento",354,77,431,1509,1940,50,126,407,255,2602,13258,null,1594,1594,"",null,{"$f":"M334*100/M1591","v":1.8662764843424997},-2,65,11,126,1228,0.74558032282859343,0.15641813989239048,9.8001537279016143E-2,{"$f":"L334*100/B$1537","v":9010.6007067137798},9.8001537279016143E-2]
["2020-04-09T17:00:00",4,"P.A. Trento",345,69,414,1564,1978,38,106,462,268,2708,14338,null,1594,1594,"",null,{"$f":"M335*100/M1592","v":1.8854524946736664},-20,55,13,106,1080,0.73042836041358938,0.17060561299852289,9.8966026587887737E-2,{"$f":"L335*100/B$1537","v":9469.9646643109536},9.8966026587887737E-2]
["2020-04-10T17:00:00",4,"P.A. Trento",335,70,405,1589,1994,16,108,547,275,2816,14981,null,1594,1594,"",null,{"$f":"M336*100/M1593","v":1.908156420038353},2,85,7,108,643,0.70809659090909094,0.19424715909090909,9.765625E-2,{"$f":"L336*100/B$1537","v":9717.3144876325077},9.765625E-2]
["2020-04-11T17:00:00",4,"P.A. Trento",335,62,397,1667,2064,70,154,622,284,2970,16646,null,1594,1594,"",null,{"$f":"M337*100/M1594","v":1.9504698859270642},46,75,9,154,1665,0.69494949494949498,0.20942760942760943,9.5622895622895623E-2,{"$f":"L337*100/B$1537","v":10035.335689045936},9.5622895622895623E-2]
["2020-04-12T17:00:00",4,"P.A. Trento",322,61,383,1699,2082,18,83,678,293,3053,17797,null,1594,1594,"",null,{"$f":"M338*100/M1595","v":1.9525079462532697},-71,56,9,83,1151,0.68195217818539144,0.2220766459220439,9.5971175892564695E-2,{"$f":"L338*100/B$1537","v":10353.356890459363},9.5971175892564695E-2]
["2020-04-13T17:00:00",4,"P.A. Trento",326,56,382,1698,2080,-2,73,746,300,3126,18586,null,1594,1594,"",null,{"$f":"M339*100/M1596","v":1.959678026028737},-10,68,7,73,789,0.66538707613563663,0.23864363403710812,9.5969289827255277E-2,{"$f":"L339*100/B$1537","v":10600.706713780919},9.5969289827255277E-2]
["2020-04-14T17:00:00",4,"P.A. Trento",325,54,379,1703,2082,2,15,749,310,3141,18774,null,1594,1594,"",null,{"$f":"M340*100/M1597","v":1.933065826399488},-58,3,10,15,188,0.6628462273161414,0.23845908946195479,9.8694683221903848E-2,{"$f":"L340*100/B$1537","v":10954.063604240282},9.8694683221903848E-2]
["2020-04-15T17:00:00",4,"P.A. Trento",312,48,360,1744,2104,22,79,798,318,3220,19535,null,3220,"x2",3220,null,{"$f":"M341*100/M1598","v":1.9496836305288971},64,49,8,79,761,0.65341614906832302,0.24782608695652175,9.8757763975155274E-2,{"$f":"L341*100/B$1537","v":11236.749116607774},9.8757763975155274E-2]
["2020-04-16T17:00:00",4,"P.A. Trento",296,43,339,1748,2087,-17,74,885,322,3294,20773,null,3220,3220,"",null,{"$f":"M342*100/M1599","v":1.9497931230429559},-5,87,4,74,1238,0.63357619914996965,0.2686703096539162,9.7753491196114151E-2,{"$f":"L342*100/B$1537","v":11378.09187279152},9.7753491196114151E-2]
["2020-04-17T17:00:00",4,"P.A. Trento",286,44,330,1660,1990,-97,82,1044,342,3376,21921,null,{"$f":"IF(Q343=\"x2\",M343,P342)","v":3220},{"$f":"IF(M343>P342*2,\"x2\",P342)","v":3220},{"$f":"IF(Q343=\"x2\",M343,\"\")","v":""},null,{"$f":"M343*100/M1600","v":1.9578505399167219},{"$f":"IF(J343-J342=0,\"\",J343-J342)","v":8},{"$f":"IF(K343-K342=0,\"\",K343-K342)","v":159},{"$f":"IF(L343-L342=0,\"\",L343-L342)","v":20},{"$f":"IF(M343-M342=0,\"\",M343-M342)","v":82},{"$f":"IF(N343-N342=0,\"\",N343-N342)","v":1148},{"$f":"IF(M343=0,0,H343/M343)","v":0.58945497630331756},{"$f":"IF(M343=0,0,K343/M343)","v":0.30924170616113744},{"$f":"IF(M343=0,0,L343/M343)","v":0.10130331753554503},{"$f":"L343*100/B$1537","v":12084.805653710247},0.10130331753554503]
["2020-04-18T17:00:00",4,"P.A. Trento",276,42,318,1667,1985,-5,55,1098,348,3431,23147,null,{"$f":"IF(Q344=\"x2\",M344,P343)","v":3220},{"$f":"IF(M344>P343*2,\"x2\",P343)","v":3220},{"$f":"IF(Q344=\"x2\",M344,\"\")","v":""},null,{"$f":"M344*100/M1601","v":1.950262896120506},{"$f":"IF(J344-J343=0,\"\",J344-J343)","v":-27},{"$f":"IF(K344-K343=0,\"\",K344-K343)","v":54},{"$f":"IF(L344-L343=0,\"\",L344-L343)","v":6},{"$f":"IF(M344-M343=0,\"\",M344-M343)","v":55},{"$f":"IF(N344-N343=0,\"\",N344-N343)","v":1226},{"$f":"IF(M344=0,0,H344/M344)","v":0.57854852812591084},{"$f":"IF(M344=0,0,K344/M344)","v":0.32002331681725443},{"$f":"IF(M344=0,0,L344/M344)","v":0.10142815505683474},{"$f":"L344*100/B$1537","v":12296.819787985865},0.10142815505683474]
["2020-04-19T17:00:00",4,"P.A. Trento",278,41,319,1652,1971,-14,101,1201,360,3532,24388,16685,{"$f":"IF(Q345=\"x2\",M345,P344)","v":3220},{"$f":"IF(M345>P344*2,\"x2\",P344)","v":3220},{"$f":"IF(Q345=\"x2\",M345,\"\")","v":""},null,{"$f":"M345*100/M1602","v":1.9734930603669847},{"$f":"IF(J345-J344=0,\"\",J345-J344)","v":46},{"$f":"IF(K345-K344=0,\"\",K345-K344)","v":103},{"$f":"IF(L345-L344=0,\"\",L345-L344)","v":12},{"$f":"IF(M345-M344=0,\"\",M345-M344)","v":101},{"$f":"IF(N345-N344=0,\"\",N345-N344)","v":1241},{"$f":"IF(M345=0,0,H345/M345)","v":0.55804077010192521},{"$f":"IF(M345=0,0,K345/M345)","v":0.34003397508493771},{"$f":"IF(M345=0,0,L345/M345)","v":0.10192525481313704},{"$f":"L345*100/B$1537","v":12720.848056537103},0.10192525481313704]
["2020-04-20T17:00:00",4,"P.A. Trento",272,40,312,1617,1929,-42,58,1295,366,3590,26211,17347,{"$f":"IF(Q346=\"x2\",M346,P345)","v":3220},{"$f":"IF(M346>P345*2,\"x2\",P345)","v":3220},{"$f":"IF(Q346=\"x2\",M346,\"\")","v":""},null,{"$f":"M346*100/M1603","v":1.980930099101684},{"$f":"IF(J346-J345=0,\"\",J346-J345)","v":-43},{"$f":"IF(K346-K345=0,\"\",K346-K345)","v":94},{"$f":"IF(L346-L345=0,\"\",L346-L345)","v":6},{"$f":"IF(M346-M345=0,\"\",M346-M345)","v":58},{"$f":"IF(N346-N345=0,\"\",N346-N345)","v":1823},{"$f":"IF(M346=0,0,H346/M346)","v":0.53732590529247914},{"$f":"IF(M346=0,0,K346/M346)","v":0.3607242339832869},{"$f":"IF(M346=0,0,L346/M346)","v":0.10194986072423398},{"$f":"L346*100/B$1537","v":12932.862190812721},0.10194986072423398]
["2020-04-21T17:00:00",4,"P.A. Trento",254,38,292,1617,1909,-20,24,1329,376,3614,26610,17705,3220,{"$f":"IF(M347>P346*2,\"x2\",P346)","v":3220},{"$f":"IF(Q347=\"x2\",M347,\"\")","v":""},null,{"$f":"M347*100/M1604","v":1.9645895508189415},{"$f":"IF(J347-J346=0,\"\",J347-J346)","v":-34},{"$f":"IF(K347-K346=0,\"\",K347-K346)","v":34},{"$f":"IF(L347-L346=0,\"\",L347-L346)","v":10},{"$f":"IF(M347-M346=0,\"\",M347-M346)","v":24},{"$f":"IF(N347-N346=0,\"\",N347-N346)","v":399},{"$f":"IF(M347=0,0,H347/M347)","v":0.5282235749861649},{"$f":"IF(M347=0,0,K347/M347)","v":0.36773657996679582},{"$f":"IF(M347=0,0,L347/M347)","v":0.10403984504703929},{"$f":"L347*100/B$1537","v":13286.219081272084},0.10403984504703929]
["2020-04-22T17:00:00",4,"P.A. Trento",245,34,279,1595,1874,-35,32,1391,381,3646,26674,17672,3220,{"$f":"IF(M348>P347*2,\"x2\",P347)","v":3220},{"$f":"IF(Q348=\"x2\",M348,\"\")","v":""},null,{"$f":"M348*100/M1605","v":1.9463291463590406},{"$f":"IF(J348-J347=0,\"\",J348-J347)","v":8},{"$f":"IF(K348-K347=0,\"\",K348-K347)","v":62},{"$f":"IF(L348-L347=0,\"\",L348-L347)","v":5},{"$f":"IF(M348-M347=0,\"\",M348-M347)","v":32},{"$f":"IF(N348-N347=0,\"\",N348-N347)","v":64},{"$f":"IF(M348=0,0,H348/M348)","v":0.51398793198025228},{"$f":"IF(M348=0,0,K348/M348)","v":0.38151398793198027},{"$f":"IF(M348=0,0,L348/M348)","v":0.10449808008776741},{"$f":"L348*100/B$1537","v":13462.897526501767},0.10449808008776741]
["2020-04-23T17:00:00",4,"P.A. Trento",234,29,263,1608,1871,-3,81,1474,382,3727,28240,18656,{"$f":"IF(Q349=\"x2\",M349,P348)","v":3220},{"$f":"IF(M349>P348*2,\"x2\",P348)","v":3220},{"$f":"IF(Q349=\"x2\",M349,\"\")","v":""},null,{"$f":"M349*100/M1606","v":1.9618577376785122},{"$f":"IF(J349-J348=0,\"\",J349-J348)","v":49},{"$f":"IF(K349-K348=0,\"\",K349-K348)","v":83},{"$f":"IF(L349-L348=0,\"\",L349-L348)","v":1},{"$f":"IF(M349-M348=0,\"\",M349-M348)","v":81},{"$f":"IF(N349-N348=0,\"\",N349-N348)","v":1566},{"$f":"IF(M349=0,0,H349/M349)","v":0.5020123423665146},{"$f":"IF(M349=0,0,K349/M349)","v":0.39549235309900727},{"$f":"IF(M349=0,0,L349/M349)","v":0.10249530453447814},{"$f":"L349*100/B$1537","v":13498.233215547703},{"$f":"IF(M349=0,0,L349/M349)","v":0.10249530453447814}]
["2020-04-24T17:00:00",4,"P.A. Trento",224,28,252,1575,1827,-44,49,1560,389,3776,29779,19250,{"$f":"IF(Q350=\"x2\",M350,P349)","v":3220},{"$f":"IF(M350>P349*2,\"x2\",P349)","v":3220},{"$f":"IF(Q350=\"x2\",M350,\"\")","v":""},null,{"$f":"M350*100/M1607","v":1.9565375089381016},{"$f":"IF(J350-J349=0,\"\",J350-J349)","v":-32},{"$f":"IF(K350-K349=0,\"\",K350-K349)","v":86},{"$f":"IF(L350-L349=0,\"\",L350-L349)","v":7},{"$f":"IF(M350-M349=0,\"\",M350-M349)","v":49},{"$f":"IF(N350-N349=0,\"\",N350-N349)","v":1539},{"$f":"IF(M350=0,0,H350/M350)","v":0.48384533898305082},{"$f":"IF(M350=0,0,K350/M350)","v":0.41313559322033899},{"$f":"IF(M350=0,0,L350/M350)","v":0.10301906779661017},{"$f":"L350*100/B$1537","v":13745.583038869258},{"$f":"IF(M350=0,0,L350/M350)","v":0.10301906779661017}]
["2020-04-25T17:00:00",4,"P.A. Trento",202,27,229,1515,1744,-83,62,1694,400,3838,30661,19394,{"$f":"IF(Q351=\"x2\",M351,P350)","v":3220},{"$f":"IF(M351>P350*2,\"x2\",P350)","v":3220},{"$f":"IF(Q351=\"x2\",M351,\"\")","v":""},null,{"$f":"M351*100/M1608","v":1.9646687245010264},{"$f":"IF(J351-J350=0,\"\",J351-J350)","v":13},{"$f":"IF(K351-K350=0,\"\",K351-K350)","v":134},{"$f":"IF(L351-L350=0,\"\",L351-L350)","v":11},{"$f":"IF(M351-M350=0,\"\",M351-M350)","v":62},{"$f":"IF(N351-N350=0,\"\",N351-N350)","v":882},{"$f":"IF(M351=0,0,H351/M351)","v":0.45440333507034913},{"$f":"IF(M351=0,0,K351/M351)","v":0.4413757165190203},{"$f":"IF(M351=0,0,L351/M351)","v":0.10422094841063054},{"$f":"L351*100/B$1537","v":14134.275618374559},{"$f":"IF(M351=0,0,L351/M351)","v":0.10422094841063054}]
["2020-04-26T17:00:00",4,"P.A. Trento",199,24,223,1459,1682,-62,56,1807,405,3894,32142,19902,{"$f":"IF(Q352=\"x2\",M352,P351)","v":3220},{"$f":"IF(M352>P351*2,\"x2\",P351)","v":3220},{"$f":"IF(Q352=\"x2\",M352,\"\")","v":""},null,{"$f":"M352*100/M1609","v":1.9699000885291513},{"$f":"IF(J352-J351=0,\"\",J352-J351)","v":-6},{"$f":"IF(K352-K351=0,\"\",K352-K351)","v":113},{"$f":"IF(L352-L351=0,\"\",L352-L351)","v":5},{"$f":"IF(M352-M351=0,\"\",M352-M351)","v":56},{"$f":"IF(N352-N351=0,\"\",N352-N351)","v":1481},{"$f":"IF(M352=0,0,H352/M352)","v":0.4319465844889574},{"$f":"IF(M352=0,0,K352/M352)","v":0.46404725218284543},{"$f":"IF(M352=0,0,L352/M352)","v":0.10400616332819723},{"$f":"L352*100/B$1537","v":14310.95406360424},{"$f":"IF(M352=0,0,L352/M352)","v":0.10400616332819723}]
["2020-04-27T17:00:00",4,"P.A. Trento",201,23,224,1483,1707,25,101,1881,407,3995,33152,20199,{"$f":"IF(Q353=\"x2\",M353,P352)","v":3220},{"$f":"IF(M353>P352*2,\"x2\",P352)","v":3220},{"$f":"IF(Q353=\"x2\",M353,\"\")","v":""},null,{"$f":"M353*100/M1610","v":2.0033698737300289},{"$f":"IF(J353-J352=0,\"\",J353-J352)","v":45},{"$f":"IF(K353-K352=0,\"\",K353-K352)","v":74},{"$f":"IF(L353-L352=0,\"\",L353-L352)","v":2},{"$f":"IF(M353-M352=0,\"\",M353-M352)","v":101},{"$f":"IF(N353-N352=0,\"\",N353-N352)","v":1010},{"$f":"IF(M353=0,0,H353/M353)","v":0.42728410513141429},{"$f":"IF(M353=0,0,K353/M353)","v":0.47083854818523152},{"$f":"IF(M353=0,0,L353/M353)","v":0.10187734668335419},{"$f":"L353*100/B$1537","v":14381.625441696113},{"$f":"IF(M353=0,0,L353/M353)","v":0.10187734668335419}]
[{"$f":"A353 + 1","v":"2020-04-28T17:00:00"},null,null,null,null,null,null,null,null,null,null,null,null,null,null,null,"Media x2",{"$f":"COUNT(N290:N353) / COUNT(R290:R353)","v":6.4}]
[{"$f":"A354+1","v":"2020-04-29T17:00:00"}]
[{"$f":"A355+1","v":"2020-04-30T17:00:00"}]
[null,null,null,null,{"$f":"E353/$M353","v":5.7571964956195246E-3},null,null,{"$f":"H353/$M353","v":0.42728410513141429},null,null,{"$f":"K353/$M353","v":0.47083854818523152},{"$f":"L353/$M353","v":0.10187734668335419},null,{"$f":"N353/$M353","v":8.2983729662077597}]
[]
[]
[]
["Data","Codice","Regione","Ricoverati","Terap. Intens.","Ospedalizzati","Quarantena","Positivi","+ Positivi","Nuovi","Guariti","Deceduti","Totale","Tamponi","Testati",null,null,"x 2",null,"% su Tot.","+ Nuovi","+ Guariti","+ Deceduti","+ Totali","+ Tamponi","% Positivi","% Guariti","% Deceduti","P. Stimati","% Morti"]
["2020-02-24T18:00:00",5,"Veneto",12,4,16,16,32,0,32,0,1,33,2200,null,{"$f":"M362","v":33},null,{"$f":"M362","v":33},null,{"$f":"M362*100/M1547","v":14.410480349344978},null,null,null,null,null,{"$f":"IF(M362=0,0,H362/M362)","v":0.96969696969696972},{"$f":"IF(M362=0,0,K362/M362)","v":0},{"$f":"IF(M362=0,0,L362/M362)","v":3.0303030303030304E-2},{"$f":"L362*100/B$1537","v":35.335689045936398},{"$f":"IF(M362=0,0,L362/M362)","v":3.0303030303030304E-2}]
["2020-02-25T18:00:00",5,"Veneto",12,7,19,23,42,10,10,0,1,43,3780,null,{"$f":"IF(Q363=\"x2\",M363,P362)","v":33},{"$f":"IF(M363>P362*2,\"x2\",P362)","v":33},{"$f":"IF(Q363=\"x2\",M363,\"\")","v":""},null,{"$f":"M363*100/M1548","v":13.354037267080745},{"$f":"IF(J363-J362=0,\"\",J363-J362)","v":-22},{"$f":"IF(K363-K362=0,\"\",K363-K362)","v":""},{"$f":"IF(L363-L362=0,\"\",L363-L362)","v":""},{"$f":"IF(M363-M362=0,\"\",M363-M362)","v":10},{"$f":"IF(N363-N362=0,\"\",N363-N362)","v":1580},0.97674418604651159,0,2.3255813953488372E-2,{"$f":"L363*100/B$1537","v":35.335689045936398},2.3255813953488372E-2]
["2020-02-26T18:00:00",5,"Veneto",16,8,24,45,69,27,27,0,2,71,4900,null,71,"x2",71,null,{"$f":"M364*100/M1549","v":17.75},17,"",1,28,1120,0.971830985915493,0,2.8169014084507043E-2,{"$f":"L364*100/B$1537","v":70.671378091872796},2.8169014084507043E-2]
["2020-02-27T18:00:00",5,"Veneto",19,8,27,82,109,40,40,0,2,111,6164,null,71,71,"",null,{"$f":"M365*100/M1550","v":17.076923076923077},13,"","",40,1264,0.98198198198198194,0,1.8018018018018018E-2,{"$f":"L365*100/B$1537","v":70.671378091872796},1.8018018018018018E-2]
["2020-02-28T18:00:00",5,"Veneto",24,9,33,116,149,40,40,0,2,151,7414,null,151,"x2",151,null,{"$f":"M366*100/M1551","v":17.004504504504503},"","","",40,1250,0.98675496688741726,0,1.3245033112582781E-2,{"$f":"L366*100/B$1537","v":70.671378091872796},1.3245033112582781E-2]
["2020-02-29T17:00:00",5,"Veneto",24,11,35,154,189,40,40,0,2,191,8659,null,151,151,"",null,{"$f":"M367*100/M1552","v":16.932624113475178},"","","",40,1245,0.98952879581151831,0,1.0471204188481676E-2,{"$f":"L367*100/B$1537","v":70.671378091872796},1.0471204188481676E-2]
["2020-03-01T17:00:00",5,"Veneto",51,13,64,197,261,72,72,0,2,263,9056,null,151,151,"",null,{"$f":"M368*100/M1553","v":15.52538370720189},32,"","",72,397,0.99239543726235746,0,7.6045627376425855E-3,{"$f":"L368*100/B$1537","v":70.671378091872796},7.6045627376425855E-3]
["2020-03-02T18:00:00",5,"Veneto",53,14,67,204,271,10,10,0,2,273,9782,null,151,151,"",null,{"$f":"M369*100/M1554","v":13.408644400785855},-62,"","",10,726,0.9926739926739927,0,7.326007326007326E-3,{"$f":"L369*100/B$1537","v":70.671378091872796},7.326007326007326E-3]
["2020-03-03T18:00:00",5,"Veneto",49,19,68,229,297,26,26,7,3,307,10176,null,307,"x2",307,null,{"$f":"M370*100/M1555","v":12.270183852917667},16,7,1,34,394,0.96742671009771986,2.2801302931596091E-2,9.7719869706840382E-3,{"$f":"L370*100/B$1537","v":106.00706713780919},9.7719869706840382E-3]
["2020-03-04T17:00:00",5,"Veneto",76,23,99,246,345,48,48,9,6,360,10515,null,307,307,"",null,{"$f":"M371*100/M1556","v":11.654257041113629},22,2,3,53,339,0.95833333333333337,2.5000000000000001E-2,1.6666666666666666E-2,{"$f":"L371*100/B$1537","v":212.01413427561837},1.6666666666666666E-2]
["2020-03-05T17:00:00",5,"Veneto",92,24,116,264,380,35,35,17,10,407,11949,null,307,307,"",null,{"$f":"M372*100/M1557","v":10.549507516848108},-13,8,4,47,1434,0.93366093366093361,4.1769041769041768E-2,2.4570024570024569E-2,{"$f":"L372*100/B$1537","v":353.35689045936397},2.4570024570024569E-2]
["2020-03-06T17:00:00",5,"Veneto",117,27,144,310,454,74,74,22,12,488,13023,null,307,307,"",null,{"$f":"M373*100/M1558","v":10.526315789473685},39,5,2,81,1074,0.93032786885245899,4.5081967213114756E-2,2.4590163934426229E-2,{"$f":"L373*100/B$1537","v":424.02826855123675},2.4590163934426229E-2]
["2020-03-07T18:00:00",5,"Veneto",123,41,164,341,505,51,51,25,13,543,14429,null,307,307,"",null,{"$f":"M374*100/M1559","v":9.2299847016828149},-23,3,1,55,1406,0.93001841620626147,4.6040515653775323E-2,2.3941068139963169E-2,{"$f":"L374*100/B$1537","v":459.36395759717311},2.3941068139963169E-2]
["2020-03-08T18:00:00",5,"Veneto",146,47,193,430,623,118,118,29,18,670,15918,null,670,"x2",670,null,{"$f":"M375*100/M1560","v":9.0847457627118651},67,4,5,127,1489,0.92985074626865671,4.3283582089552242E-2,2.6865671641791045E-2,{"$f":"L375*100/B$1537","v":636.0424028268551},2.6865671641791045E-2]
["2020-03-09T18:00:00",5,"Veneto",186,51,237,457,694,71,71,30,20,744,15956,null,670,670,"",null,{"$f":"M376*100/M1561","v":8.1116441343218497},-47,1,2,74,38,0.93279569892473113,4.0322580645161289E-2,2.6881720430107527E-2,{"$f":"L376*100/B$1537","v":706.71378091872793},2.6881720430107527E-2]
["2020-03-10T18:00:00",5,"Veneto",204,67,271,512,783,89,89,47,26,856,16643,null,670,670,"",null,{"$f":"M377*100/M1562","v":8.4343285052714556},18,17,6,112,687,0.91471962616822433,5.4906542056074766E-2,3.0373831775700934E-2,{"$f":"L377*100/B$1537","v":918.72791519434622},3.0373831775700934E-2]
["2020-03-11T17:00:00",5,"Veneto",262,68,330,610,940,157,157,54,29,1023,21400,null,670,670,"",null,{"$f":"M378*100/M1563","v":8.2089552238805972},68,7,3,167,4757,0.9188660801564027,5.2785923753665691E-2,2.8347996089931573E-2,{"$f":"L378*100/B$1537","v":1024.7349823321554},2.8347996089931573E-2]
["2020-03-12T17:00:00",5,"Veneto",360,85,445,852,1297,357,357,55,32,1384,23438,null,1384,"x2",1384,null,{"$f":"M379*100/M1564","v":9.1576788195593206},200,1,3,361,2038,0.93713872832369938,3.9739884393063585E-2,2.3121387283236993E-2,{"$f":"L379*100/B$1537","v":1130.7420494699647},2.3121387283236993E-2]
["2020-03-13T17:00:00",5,"Veneto",366,107,473,980,1453,156,156,100,42,1595,25691,null,1384,1384,"",null,{"$f":"M380*100/M1565","v":9.0317100792751983},-201,45,10,211,2253,0.91097178683385582,6.2695924764890276E-2,2.6332288401253918E-2,{"$f":"L380*100/B$1537","v":1484.0989399293285},2.6332288401253918E-2]
["2020-03-14T17:00:00",5,"Veneto",366,119,485,1290,1775,322,322,107,55,1937,26980,null,1384,1384,"",null,{"$f":"M381*100/M1566","v":9.155362291440186},166,7,13,342,1289,0.91636551368094987,5.5240061951471346E-2,2.8394424367578729E-2,{"$f":"L381*100/B$1537","v":1943.4628975265018},2.8394424367578729E-2]
["2020-03-15T17:00:00",5,"Veneto",426,129,555,1434,1989,214,214,120,63,2172,32546,null,1384,1384,"",null,{"$f":"M382*100/M1567","v":8.7768214329009577},-108,13,8,235,5566,0.91574585635359118,5.5248618784530384E-2,2.9005524861878452E-2,{"$f":"L382*100/B$1537","v":2226.1484098939927},2.9005524861878452E-2]
["2020-03-16T17:00:00",5,"Veneto",498,156,654,1620,2274,285,285,130,69,2473,35052,null,1384,1384,"",null,{"$f":"M383*100/M1568","v":8.838456040028591},71,10,6,301,2506,0.91953093408815201,5.2567731500202185E-2,2.7901334411645773E-2,{"$f":"L383*100/B$1537","v":2438.1625441696115},2.7901334411645773E-2]
["2020-03-17T17:00:00",5,"Veneto",548,171,719,1769,2488,214,214,136,80,2704,35478,null,1384,1384,"",null,{"$f":"M384*100/M1569","v":8.5824922237034222},-71,6,11,231,426,0.92011834319526631,5.0295857988165681E-2,2.9585798816568046E-2,{"$f":"L384*100/B$1537","v":2826.8551236749117},2.9585798816568046E-2]
["2020-03-18T17:00:00",5,"Veneto",646,195,841,2112,2953,465,465,167,94,3214,40841,null,3214,"x2",3214,null,{"$f":"M385*100/M1570","v":8.9995239828633835},251,31,14,510,5363,0.91879278158058497,5.1960174237710016E-2,2.924704418170504E-2,{"$f":"L385*100/B$1537","v":3321.5547703180209},2.924704418170504E-2]
["2020-03-19T17:00:00",5,"Veneto",771,209,980,2189,3169,216,216,200,115,3484,44658,null,3214,3214,"",null,{"$f":"M386*100/M1571","v":8.4903131473132696},-249,33,21,270,3817,0.90958668197474168,5.7405281285878303E-2,3.300803673938002E-2,{"$f":"L386*100/B$1537","v":4063.6042402826856},3.300803673938002E-2]
["2020-03-20T17:00:00",5,"Veneto",843,236,1079,2598,3677,508,508,223,131,4031,49288,null,3214,3214,"",null,{"$f":"M387*100/M1572","v":8.5727653601582272},292,23,16,547,4630,0.91218060034730841,5.5321260233192754E-2,3.2498139419498882E-2,{"$f":"L387*100/B$1537","v":4628.9752650176679},3.2498139419498882E-2]
["2020-03-21T17:00:00",5,"Veneto",942,249,1191,3023,4214,537,537,257,146,4617,53642,null,3214,3214,"",null,{"$f":"M388*100/M1573","v":8.6173429392661163},29,34,15,586,4354,0.91271388347411742,5.5663850985488414E-2,3.1622265540394198E-2,{"$f":"L388*100/B$1537","v":5159.0106007067134},3.1622265540394198E-2]
["2020-03-22T17:00:00",5,"Veneto",1113,255,1368,3276,4644,430,430,309,169,5122,57671,null,3214,3214,"",null,{"$f":"M389*100/M1574","v":8.6610977713145516},-107,52,23,505,4029,0.90667707926591179,6.0327996876220223E-2,3.2994923857868022E-2,{"$f":"L389*100/B$1537","v":5971.7314487632511},3.2994923857868022E-2]
["2020-03-23T17:00:00",5,"Veneto",1206,281,1487,3499,4986,342,342,327,192,5505,61115,null,3214,3214,"",null,{"$f":"M390*100/M1575","v":8.6113848608569157},-88,18,23,383,3444,0.9057220708446867,5.9400544959128068E-2,3.4877384196185288E-2,{"$f":"L390*100/B$1537","v":6784.452296819788},3.4877384196185288E-2]
["2020-03-24T17:00:00",5,"Veneto",1318,304,1622,3729,5351,365,365,381,216,5948,66178,null,3214,3214,"",null,{"$f":"M391*100/M1576","v":8.5983578119579036},23,54,24,443,5063,0.89963012777404172,6.4055144586415605E-2,3.6314727639542702E-2,{"$f":"L391*100/B$1537","v":7632.5088339222611},3.6314727639542702E-2]
["2020-03-25T17:00:00",5,"Veneto",1407,316,1723,4022,5745,394,394,439,258,6442,70877,null,6442,"x2",6442,null,{"$f":"M392*100/M1577","v":8.6602317640416207},29,58,42,494,4699,0.89180378764358892,6.8146538342129775E-2,4.0049674014281278E-2,{"$f":"L392*100/B$1537","v":9116.6077738515905},4.0049674014281278E-2]
["2020-03-26T17:00:00",5,"Veneto",1447,326,1773,4367,6140,395,395,508,287,6935,79759,null,6442,6442,"",null,{"$f":"M393*100/M1578","v":8.6107351717801315},1,69,29,493,8882,0.88536409516943038,7.3251622206200434E-2,4.1384282624369141E-2,{"$f":"L393*100/B$1537","v":10141.342756183745},4.1384282624369141E-2]
["2020-03-27T17:00:00",5,"Veneto",1536,338,1874,4774,6648,508,562,536,313,7497,83627,null,6442,6442,"",null,{"$f":"M394*100/M1579","v":8.6672524220213187},167,28,26,562,3868,{"$f":"IF(M394=0,0,H394/M394)","v":0.88675470188075234},{"$f":"IF(M394=0,0,K394/M394)","v":7.1495264772575701E-2},{"$f":"IF(M394=0,0,L394/M394)","v":4.1750033346672002E-2},{"$f":"L394*100/B$1537","v":11060.070671378091},4.1750033346672002E-2]
["2020-03-28T17:00:00",5,"Veneto",1559,344,1903,5010,6913,265,433,655,362,7930,89380,null,{"$f":"IF(Q395=\"x2\",M395,P394)","v":6442},{"$f":"IF(M395>P394*2,\"x2\",P394)","v":6442},{"$f":"IF(Q395=\"x2\",M395,\"\")","v":""},null,{"$f":"M395*100/M1580","v":8.5755688208322525},{"$f":"IF(J395-J394=0,\"\",J395-J394)","v":-129},{"$f":"IF(K395-K394=0,\"\",K395-K394)","v":119},{"$f":"IF(L395-L394=0,\"\",L395-L394)","v":49},{"$f":"IF(M395-M394=0,\"\",M395-M394)","v":433},{"$f":"IF(N395-N394=0,\"\",N395-N394)","v":5753},0.8717528373266078,8.2597730138713743E-2,4.5649432534678437E-2,{"$f":"L395*100/B$1537","v":12791.519434628975},4.5649432534678437E-2]
["2020-03-29T17:00:00",5,"Veneto",1586,355,1941,5310,7251,338,428,715,392,8358,94784,null,6442,6442,"",null,{"$f":"M396*100/M1581","v":8.5557227528176156},-5,60,30,428,5404,0.8675520459440057,8.5546781526681021E-2,4.690117252931323E-2,{"$f":"L396*100/B$1537","v":13851.590106007066},4.690117252931323E-2]
["2020-03-30T17:00:00",5,"Veneto",1633,356,1989,5575,7564,313,366,747,413,8724,99941,null,6442,6442,"",null,{"$f":"M397*100/M1582","v":8.5748827883112675},-62,32,21,366,5157,0.86703347088491522,8.5625859697386522E-2,4.7340669417698301E-2,{"$f":"L397*100/B$1537","v":14593.639575971731},4.7340669417698301E-2]
["2020-03-31T17:00:00",5,"Veneto",1680,356,2036,5814,7850,286,431,828,477,9155,106238,null,6442,6442,"",null,{"$f":"M398*100/M1583","v":8.6537734422262549},65,81,64,431,6297,0.85745494265428723,9.0442381212452211E-2,5.2102676133260514E-2,{"$f":"L398*100/B$1537","v":16855.123674911662},5.2102676133260514E-2]
["2020-04-01T17:00:00",5,"Veneto",1718,350,2068,6156,8224,374,470,902,499,9625,112746,null,6442,6442,"",null,{"$f":"M399*100/M1584","v":8.7045779297122294},39,74,22,470,6508,0.85444155844155845,9.3714285714285708E-2,5.1844155844155845E-2,{"$f":"L399*100/B$1537","v":17632.50883392226},5.1844155844155845E-2]
["2020-04-02T17:00:00",5,"Veneto",1670,345,2015,6563,8578,354,486,1001,532,10111,120320,null,6442,6442,"",null,{"$f":"M400*100/M1585","v":8.7737109734298251},16,99,33,486,7574,0.8483829492631787,9.9001087924043121E-2,5.261596281277816E-2,{"$f":"L400*100/B$1537","v":18798.586572438162},5.261596281277816E-2]
["2020-04-03T17:00:00",5,"Veneto",1714,335,2049,6812,8861,283,353,1031,572,10464,126490,null,6442,6442,"",null,{"$f":"M401*100/M1586","v":8.7325894831715729},-133,30,40,353,6170,0.84680810397553519,9.8528287461773695E-2,5.4663608562691132E-2,{"$f":"L401*100/B$1537","v":20212.014134275618},5.4663608562691132E-2]
["2020-04-04T17:00:00",5,"Veneto",1691,324,2015,7078,9093,232,360,1124,607,10824,133289,null,6442,6442,"",null,{"$f":"M402*100/M1587","v":8.6847679568650111},7,93,35,360,6799,0.84007760532150777,0.10384331116038432,5.6079083518107906E-2,{"$f":"L402*100/B$1537","v":21448.763250883392},5.6079083518107906E-2]
["2020-04-05T17:00:00",5,"Veneto",1674,329,2003,7406,9409,316,402,1186,631,11226,140910,null,6442,6442,"",null,{"$f":"M403*100/M1588","v":8.7058349101963586},42,62,24,402,7621,0.83814359522536963,0.10564760377694637,5.6208800997683946E-2,{"$f":"L403*100/B$1537","v":22296.819787985864},5.6208800997683946E-2]
["2020-04-06T17:00:00",5,"Veneto",1714,322,2036,7686,9722,313,362,1204,662,11588,146288,null,6442,6442,"",null,{"$f":"M404*100/M1589","v":8.7425592431363963},-40,18,31,362,5378,0.83897134967207454,0.10390058681394546,5.7128063513979976E-2,{"$f":"L404*100/B$1537","v":23392.226148409893},5.7128063513979976E-2]
["2020-04-07T17:00:00",5,"Veneto",1579,297,1876,8089,9965,243,337,1265,695,11925,153542,null,6442,6442,"",null,{"$f":"M405*100/M1590","v":8.7951558420485885},-25,61,33,337,7254,0.83563941299790356,0.1060796645702306,5.8280922431865827E-2,{"$f":"L405*100/B$1537","v":24558.303886925794},5.8280922431865827E-2]
["2020-04-08T17:00:00",5,"Veneto",1554,285,1839,8332,10171,206,485,1503,736,12410,163247,null,6442,6442,"",null,{"$f":"M406*100/M1591","v":8.90103427005781},148,238,41,485,9705,0.81958098307816274,0.12111200644641418,5.9307010475423048E-2,{"$f":"L406*100/B$1537","v":26007.067137809187},5.9307010475423048E-2]
["2020-04-09T17:00:00",5,"Veneto",1530,274,1804,8645,10449,278,523,1728,756,12933,171456,null,12933,"x2",12933,null,{"$f":"M407*100/M1592","v":9.0046370434322469},38,225,20,523,8209,0.8079331941544885,0.1336116910229645,5.845511482254697E-2,{"$f":"L407*100/B$1537","v":26713.780918727916},5.845511482254697E-2]
["2020-04-10T17:00:00",5,"Veneto",1521,257,1778,8869,10647,198,488,1981,793,13421,180700,null,12933,12933,"",null,{"$f":"M408*100/M1593","v":9.0942355516103461},-35,253,37,488,9244,0.7933089933686015,0.14760450040980552,5.9086506221593026E-2,{"$f":"L408*100/B$1537","v":28021.20141342756},5.9086506221593026E-2]
["2020-04-11T17:00:00",5,"Veneto",1465,251,1716,9033,10749,102,347,2188,831,13768,190912,null,12933,12933,"",null,{"$f":"M409*100/M1594","v":9.041774205199939},-141,207,38,347,10212,0.78072341661824518,0.15891923300406741,6.0357350377687392E-2,{"$f":"L409*100/B$1537","v":29363.957597173143},6.0357350377687392E-2]
["2020-04-12T17:00:00",5,"Veneto",1428,249,1677,9052,10729,-20,309,2492,856,14077,198442,null,12933,12933,"",null,{"$f":"M410*100/M1595","v":9.0027691973164998},-38,304,25,309,7530,0.76216523406975922,0.17702635504724018,6.0808410883000638E-2,{"$f":"L410*100/B$1537","v":30247.349823321554},6.0808410883000638E-2]
["2020-04-13T17:00:00",5,"Veneto",1427,245,1672,9094,10766,37,174,2603,882,14251,203077,null,12933,12933,"",null,{"$f":"M411*100/M1596","v":8.9339000476441228},-135,111,26,174,4635,0.75545575749070237,0.1826538488527121,6.1890393656585503E-2,{"$f":"L411*100/B$1537","v":31166.077738515902},6.1890393656585503E-2]
["2020-04-14T17:00:00",5,"Veneto",1427,233,1660,9076,10736,-30,181,2790,906,14432,208878,null,12933,12933,"",null,{"$f":"M412*100/M1597","v":8.8818866623996851},7,187,24,181,5801,0.74390243902439024,0.19332039911308205,6.2777161862527714E-2,{"$f":"L412*100/B$1537","v":32014.134275618373},6.2777161862527714E-2]
["2020-04-15T17:00:00",5,"Veneto",1402,219,1621,9168,10789,53,192,2895,940,14624,216344,null,12933,12933,"",null,{"$f":"M413*100/M1598","v":8.8547122400169531},11,105,34,192,7466,0.73775984682713347,0.19796225382932167,6.4277899343544859E-2,{"$f":"L413*100/B$1537","v":33215.547703180215},6.4277899343544859E-2]
["2020-04-16T17:00:00",5,"Veneto",1388,209,1597,9203,10800,11,366,3209,981,14990,224549,null,12933,12933,"",null,{"$f":"M414*100/M1599","v":8.8729201318803614},174,314,41,366,8205,0.72048032021347563,0.21407605070046698,6.5443629086057373E-2,{"$f":"L414*100/B$1537","v":34664.310954063607},6.5443629086057373E-2]
["2020-04-17T17:00:00",5,"Veneto",1359,197,1556,9062,10618,-182,384,3730,1026,15374,236722,null,{"$f":"IF(Q415=\"x2\",M415,P414)","v":12933},{"$f":"IF(M415>P414*2,\"x2\",P414)","v":12933},{"$f":"IF(Q415=\"x2\",M415,\"\")","v":""},null,{"$f":"M415*100/M1600","v":8.9158750594430334},{"$f":"IF(J415-J414=0,\"\",J415-J414)","v":18},{"$f":"IF(K415-K414=0,\"\",K415-K414)","v":521},{"$f":"IF(L415-L414=0,\"\",L415-L414)","v":45},{"$f":"IF(M415-M414=0,\"\",M415-M414)","v":384},{"$f":"IF(N415-N414=0,\"\",N415-N414)","v":12173},{"$f":"IF(M415=0,0,H415/M415)","v":0.69064654611682064},{"$f":"IF(M415=0,0,K415/M415)","v":0.242617406010147},{"$f":"IF(M415=0,0,L415/M415)","v":6.6736047873032389E-2},{"$f":"L415*100/B$1537","v":36254.416961130744},6.6736047873032389E-2]
["2020-04-18T17:00:00",5,"Veneto",1287,190,1477,8967,10444,-174,318,4189,1059,15692,247329,null,{"$f":"IF(Q416=\"x2\",M416,P415)","v":12933},{"$f":"IF(M416>P415*2,\"x2\",P415)","v":12933},{"$f":"IF(Q416=\"x2\",M416,\"\")","v":""},null,{"$f":"M416*100/M1601","v":8.9197101037373887},{"$f":"IF(J416-J415=0,\"\",J416-J415)","v":-66},{"$f":"IF(K416-K415=0,\"\",K416-K415)","v":459},{"$f":"IF(L416-L415=0,\"\",L416-L415)","v":33},{"$f":"IF(M416-M415=0,\"\",M416-M415)","v":318},{"$f":"IF(N416-N415=0,\"\",N416-N415)","v":10607},{"$f":"IF(M416=0,0,H416/M416)","v":0.66556206984450672},{"$f":"IF(M416=0,0,K416/M416)","v":0.26695131277083867},{"$f":"IF(M416=0,0,L416/M416)","v":6.7486617384654599E-2},{"$f":"L416*100/B$1537","v":37420.494699646639},6.7486617384654599E-2]
["2020-04-19T17:00:00",5,"Veneto",1264,184,1448,8762,10210,-234,243,4638,1087,15935,255797,161231,{"$f":"IF(Q417=\"x2\",M417,P416)","v":12933},{"$f":"IF(M417>P416*2,\"x2\",P416)","v":12933},{"$f":"IF(Q417=\"x2\",M417,\"\")","v":""},null,{"$f":"M417*100/M1602","v":8.9036273830543333},{"$f":"IF(J417-J416=0,\"\",J417-J416)","v":-75},{"$f":"IF(K417-K416=0,\"\",K417-K416)","v":449},{"$f":"IF(L417-L416=0,\"\",L417-L416)","v":28},{"$f":"IF(M417-M416=0,\"\",M417-M416)","v":243},{"$f":"IF(N417-N416=0,\"\",N417-N416)","v":8468},{"$f":"IF(M417=0,0,H417/M417)","v":0.64072795732663945},{"$f":"IF(M417=0,0,K417/M417)","v":0.29105742077188579},{"$f":"IF(M417=0,0,L417/M417)","v":6.8214621901474745E-2},{"$f":"L417*100/B$1537","v":38409.893992932863},6.8214621901474745E-2]
["2020-04-20T17:00:00",5,"Veneto",1273,180,1453,8608,10061,-149,192,4954,1112,16127,260810,163757,{"$f":"IF(Q418=\"x2\",M418,P417)","v":12933},{"$f":"IF(M418>P417*2,\"x2\",P417)","v":12933},{"$f":"IF(Q418=\"x2\",M418,\"\")","v":""},null,{"$f":"M418*100/M1603","v":8.8987352947668139},{"$f":"IF(J418-J417=0,\"\",J418-J417)","v":-51},{"$f":"IF(K418-K417=0,\"\",K418-K417)","v":316},{"$f":"IF(L418-L417=0,\"\",L418-L417)","v":25},{"$f":"IF(M418-M417=0,\"\",M418-M417)","v":192},{"$f":"IF(N418-N417=0,\"\",N418-N417)","v":5013},{"$f":"IF(M418=0,0,H418/M418)","v":0.62386060643641095},{"$f":"IF(M418=0,0,K418/M418)","v":0.30718670552489613},{"$f":"IF(M418=0,0,L418/M418)","v":6.895268803869288E-2},{"$f":"L418*100/B$1537","v":39293.286219081274},6.895268803869288E-2]
["2020-04-21T17:00:00",5,"Veneto",1230,177,1407,8670,10077,16,277,5173,1154,16404,268069,167129,12933,{"$f":"IF(M419>P418*2,\"x2\",P418)","v":12933},{"$f":"IF(Q419=\"x2\",M419,\"\")","v":""},null,{"$f":"M419*100/M1604","v":8.9173013258533249},{"$f":"IF(J419-J418=0,\"\",J419-J418)","v":85},{"$f":"IF(K419-K418=0,\"\",K419-K418)","v":219},{"$f":"IF(L419-L418=0,\"\",L419-L418)","v":42},{"$f":"IF(M419-M418=0,\"\",M419-M418)","v":277},{"$f":"IF(N419-N418=0,\"\",N419-N418)","v":7259},{"$f":"IF(M419=0,0,H419/M419)","v":0.61430138990490124},{"$f":"IF(M419=0,0,K419/M419)","v":0.3153499146549622},{"$f":"IF(M419=0,0,L419/M419)","v":7.0348695440136555E-2},{"$f":"L419*100/B$1537","v":40777.385159010599},7.0348695440136555E-2]
["2020-04-22T17:00:00",5,"Veneto",1205,163,1368,8623,9991,-86,334,5566,1181,16738,277543,171735,12933,{"$f":"IF(M420>P419*2,\"x2\",P419)","v":12933},{"$f":"IF(Q420=\"x2\",M420,\"\")","v":""},null,{"$f":"M420*100/M1605","v":8.9351775237952893},{"$f":"IF(J420-J419=0,\"\",J420-J419)","v":57},{"$f":"IF(K420-K419=0,\"\",K420-K419)","v":393},{"$f":"IF(L420-L419=0,\"\",L420-L419)","v":27},{"$f":"IF(M420-M419=0,\"\",M420-M419)","v":334},{"$f":"IF(N420-N419=0,\"\",N420-N419)","v":9474},{"$f":"IF(M420=0,0,H420/M420)","v":0.59690524554905011},{"$f":"IF(M420=0,0,K420/M420)","v":0.3325367427410682},{"$f":"IF(M420=0,0,L420/M420)","v":7.0558011709881713E-2},{"$f":"L420*100/B$1537","v":41731.448763250883},7.0558011709881713E-2]
["2020-04-23T17:00:00",5,"Veneto",1189,140,1329,8596,9925,-66,143,5750,1206,16881,288075,177154,{"$f":"IF(Q421=\"x2\",M421,P420)","v":12933},{"$f":"IF(M421>P420*2,\"x2\",P420)","v":12933},{"$f":"IF(Q421=\"x2\",M421,\"\")","v":""},null,{"$f":"M421*100/M1606","v":8.8859995894153379},{"$f":"IF(J421-J420=0,\"\",J421-J420)","v":-191},{"$f":"IF(K421-K420=0,\"\",K421-K420)","v":184},{"$f":"IF(L421-L420=0,\"\",L421-L420)","v":25},{"$f":"IF(M421-M420=0,\"\",M421-M420)","v":143},{"$f":"IF(N421-N420=0,\"\",N421-N420)","v":10532},{"$f":"IF(M421=0,0,H421/M421)","v":0.58793910313370057},{"$f":"IF(M421=0,0,K421/M421)","v":0.34061963153841596},{"$f":"IF(M421=0,0,L421/M421)","v":7.1441265327883419E-2},{"$f":"L421*100/B$1537","v":42614.840989399294},{"$f":"IF(M421=0,0,L421/M421)","v":7.1441265327883419E-2}]
["2020-04-24T17:00:00",5,"Veneto",1159,130,1289,8390,9679,-246,348,6306,1244,17229,296896,181473,{"$f":"IF(Q422=\"x2\",M422,P421)","v":12933},{"$f":"IF(M422>P421*2,\"x2\",P421)","v":12933},{"$f":"IF(Q422=\"x2\",M422,\"\")","v":""},null,{"$f":"M422*100/M1607","v":8.9272205353534311},{"$f":"IF(J422-J421=0,\"\",J422-J421)","v":205},{"$f":"IF(K422-K421=0,\"\",K422-K421)","v":556},{"$f":"IF(L422-L421=0,\"\",L422-L421)","v":38},{"$f":"IF(M422-M421=0,\"\",M422-M421)","v":348},{"$f":"IF(N422-N421=0,\"\",N422-N421)","v":8821},{"$f":"IF(M422=0,0,H422/M422)","v":0.56178536188983685},{"$f":"IF(M422=0,0,K422/M422)","v":0.36601079575134948},{"$f":"IF(M422=0,0,L422/M422)","v":7.2203842358813622E-2},{"$f":"L422*100/B$1537","v":43957.597173144874},{"$f":"IF(M422=0,0,L422/M422)","v":7.2203842358813622E-2}]
["2020-04-25T17:00:00",5,"Veneto",1105,129,1234,8198,9432,-247,162,6671,1288,17391,306977,186426,{"$f":"IF(Q423=\"x2\",M423,P422)","v":12933},{"$f":"IF(M423>P422*2,\"x2\",P422)","v":12933},{"$f":"IF(Q423=\"x2\",M423,\"\")","v":""},null,{"$f":"M423*100/M1608","v":8.9024371515886784},{"$f":"IF(J423-J422=0,\"\",J423-J422)","v":-186},{"$f":"IF(K423-K422=0,\"\",K423-K422)","v":365},{"$f":"IF(L423-L422=0,\"\",L423-L422)","v":44},{"$f":"IF(M423-M422=0,\"\",M423-M422)","v":162},{"$f":"IF(N423-N422=0,\"\",N423-N422)","v":10081},{"$f":"IF(M423=0,0,H423/M423)","v":0.54234949111609454},{"$f":"IF(M423=0,0,K423/M423)","v":0.38358921281122421},{"$f":"IF(M423=0,0,L423/M423)","v":7.4061296072681276E-2},{"$f":"L423*100/B$1537","v":45512.367491166078},{"$f":"IF(M423=0,0,L423/M423)","v":7.4061296072681276E-2}]
["2020-04-26T17:00:00",5,"Veneto",1097,124,1221,7917,9138,-294,80,7018,1315,17471,316361,183513,{"$f":"IF(Q424=\"x2\",M424,P423)","v":12933},{"$f":"IF(M424>P423*2,\"x2\",P423)","v":12933},{"$f":"IF(Q424=\"x2\",M424,\"\")","v":""},null,{"$f":"M424*100/M1609","v":8.8382445933982545},{"$f":"IF(J424-J423=0,\"\",J424-J423)","v":-82},{"$f":"IF(K424-K423=0,\"\",K424-K423)","v":347},{"$f":"IF(L424-L423=0,\"\",L424-L423)","v":27},{"$f":"IF(M424-M423=0,\"\",M424-M423)","v":80},{"$f":"IF(N424-N423=0,\"\",N424-N423)","v":9384},{"$f":"IF(M424=0,0,H424/M424)","v":0.52303817755137083},{"$f":"IF(M424=0,0,K424/M424)","v":0.40169423616278405},{"$f":"IF(M424=0,0,L424/M424)","v":7.5267586285845109E-2},{"$f":"L424*100/B$1537","v":46466.431095406362},{"$f":"IF(M424=0,0,L424/M424)","v":7.5267586285845109E-2}]
["2020-04-27T17:00:00",5,"Veneto",1099,123,1222,7638,8860,-278,108,7375,1344,17579,320027,192751,{"$f":"IF(Q425=\"x2\",M425,P424)","v":12933},{"$f":"IF(M425>P424*2,\"x2\",P424)","v":12933},{"$f":"IF(Q425=\"x2\",M425,\"\")","v":""},null,{"$f":"M425*100/M1610","v":8.8153289137171917},{"$f":"IF(J425-J424=0,\"\",J425-J424)","v":28},{"$f":"IF(K425-K424=0,\"\",K425-K424)","v":357},{"$f":"IF(L425-L424=0,\"\",L425-L424)","v":29},{"$f":"IF(M425-M424=0,\"\",M425-M424)","v":108},{"$f":"IF(N425-N424=0,\"\",N425-N424)","v":3666},{"$f":"IF(M425=0,0,H425/M425)","v":0.50401046703452979},{"$f":"IF(M425=0,0,K425/M425)","v":0.41953467205188011},{"$f":"IF(M425=0,0,L425/M425)","v":7.6454860913590078E-2},{"$f":"L425*100/B$1537","v":47491.166077738511},{"$f":"IF(M425=0,0,L425/M425)","v":7.6454860913590078E-2}]
[{"$f":"A425 + 1","v":"2020-04-28T17:00:00"},null,null,null,null,null,null,null,null,null,null,null,null,null,null,null,"Media x2",{"$f":"COUNT(N362:N425) / COUNT(R362:R425)","v":7.1111111111111107}]
[{"$f":"A426+1","v":"2020-04-29T17:00:00"}]
[{"$f":"A427+1","v":"2020-04-30T17:00:00"}]
[null,null,null,null,{"$f":"E425/$M425","v":6.9969850389669493E-3},null,null,{"$f":"H425/$M425","v":0.50401046703452979},null,null,{"$f":"K425/$M425","v":0.41953467205188011},{"$f":"L425/$M425","v":7.6454860913590078E-2},null,{"$f":"N425/$M425","v":18.205074236304682}]
[]
[]
[]
["Data","Codice","Regione","Ricoverati","Terap. Intens.","Ospedalizzati","Quarantena","Positivi","+ Positivi","Nuovi","Guariti","Deceduti","Totale","Tamponi","Testati",null,null,"x 2",null,"% su Tot.","+ Nuovi","+ Guariti","+ Deceduti","+ Totali","+ Tamponi","% Positivi","% Guariti","% Deceduti","P. Stimati","% Morti"]
["2020-02-24T18:00:00",6,"Friuli Venezia Giulia",0,0,0,0,0,0,0,0,0,0,58,null,{"$f":"M434","v":0},null,{"$f":"M434","v":0},null,{"$f":"M434*100/M1547","v":0},null,null,null,null,null,{"$f":"IF(M434=0,0,H434/M434)","v":0},{"$f":"IF(M434=0,0,K434/M434)","v":0},{"$f":"IF(M434=0,0,L434/M434)","v":0},{"$f":"L434*100/B$1537","v":0},{"$f":"IF(M434=0,0,L434/M434)","v":0}]
["2020-02-25T18:00:00",6,"Friuli Venezia Giulia",0,0,0,0,0,0,0,0,0,0,89,null,{"$f":"IF(Q435=\"x2\",M435,P434)","v":0},{"$f":"IF(M435>P434*2,\"x2\",P434)","v":0},{"$f":"IF(Q435=\"x2\",M435,\"\")","v":""},null,{"$f":"M435*100/M1548","v":0},{"$f":"IF(J435-J434=0,\"\",J435-J434)","v":""},{"$f":"IF(K435-K434=0,\"\",K435-K434)","v":""},{"$f":"IF(L435-L434=0,\"\",L435-L434)","v":""},{"$f":"IF(M435-M434=0,\"\",M435-M434)","v":""},{"$f":"IF(N435-N434=0,\"\",N435-N434)","v":31},0,0,0,{"$f":"L435*100/B$1537","v":0},0]
["2020-02-26T18:00:00",6,"Friuli Venezia Giulia",0,0,0,0,0,0,0,0,0,0,114,null,0,0,"",null,{"$f":"M436*100/M1549","v":0},"","","","",25,0,0,0,{"$f":"L436*100/B$1537","v":0},0]
["2020-02-27T18:00:00",6,"Friuli Venezia Giulia",0,0,0,0,0,0,0,0,0,0,141,null,0,0,"",null,{"$f":"M437*100/M1550","v":0},"","","","",27,0,0,0,{"$f":"L437*100/B$1537","v":0},0]
["2020-02-28T18:00:00",6,"Friuli Venezia Giulia",0,0,0,0,0,0,0,0,0,0,169,null,0,0,"",null,{"$f":"M438*100/M1551","v":0},"","","","",28,0,0,0,{"$f":"L438*100/B$1537","v":0},0]
["2020-02-29T17:00:00",6,"Friuli Venezia Giulia",0,0,0,0,0,0,0,0,0,0,189,null,0,0,"",null,{"$f":"M439*100/M1552","v":0},"","","","",20,0,0,0,{"$f":"L439*100/B$1537","v":0},0]
["2020-03-01T17:00:00",6,"Friuli Venezia Giulia",0,0,0,6,6,6,6,0,0,6,243,null,6,"x2",6,null,{"$f":"M440*100/M1553","v":0.35419126328217237},6,"","",6,54,1,0,0,{"$f":"L440*100/B$1537","v":0},0]
["2020-03-02T18:00:00",6,"Friuli Venezia Giulia",0,0,0,9,9,3,3,0,0,9,269,null,6,6,"",null,{"$f":"M441*100/M1554","v":0.44204322200392926},-3,"","",3,26,1,0,0,{"$f":"L441*100/B$1537","v":0},0]
["2020-03-03T18:00:00",6,"Friuli Venezia Giulia",1,0,1,12,13,4,4,0,0,13,354,null,13,"x2",13,null,{"$f":"M442*100/M1555","v":0.51958433253397285},1,"","",4,85,1,0,0,{"$f":"L442*100/B$1537","v":0},0]
["2020-03-04T17:00:00",6,"Friuli Venezia Giulia",3,0,3,15,18,5,5,0,0,18,376,null,13,13,"",null,{"$f":"M443*100/M1556","v":0.58271285205568146},1,"","",5,22,1,0,0,{"$f":"L443*100/B$1537","v":0},0]
["2020-03-05T17:00:00",6,"Friuli Venezia Giulia",4,0,4,17,21,3,3,0,0,21,397,null,13,13,"",null,{"$f":"M444*100/M1557","v":0.54432348367029548},-2,"","",3,21,1,0,0,{"$f":"L444*100/B$1537","v":0},0]
["2020-03-06T17:00:00",6,"Friuli Venezia Giulia",4,0,4,24,28,7,7,3,0,31,577,null,31,"x2",31,null,{"$f":"M445*100/M1558","v":0.66867989646246762},4,3,"",10,180,0.90322580645161288,9.6774193548387094E-2,0,{"$f":"L445*100/B$1537","v":0},0]
["2020-03-07T18:00:00",6,"Friuli Venezia Giulia",7,1,8,31,39,11,11,3,0,42,577,null,31,31,"",null,{"$f":"M446*100/M1559","v":0.71392146863844974},4,"","",11,"",0.9285714285714286,7.1428571428571425E-2,0,{"$f":"L446*100/B$1537","v":0},0]
["2020-03-08T18:00:00",6,"Friuli Venezia Giulia",7,1,8,45,53,14,14,3,1,57,997,null,31,31,"",null,{"$f":"M447*100/M1560","v":0.77288135593220342},3,"",1,15,420,0.92982456140350878,5.2631578947368418E-2,1.7543859649122806E-2,{"$f":"L447*100/B$1537","v":35.335689045936398},1.7543859649122806E-2]
["2020-03-09T18:00:00",6,"Friuli Venezia Giulia",18,1,19,70,89,36,36,3,1,93,1344,null,93,"x2",93,null,{"$f":"M448*100/M1561","v":1.0139555167902312},22,"","",36,347,0.956989247311828,3.2258064516129031E-2,1.0752688172043012E-2,{"$f":"L448*100/B$1537","v":35.335689045936398},1.0752688172043012E-2]
["2020-03-10T18:00:00",6,"Friuli Venezia Giulia",27,6,33,77,110,21,21,3,3,116,1602,null,93,93,"",null,{"$f":"M449*100/M1562","v":1.1429697507143561},-15,"",2,23,258,0.94827586206896552,2.5862068965517241E-2,2.5862068965517241E-2,{"$f":"L449*100/B$1537","v":106.00706713780919},2.5862068965517241E-2]
["2020-03-11T17:00:00",6,"Friuli Venezia Giulia",16,5,21,89,110,0,0,10,6,126,2073,null,93,93,"",null,{"$f":"M450*100/M1563","v":1.0110736639383726},-21,7,3,10,471,0.87301587301587302,7.9365079365079361E-2,4.7619047619047616E-2,{"$f":"L450*100/B$1537","v":212.01413427561837},4.7619047619047616E-2]
["2020-03-12T17:00:00",6,"Friuli Venezia Giulia",23,10,33,115,148,38,38,11,8,167,2604,null,93,93,"",null,{"$f":"M451*100/M1564","v":1.105008932706941},38,1,2,41,531,0.88622754491017963,6.5868263473053898E-2,4.790419161676647E-2,{"$f":"L451*100/B$1537","v":282.68551236749119},4.790419161676647E-2]
["2020-03-13T17:00:00",6,"Friuli Venezia Giulia",59,8,67,169,236,88,88,11,10,257,3149,null,257,"x2",257,null,{"$f":"M452*100/M1565","v":1.4552661381653453},50,"",2,90,545,0.91828793774319062,4.2801556420233464E-2,3.8910505836575876E-2,{"$f":"L452*100/B$1537","v":353.35689045936397},3.8910505836575876E-2]
["2020-03-14T17:00:00",6,"Friuli Venezia Giulia",67,11,78,193,271,35,35,17,13,301,3376,null,257,257,"",null,{"$f":"M453*100/M1566","v":1.4226969797230231},-53,6,3,44,227,0.90033222591362128,5.647840531561462E-2,4.3189368770764118E-2,{"$f":"L453*100/B$1537","v":459.36395759717311},4.3189368770764118E-2]
["2020-03-15T17:00:00",6,"Friuli Venezia Giulia",98,12,110,206,316,45,45,17,14,347,3407,null,257,257,"",null,{"$f":"M454*100/M1567","v":1.4021901644643795},10,"",1,46,31,0.91066282420749278,4.8991354466858789E-2,4.0345821325648415E-2,{"$f":"L454*100/B$1537","v":494.69964664310953},4.0345821325648415E-2]
["2020-03-16T17:00:00",6,"Friuli Venezia Giulia",96,19,115,231,346,30,30,18,22,386,4851,null,257,257,"",null,{"$f":"M455*100/M1568","v":1.3795568263045033},-15,1,8,39,1444,0.89637305699481862,4.6632124352331605E-2,5.6994818652849742E-2,{"$f":"L455*100/B$1537","v":777.38515901060066},5.6994818652849742E-2]
["2020-03-17T17:00:00",6,"Friuli Venezia Giulia",104,21,125,222,347,1,1,17,30,394,4958,null,257,257,"",null,{"$f":"M456*100/M1569","v":1.2505554497556022},-29,-1,8,8,107,0.88071065989847719,4.3147208121827409E-2,7.6142131979695438E-2,{"$f":"L456*100/B$1537","v":1060.0706713780919},7.6142131979695438E-2]
["2020-03-18T17:00:00",6,"Friuli Venezia Giulia",128,27,155,261,416,69,69,15,31,462,4958,null,257,257,"",null,{"$f":"M457*100/M1570","v":1.2936465712765659},68,-2,1,68,"",0.90043290043290047,3.2467532467532464E-2,6.7099567099567103E-2,{"$f":"L457*100/B$1537","v":1095.4063604240282},6.7099567099567103E-2]
["2020-03-19T17:00:00",6,"Friuli Venezia Giulia",134,29,163,359,522,106,106,41,36,599,4052,null,599,"x2",599,null,{"$f":"M458*100/M1571","v":1.4597294992079932},37,26,5,137,-906,0.87145242070116857,6.8447412353923209E-2,6.0100166944908183E-2,{"$f":"L458*100/B$1537","v":1272.0848056537102},6.0100166944908183E-2]
["2020-03-20T17:00:00",6,"Friuli Venezia Giulia",143,32,175,380,555,33,33,63,38,656,4964,null,599,599,"",null,{"$f":"M459*100/M1572","v":1.3951213287679973},-73,22,2,57,912,0.84603658536585369,9.6036585365853661E-2,5.7926829268292686E-2,{"$f":"L459*100/B$1537","v":1342.756183745583},5.7926829268292686E-2]
["2020-03-21T17:00:00",6,"Friuli Venezia Giulia",152,37,189,477,666,111,111,82,42,790,5955,null,599,599,"",null,{"$f":"M460*100/M1573","v":1.4744857964089739},78,19,4,134,991,0.84303797468354436,0.10379746835443038,5.3164556962025315E-2,{"$f":"L460*100/B$1537","v":1484.0989399293285},5.3164556962025315E-2]
["2020-03-22T17:00:00",6,"Friuli Venezia Giulia",163,47,210,528,738,72,72,89,47,874,6761,null,599,599,"",null,{"$f":"M461*100/M1574","v":1.4778991511380162},-39,7,5,84,806,0.84439359267734548,0.10183066361556065,5.3775743707093822E-2,{"$f":"L461*100/B$1537","v":1660.7773851590105},5.3775743707093822E-2]
["2020-03-23T17:00:00",6,"Friuli Venezia Giulia",185,41,226,545,771,33,33,105,54,930,7424,null,599,599,"",null,{"$f":"M462*100/M1575","v":1.4547843634145197},-39,16,7,56,663,0.82903225806451608,0.11290322580645161,5.8064516129032261E-2,{"$f":"L462*100/B$1537","v":1908.1272084805653},5.8064516129032261E-2]
["2020-03-24T17:00:00",6,"Friuli Venezia Giulia",195,49,244,604,848,77,77,80,64,992,8526,null,599,599,"",null,{"$f":"M463*100/M1576","v":1.4340233607031341},44,-25,10,62,1102,0.85483870967741937,8.0645161290322578E-2,6.4516129032258063E-2,{"$f":"L463*100/B$1537","v":2261.4840989399295},6.4516129032258063E-2]
["2020-03-25T17:00:00",6,"Friuli Venezia Giulia",200,52,252,659,911,63,63,158,70,1139,9494,null,599,599,"",null,{"$f":"M464*100/M1577","v":1.5312021079235341},-14,78,6,147,968,0.79982440737489024,0.13871817383669885,6.1457418788410885E-2,{"$f":"L464*100/B$1537","v":2473.4982332155478},6.1457418788410885E-2]
["2020-03-26T17:00:00",6,"Friuli Venezia Giulia",212,54,266,688,954,43,43,197,72,1223,10721,null,1223,"x2",1223,null,{"$f":"M465*100/M1578","v":1.5185189783831436},-20,39,2,84,1227,0.78004905968928862,0.16107931316434995,5.8871627146361405E-2,{"$f":"L465*100/B$1537","v":2544.1696113074204},5.8871627146361405E-2]
["2020-03-27T17:00:00",6,"Friuli Venezia Giulia",222,57,279,748,1027,73,94,214,76,1317,11841,null,1223,1223,"",null,{"$f":"M466*100/M1579","v":1.5225785567296353},51,17,4,94,1120,{"$f":"IF(M466=0,0,H466/M466)","v":0.77980258162490512},{"$f":"IF(M466=0,0,K466/M466)","v":0.1624905087319666},{"$f":"IF(M466=0,0,L466/M466)","v":5.7706909643128322E-2},{"$f":"L466*100/B$1537","v":2685.5123674911661},5.7706909643128322E-2]
["2020-03-28T17:00:00",6,"Friuli Venezia Giulia",223,59,282,838,1120,93,119,229,87,1436,12723,null,{"$f":"IF(Q467=\"x2\",M467,P466)","v":1223},{"$f":"IF(M467>P466*2,\"x2\",P466)","v":1223},{"$f":"IF(Q467=\"x2\",M467,\"\")","v":""},null,{"$f":"M467*100/M1580","v":1.5529025002162817},{"$f":"IF(J467-J466=0,\"\",J467-J466)","v":25},{"$f":"IF(K467-K466=0,\"\",K467-K466)","v":15},{"$f":"IF(L467-L466=0,\"\",L467-L466)","v":11},{"$f":"IF(M467-M466=0,\"\",M467-M466)","v":119},{"$f":"IF(N467-N466=0,\"\",N467-N466)","v":882},0.77994428969359331,0.1594707520891365,6.0584958217270196E-2,{"$f":"L467*100/B$1537","v":3074.2049469964663},6.0584958217270196E-2]
["2020-03-29T17:00:00",6,"Friuli Venezia Giulia",236,60,296,845,1141,21,44,241,98,1480,13397,null,1223,1223,"",null,{"$f":"M468*100/M1581","v":1.5150119256006305},-75,12,11,44,674,0.7709459459459459,0.16283783783783784,6.621621621621622E-2,{"$f":"L468*100/B$1537","v":3462.8975265017666},6.621621621621622E-2]
["2020-03-30T17:00:00",6,"Friuli Venezia Giulia",229,60,289,820,1109,-32,21,285,107,1501,14003,null,1223,1223,"",null,{"$f":"M469*100/M1582","v":1.4753437718082545},-23,44,9,21,606,0.73884077281812122,0.189873417721519,7.1285809460359756E-2,{"$f":"L469*100/B$1537","v":3780.9187279151943},7.1285809460359756E-2]
["2020-03-31T17:00:00",6,"Friuli Venezia Giulia",215,60,275,885,1160,51,92,320,113,1593,14899,null,1223,1223,"",null,{"$f":"M470*100/M1583","v":1.5057849364791289},71,35,6,92,896,0.72818581293157569,0.20087884494664154,7.0935342121782805E-2,{"$f":"L470*100/B$1537","v":3992.9328621908126},7.0935342121782805E-2]
["2020-04-01T17:00:00",6,"Friuli Venezia Giulia",206,60,266,940,1206,46,92,357,122,1685,15987,null,1223,1223,"",null,{"$f":"M471*100/M1584","v":1.5238663700327382},"",37,9,92,1088,0.71572700296735903,0.21186943620178042,7.2403560830860539E-2,{"$f":"L471*100/B$1537","v":4310.9540636042402},7.2403560830860539E-2]
["2020-04-02T17:00:00",6,"Friuli Venezia Giulia",199,60,259,1035,1294,88,114,376,129,1799,17121,null,1223,1223,"",null,{"$f":"M472*100/M1585","v":1.5610628069627392},22,19,7,114,1134,0.71928849360755975,0.20900500277932185,7.1706503613118394E-2,{"$f":"L472*100/B$1537","v":4558.3038869257953},7.1706503613118394E-2]
["2020-04-03T17:00:00",6,"Friuli Venezia Giulia",201,61,262,1062,1324,30,80,419,136,1879,19985,null,1223,1223,"",null,{"$f":"M473*100/M1586","v":1.5680940021864855},-34,43,7,80,2864,0.70463012240553491,0.22299095263437999,7.2378924960085148E-2,{"$f":"L473*100/B$1537","v":4805.6537102473494},7.2378924960085148E-2]
["2020-04-04T17:00:00",6,"Friuli Venezia Giulia",183,50,233,1103,1336,12,107,505,145,1986,21126,null,1223,1223,"",null,{"$f":"M474*100/M1587","v":1.5934912382052764},27,86,9,107,1141,0.67270896273917424,0.25427995971802619,7.3011077542799591E-2,{"$f":"L474*100/B$1537","v":5123.6749116607771},7.3011077542799591E-2]
["2020-04-05T17:00:00",6,"Friuli Venezia Giulia",185,50,235,1128,1363,27,62,531,154,2048,21652,null,1223,1223,"",null,{"$f":"M475*100/M1588","v":1.5882371188386015},-45,26,9,62,526,0.66552734375,0.25927734375,7.51953125E-2,{"$f":"L475*100/B$1537","v":5441.6961130742047},7.51953125E-2]
["2020-04-06T17:00:00",6,"Friuli Venezia Giulia",189,46,235,1161,1396,33,55,549,158,2103,22272,null,1223,1223,"",null,{"$f":"M476*100/M1589","v":1.586607014870197},-7,18,4,55,620,0.66381359961959108,0.26105563480741795,7.5130765572990962E-2,{"$f":"L476*100/B$1537","v":5583.03886925795},7.5130765572990962E-2]
["2020-04-07T17:00:00",6,"Friuli Venezia Giulia",185,44,229,1150,1379,-17,50,610,164,2153,23536,null,1223,1223,"",null,{"$f":"M477*100/M1590","v":1.5879220568495271},-5,61,6,50,1264,0.64050162563864377,0.28332559219693448,7.6172782164421735E-2,{"$f":"L477*100/B$1537","v":5795.0530035335687},7.6172782164421735E-2]
["2020-04-08T17:00:00",6,"Friuli Venezia Giulia",162,41,203,1212,1415,36,65,634,169,2218,24798,null,1223,1223,"",null,{"$f":"M478*100/M1591","v":1.590853667283499},15,24,5,65,1262,0.63796212804328223,0.28584310189359785,7.6194770063119921E-2,{"$f":"L478*100/B$1537","v":5971.7314487632511},7.6194770063119921E-2]
["2020-04-09T17:00:00",6,"Friuli Venezia Giulia",167,37,204,1186,1390,-25,81,738,171,2299,26205,null,1223,1223,"",null,{"$f":"M479*100/M1592","v":1.600685112723323},16,104,2,81,1407,0.60461070030448016,0.32100913440626361,7.43801652892562E-2,{"$f":"L479*100/B$1537","v":6042.4028268551237},7.43801652892562E-2]
["2020-04-10T17:00:00",6,"Friuli Venezia Giulia",167,33,200,1198,1398,8,50,772,179,2349,28097,null,1223,1223,"",null,{"$f":"M480*100/M1593","v":1.5917114455504584},-31,34,8,50,1892,0.59514687100893993,0.32865048957002979,7.6202639421030227E-2,{"$f":"L480*100/B$1537","v":6325.0883392226151},7.6202639421030227E-2]
["2020-04-11T17:00:00",6,"Friuli Venezia Giulia",172,28,200,1182,1382,-16,44,826,185,2393,29685,null,1223,1223,"",null,{"$f":"M481*100/M1594","v":1.5715402144860151},-6,54,6,44,1588,0.57751776013372336,0.34517342248223987,7.7308817384036776E-2,{"$f":"L481*100/B$1537","v":6537.1024734982329},7.7308817384036776E-2]
["2020-04-12T17:00:00",6,"Friuli Venezia Giulia",160,28,188,1138,1326,-56,38,910,195,2431,29988,null,1223,1223,"",null,{"$f":"M482*100/M1595","v":1.5547156296566322},-6,84,10,38,303,0.54545454545454541,0.37433155080213903,8.0213903743315509E-2,{"$f":"L482*100/B$1537","v":6890.4593639575969},8.0213903743315509E-2]
["2020-04-13T17:00:00",6,"Friuli Venezia Giulia",159,30,189,1118,1307,-19,51,973,202,2482,30941,null,2482,"x2",2482,null,{"$f":"M483*100/M1596","v":1.5559567692269114},13,63,7,51,953,0.5265914585012087,0.3920225624496374,8.1385979049153914E-2,{"$f":"L483*100/B$1537","v":7137.809187279152},8.1385979049153914E-2]
["2020-04-14T17:00:00",6,"Friuli Venezia Giulia",166,28,194,705,899,-408,38,1415,206,2520,31764,null,2482,2482,"",null,{"$f":"M484*100/M1597","v":1.5508837575697898},-13,442,4,38,823,0.35674603174603176,0.56150793650793651,8.1746031746031747E-2,{"$f":"L484*100/B$1537","v":7279.1519434628972},8.1746031746031747E-2]
["2020-04-15T17:00:00",6,"Friuli Venezia Giulia",163,24,187,1207,1394,495,24,938,212,2544,33800,null,2482,2482,"",null,{"$f":"M485*100/M1598","v":1.5403711664799733},-14,-477,6,24,2036,0.54795597484276726,0.36871069182389937,8.3333333333333329E-2,{"$f":"L485*100/B$1537","v":7491.1660777385159},8.3333333333333329E-2]
["2020-04-16T17:00:00",6,"Friuli Venezia Giulia",159,26,185,1145,1330,-64,72,1069,217,2616,35766,null,2482,2482,"",null,{"$f":"M486*100/M1599","v":1.5484695840559721},48,131,5,72,1966,0.50840978593272168,0.40863914373088683,8.2951070336391444E-2,{"$f":"L486*100/B$1537","v":7667.8445229681975},8.2951070336391444E-2]
["2020-04-17T17:00:00",6,"Friuli Venezia Giulia",148,23,171,1257,1428,98,59,1027,220,2675,40030,null,{"$f":"IF(Q487=\"x2\",M487,P486)","v":2482},{"$f":"IF(M487>P486*2,\"x2\",P486)","v":2482},{"$f":"IF(Q487=\"x2\",M487,\"\")","v":""},null,{"$f":"M487*100/M1600","v":1.5513181855086584},{"$f":"IF(J487-J486=0,\"\",J487-J486)","v":-13},{"$f":"IF(K487-K486=0,\"\",K487-K486)","v":-42},{"$f":"IF(L487-L486=0,\"\",L487-L486)","v":3},{"$f":"IF(M487-M486=0,\"\",M487-M486)","v":59},{"$f":"IF(N487-N486=0,\"\",N487-N486)","v":4264},{"$f":"IF(M487=0,0,H487/M487)","v":0.53383177570093454},{"$f":"IF(M487=0,0,K487/M487)","v":0.38392523364485981},{"$f":"IF(M487=0,0,L487/M487)","v":8.2242990654205608E-2},{"$f":"L487*100/B$1537","v":7773.8515901060073},8.2242990654205608E-2]
["2020-04-18T17:00:00",6,"Friuli Venezia Giulia",141,27,168,1235,1403,-25,56,1106,222,2731,43293,null,{"$f":"IF(Q488=\"x2\",M488,P487)","v":2482},{"$f":"IF(M488>P487*2,\"x2\",P487)","v":2482},{"$f":"IF(Q488=\"x2\",M488,\"\")","v":""},null,{"$f":"M488*100/M1601","v":1.552366065084553},{"$f":"IF(J488-J487=0,\"\",J488-J487)","v":-3},{"$f":"IF(K488-K487=0,\"\",K488-K487)","v":79},{"$f":"IF(L488-L487=0,\"\",L488-L487)","v":2},{"$f":"IF(M488-M487=0,\"\",M488-M487)","v":56},{"$f":"IF(N488-N487=0,\"\",N488-N487)","v":3263},{"$f":"IF(M488=0,0,H488/M488)","v":0.51373123398022702},{"$f":"IF(M488=0,0,K488/M488)","v":0.40497986085682902},{"$f":"IF(M488=0,0,L488/M488)","v":8.1288905162943972E-2},{"$f":"L488*100/B$1537","v":7844.5229681978799},8.1288905162943972E-2]
["2020-04-19T17:00:00",6,"Friuli Venezia Giulia",140,25,165,1172,1337,-66,14,1183,225,2745,44622,27544,{"$f":"IF(Q489=\"x2\",M489,P488)","v":2482},{"$f":"IF(M489>P488*2,\"x2\",P488)","v":2482},{"$f":"IF(Q489=\"x2\",M489,\"\")","v":""},null,{"$f":"M489*100/M1602","v":1.533759470755202},{"$f":"IF(J489-J488=0,\"\",J489-J488)","v":-42},{"$f":"IF(K489-K488=0,\"\",K489-K488)","v":77},{"$f":"IF(L489-L488=0,\"\",L489-L488)","v":3},{"$f":"IF(M489-M488=0,\"\",M489-M488)","v":14},{"$f":"IF(N489-N488=0,\"\",N489-N488)","v":1329},{"$f":"IF(M489=0,0,H489/M489)","v":0.48706739526411658},{"$f":"IF(M489=0,0,K489/M489)","v":0.43096539162112935},{"$f":"IF(M489=0,0,L489/M489)","v":8.1967213114754092E-2},{"$f":"L489*100/B$1537","v":7950.5300353356888},8.1967213114754092E-2]
["2020-04-20T17:00:00",6,"Friuli Venezia Giulia",140,22,162,1028,1190,-147,30,1346,239,2775,45161,28777,{"$f":"IF(Q490=\"x2\",M490,P489)","v":2482},{"$f":"IF(M490>P489*2,\"x2\",P489)","v":2482},{"$f":"IF(Q490=\"x2\",M490,\"\")","v":""},null,{"$f":"M490*100/M1603","v":1.5312203412276248},{"$f":"IF(J490-J489=0,\"\",J490-J489)","v":16},{"$f":"IF(K490-K489=0,\"\",K490-K489)","v":163},{"$f":"IF(L490-L489=0,\"\",L490-L489)","v":14},{"$f":"IF(M490-M489=0,\"\",M490-M489)","v":30},{"$f":"IF(N490-N489=0,\"\",N490-N489)","v":539},{"$f":"IF(M490=0,0,H490/M490)","v":0.42882882882882883},{"$f":"IF(M490=0,0,K490/M490)","v":0.48504504504504503},{"$f":"IF(M490=0,0,L490/M490)","v":8.6126126126126121E-2},{"$f":"L490*100/B$1537","v":8445.2296819787989},8.6126126126126121E-2]
["2020-04-21T17:00:00",6,"Friuli Venezia Giulia",139,21,160,1162,1322,132,17,1229,241,2792,48500,31352,2482,{"$f":"IF(M491>P490*2,\"x2\",P490)","v":2482},{"$f":"IF(Q491=\"x2\",M491,\"\")","v":""},null,{"$f":"M491*100/M1604","v":1.517745994987959},{"$f":"IF(J491-J490=0,\"\",J491-J490)","v":-13},{"$f":"IF(K491-K490=0,\"\",K491-K490)","v":-117},{"$f":"IF(L491-L490=0,\"\",L491-L490)","v":2},{"$f":"IF(M491-M490=0,\"\",M491-M490)","v":17},{"$f":"IF(N491-N490=0,\"\",N491-N490)","v":3339},{"$f":"IF(M491=0,0,H491/M491)","v":0.47349570200573066},{"$f":"IF(M491=0,0,K491/M491)","v":0.44018624641833809},{"$f":"IF(M491=0,0,L491/M491)","v":8.6318051575931226E-2},{"$f":"L491*100/B$1537","v":8515.9010600706715},8.6318051575931226E-2]
["2020-04-22T17:00:00",6,"Friuli Venezia Giulia",134,20,154,1154,1308,-14,25,1263,246,2817,50869,32871,2482,{"$f":"IF(M492>P491*2,\"x2\",P491)","v":2482},{"$f":"IF(Q492=\"x2\",M492,\"\")","v":""},null,{"$f":"M492*100/M1605","v":1.5037874945950129},{"$f":"IF(J492-J491=0,\"\",J492-J491)","v":8},{"$f":"IF(K492-K491=0,\"\",K492-K491)","v":34},{"$f":"IF(L492-L491=0,\"\",L492-L491)","v":5},{"$f":"IF(M492-M491=0,\"\",M492-M491)","v":25},{"$f":"IF(N492-N491=0,\"\",N492-N491)","v":2369},{"$f":"IF(M492=0,0,H492/M492)","v":0.46432374866879661},{"$f":"IF(M492=0,0,K492/M492)","v":0.44834930777422788},{"$f":"IF(M492=0,0,L492/M492)","v":8.7326943556975511E-2},{"$f":"L492*100/B$1537","v":8692.579505300353},8.7326943556975511E-2]
["2020-04-23T17:00:00",6,"Friuli Venezia Giulia",138,18,156,979,1135,-173,41,1467,256,2858,52918,34057,{"$f":"IF(Q493=\"x2\",M493,P492)","v":2482},{"$f":"IF(M493>P492*2,\"x2\",P492)","v":2482},{"$f":"IF(Q493=\"x2\",M493,\"\")","v":""},null,{"$f":"M493*100/M1606","v":1.5044243129286794},{"$f":"IF(J493-J492=0,\"\",J493-J492)","v":16},{"$f":"IF(K493-K492=0,\"\",K493-K492)","v":204},{"$f":"IF(L493-L492=0,\"\",L493-L492)","v":10},{"$f":"IF(M493-M492=0,\"\",M493-M492)","v":41},{"$f":"IF(N493-N492=0,\"\",N493-N492)","v":2049},{"$f":"IF(M493=0,0,H493/M493)","v":0.39713086074177745},{"$f":"IF(M493=0,0,K493/M493)","v":0.51329601119664103},{"$f":"IF(M493=0,0,L493/M493)","v":8.957312806158152E-2},{"$f":"L493*100/B$1537","v":9045.9363957597179},{"$f":"IF(M493=0,0,L493/M493)","v":8.957312806158152E-2}]
["2020-04-24T17:00:00",6,"Friuli Venezia Giulia",136,16,152,1168,1320,185,24,1304,258,2882,55502,35547,{"$f":"IF(Q494=\"x2\",M494,P493)","v":2482},{"$f":"IF(M494>P493*2,\"x2\",P493)","v":2482},{"$f":"IF(Q494=\"x2\",M494,\"\")","v":""},null,{"$f":"M494*100/M1607","v":1.4933106728706591},{"$f":"IF(J494-J493=0,\"\",J494-J493)","v":-17},{"$f":"IF(K494-K493=0,\"\",K494-K493)","v":-163},{"$f":"IF(L494-L493=0,\"\",L494-L493)","v":2},{"$f":"IF(M494-M493=0,\"\",M494-M493)","v":24},{"$f":"IF(N494-N493=0,\"\",N494-N493)","v":2584},{"$f":"IF(M494=0,0,H494/M494)","v":0.4580152671755725},{"$f":"IF(M494=0,0,K494/M494)","v":0.45246356696738377},{"$f":"IF(M494=0,0,L494/M494)","v":8.9521165857043714E-2},{"$f":"L494*100/B$1537","v":9116.6077738515905},{"$f":"IF(M494=0,0,L494/M494)","v":8.9521165857043714E-2}]
["2020-04-25T17:00:00",6,"Friuli Venezia Giulia",122,15,137,947,1084,-236,21,1556,263,2903,58375,37211,{"$f":"IF(Q495=\"x2\",M495,P494)","v":2482},{"$f":"IF(M495>P494*2,\"x2\",P494)","v":2482},{"$f":"IF(Q495=\"x2\",M495,\"\")","v":""},null,{"$f":"M495*100/M1608","v":1.4860430711898072},{"$f":"IF(J495-J494=0,\"\",J495-J494)","v":-3},{"$f":"IF(K495-K494=0,\"\",K495-K494)","v":252},{"$f":"IF(L495-L494=0,\"\",L495-L494)","v":5},{"$f":"IF(M495-M494=0,\"\",M495-M494)","v":21},{"$f":"IF(N495-N494=0,\"\",N495-N494)","v":2873},{"$f":"IF(M495=0,0,H495/M495)","v":0.37340682053048568},{"$f":"IF(M495=0,0,K495/M495)","v":0.53599724423010675},{"$f":"IF(M495=0,0,L495/M495)","v":9.059593523940751E-2},{"$f":"L495*100/B$1537","v":9293.2862190812721},{"$f":"IF(M495=0,0,L495/M495)","v":9.059593523940751E-2}]
["2020-04-26T17:00:00",6,"Friuli Venezia Giulia",129,13,142,1106,1248,164,14,1405,264,2917,59681,38202,{"$f":"IF(Q496=\"x2\",M496,P495)","v":2482},{"$f":"IF(M496>P495*2,\"x2\",P495)","v":2482},{"$f":"IF(Q496=\"x2\",M496,\"\")","v":""},null,{"$f":"M496*100/M1609","v":1.4756544833691665},{"$f":"IF(J496-J495=0,\"\",J496-J495)","v":-7},{"$f":"IF(K496-K495=0,\"\",K496-K495)","v":-151},{"$f":"IF(L496-L495=0,\"\",L496-L495)","v":1},{"$f":"IF(M496-M495=0,\"\",M496-M495)","v":14},{"$f":"IF(N496-N495=0,\"\",N496-N495)","v":1306},{"$f":"IF(M496=0,0,H496/M496)","v":0.42783681864929723},{"$f":"IF(M496=0,0,K496/M496)","v":0.48165923894412066},{"$f":"IF(M496=0,0,L496/M496)","v":9.0503942406582105E-2},{"$f":"L496*100/B$1537","v":9328.6219081272084},{"$f":"IF(M496=0,0,L496/M496)","v":9.0503942406582105E-2}]
["2020-04-27T17:00:00",6,"Friuli Venezia Giulia",130,13,143,1115,1258,10,60,1448,271,2977,60940,39330,{"$f":"IF(Q497=\"x2\",M497,P496)","v":2482},{"$f":"IF(M497>P496*2,\"x2\",P496)","v":2482},{"$f":"IF(Q497=\"x2\",M497,\"\")","v":""},null,{"$f":"M497*100/M1610","v":1.4928741211750429},{"$f":"IF(J497-J496=0,\"\",J497-J496)","v":46},{"$f":"IF(K497-K496=0,\"\",K497-K496)","v":43},{"$f":"IF(L497-L496=0,\"\",L497-L496)","v":7},{"$f":"IF(M497-M496=0,\"\",M497-M496)","v":60},{"$f":"IF(N497-N496=0,\"\",N497-N496)","v":1259},{"$f":"IF(M497=0,0,H497/M497)","v":0.42257306012764528},{"$f":"IF(M497=0,0,K497/M497)","v":0.48639570036949947},{"$f":"IF(M497=0,0,L497/M497)","v":9.103123950285523E-2},{"$f":"L497*100/B$1537","v":9575.9717314487625},{"$f":"IF(M497=0,0,L497/M497)","v":9.103123950285523E-2}]
[{"$f":"A497 + 1","v":"2020-04-28T17:00:00"},null,null,null,null,null,null,null,null,null,null,null,null,null,null,null,"Media x2",{"$f":"COUNT(N434:N497) / COUNT(R434:R497)","v":7.1111111111111107}]
[{"$f":"A498+1","v":"2020-04-29T17:00:00"}]
[{"$f":"A499+1","v":"2020-04-30T17:00:00"}]
[null,null,null,null,{"$f":"E497/$M497","v":4.3668122270742356E-3},null,null,{"$f":"H497/$M497","v":0.42257306012764528},null,null,{"$f":"K497/$M497","v":0.48639570036949947},{"$f":"L497/$M497","v":9.103123950285523E-2},null,{"$f":"N497/$M497","v":20.470272085992612}]
[]
[]
[]
["Data","Codice","Regione","Ricoverati","Terap. Intens.","Ospedalizzati","Quarantena","Positivi","+ Positivi","Nuovi","Guariti","Deceduti","Totale","Tamponi","Testati",null,null,"x 2",null,"% su Tot.","+ Nuovi","+ Guariti","+ Deceduti","+ Totali","+ Tamponi","% Positivi","% Guariti","% Deceduti","P. Stimati","% Morti"]
["2020-02-24T18:00:00",7,"Liguria",0,0,0,0,0,0,0,0,0,0,1,null,{"$f":"M506","v":0},null,{"$f":"M506","v":0},null,{"$f":"M506*100/M1547","v":0},null,null,null,null,null,{"$f":"IF(M506=0,0,H506/M506)","v":0},{"$f":"IF(M506=0,0,K506/M506)","v":0},{"$f":"IF(M506=0,0,L506/M506)","v":0},{"$f":"L506*100/B$1537","v":0},{"$f":"IF(M506=0,0,L506/M506)","v":0}]
["2020-02-25T18:00:00",7,"Liguria",1,0,1,0,1,1,1,0,0,1,39,null,{"$f":"IF(Q507=\"x2\",M507,P506)","v":1},{"$f":"IF(M507>P506*2,\"x2\",P506)","v":"x2"},{"$f":"IF(Q507=\"x2\",M507,\"\")","v":1},null,{"$f":"M507*100/M1548","v":0.3105590062111801},{"$f":"IF(J507-J506=0,\"\",J507-J506)","v":1},{"$f":"IF(K507-K506=0,\"\",K507-K506)","v":""},{"$f":"IF(L507-L506=0,\"\",L507-L506)","v":""},{"$f":"IF(M507-M506=0,\"\",M507-M506)","v":1},{"$f":"IF(N507-N506=0,\"\",N507-N506)","v":38},1,0,0,{"$f":"L507*100/B$1537","v":0},0]
["2020-02-26T18:00:00",7,"Liguria",6,0,6,5,11,10,10,0,0,11,66,null,11,"x2",11,null,{"$f":"M508*100/M1549","v":2.75},9,"","",10,27,1,0,0,{"$f":"L508*100/B$1537","v":0},0]
["2020-02-27T18:00:00",7,"Liguria",9,0,9,10,19,8,8,0,0,19,78,null,11,11,"",null,{"$f":"M509*100/M1550","v":2.9230769230769229},-2,"","",8,12,1,0,0,{"$f":"L509*100/B$1537","v":0},0]
["2020-02-28T18:00:00",7,"Liguria",9,0,9,10,19,0,0,0,0,19,112,null,11,11,"",null,{"$f":"M510*100/M1551","v":2.1396396396396398},-8,"","","",34,1,0,0,{"$f":"L510*100/B$1537","v":0},0]
["2020-02-29T17:00:00",7,"Liguria",4,1,5,33,38,19,19,4,0,42,121,null,42,"x2",42,null,{"$f":"M511*100/M1552","v":3.7234042553191489},19,4,"",23,9,0.90476190476190477,9.5238095238095233E-2,0,{"$f":"L511*100/B$1537","v":0},0]
["2020-03-01T17:00:00",7,"Liguria",12,1,13,8,21,-17,-17,4,0,25,121,null,42,42,"",null,{"$f":"M512*100/M1553","v":1.4757969303423848},-36,"","",-17,"",0.84,0.16,0,{"$f":"L512*100/B$1537","v":0},0]
["2020-03-02T18:00:00",7,"Liguria",12,1,13,5,18,-3,-3,4,0,22,121,null,42,42,"",null,{"$f":"M513*100/M1554","v":1.080550098231827},14,"","",-3,"",0.81818181818181823,0.18181818181818182,0,{"$f":"L513*100/B$1537","v":0},0]
["2020-03-03T18:00:00",7,"Liguria",12,2,14,5,19,1,1,4,1,24,121,null,42,42,"",null,{"$f":"M514*100/M1555","v":0.95923261390887293},4,"",1,2,"",0.79166666666666663,0.16666666666666666,4.1666666666666664E-2,{"$f":"L514*100/B$1537","v":35.335689045936398},4.1666666666666664E-2]
["2020-03-04T17:00:00",7,"Liguria",10,3,13,8,21,2,2,4,1,26,133,null,42,42,"",null,{"$f":"M515*100/M1556","v":0.84169634185820652},1,"","",2,12,0.80769230769230771,0.15384615384615385,3.8461538461538464E-2,{"$f":"L515*100/B$1537","v":35.335689045936398},3.8461538461538464E-2]
["2020-03-05T17:00:00",7,"Liguria",11,3,14,7,21,0,0,4,3,28,146,null,42,42,"",null,{"$f":"M516*100/M1557","v":0.72576464489372727},-2,"",2,2,13,0.75,0.14285714285714285,0.10714285714285714,{"$f":"L516*100/B$1537","v":106.00706713780919},0.10714285714285714]
["2020-03-06T17:00:00",7,"Liguria",12,5,17,7,24,3,3,5,3,32,229,null,42,42,"",null,{"$f":"M517*100/M1558","v":0.69025021570319245},3,1,"",4,83,0.75,0.15625,9.375E-2,{"$f":"L517*100/B$1537","v":106.00706713780919},9.375E-2]
["2020-03-07T18:00:00",7,"Liguria",26,6,32,10,42,18,18,5,4,51,331,null,42,42,"",null,{"$f":"M518*100/M1559","v":0.86690464048954619},15,"",1,19,102,0.82352941176470584,9.8039215686274508E-2,7.8431372549019607E-2,{"$f":"L518*100/B$1537","v":141.34275618374559},7.8431372549019607E-2]
["2020-03-08T18:00:00",7,"Liguria",39,11,50,17,67,25,25,5,6,78,401,null,42,42,"",null,{"$f":"M519*100/M1560","v":1.0576271186440678},7,"",2,27,70,0.85897435897435892,6.4102564102564097E-2,7.6923076923076927E-2,{"$f":"L519*100/B$1537","v":212.01413427561837},7.6923076923076927E-2]
["2020-03-09T18:00:00",7,"Liguria",60,17,77,20,97,30,30,5,7,109,611,null,109,"x2",109,null,{"$f":"M520*100/M1561","v":1.1883994766681203},5,"",1,31,210,0.88990825688073394,4.5871559633027525E-2,6.4220183486238536E-2,{"$f":"L520*100/B$1537","v":247.34982332155477},6.4220183486238536E-2]
["2020-03-10T18:00:00",7,"Liguria",57,29,86,42,128,31,31,5,8,141,694,null,109,109,"",null,{"$f":"M521*100/M1562","v":1.3892994383683122},1,"",1,32,83,0.90780141843971629,3.5460992907801421E-2,5.6737588652482268E-2,{"$f":"L521*100/B$1537","v":282.68551236749119},5.6737588652482268E-2]
["2020-03-11T17:00:00",7,"Liguria",74,34,108,73,181,53,53,5,8,194,1025,null,109,109,"",null,{"$f":"M522*100/M1563","v":1.5567324666987643},22,"","",53,331,0.9329896907216495,2.5773195876288658E-2,4.1237113402061855E-2,{"$f":"L522*100/B$1537","v":282.68551236749119},4.1237113402061855E-2]
["2020-03-12T17:00:00",7,"Liguria",100,36,136,107,243,62,62,20,11,274,1174,null,274,"x2",274,null,{"$f":"M523*100/M1564","v":1.8130086680341428},9,15,3,80,149,0.88686131386861311,7.2992700729927001E-2,4.0145985401459854E-2,{"$f":"L523*100/B$1537","v":388.69257950530033},4.0145985401459854E-2]
["2020-03-13T17:00:00",7,"Liguria",128,44,172,132,304,61,61,24,17,345,1442,null,274,274,"",null,{"$f":"M524*100/M1565","v":1.9535673839184597},-1,4,6,71,268,0.88115942028985506,6.9565217391304349E-2,4.9275362318840582E-2,{"$f":"L524*100/B$1537","v":600.70671378091868},4.9275362318840582E-2]
["2020-03-14T17:00:00",7,"Liguria",213,62,275,109,384,80,80,52,27,463,1750,null,274,274,"",null,{"$f":"M525*100/M1566","v":2.1884010020324243},19,28,10,118,308,0.82937365010799136,0.11231101511879049,5.8315334773218146E-2,{"$f":"L525*100/B$1537","v":954.06360424028264},5.8315334773218146E-2]
["2020-03-15T17:00:00",7,"Liguria",253,66,319,174,493,109,109,33,33,559,1973,null,559,"x2",559,null,{"$f":"M526*100/M1567","v":2.2588596597567383},29,-19,6,96,223,0.88193202146690519,5.9033989266547404E-2,5.9033989266547404E-2,{"$f":"L526*100/B$1537","v":1166.077738515901},5.9033989266547404E-2]
["2020-03-16T17:00:00",7,"Liguria",255,73,328,247,575,82,82,42,50,667,2189,null,559,559,"",null,{"$f":"M527*100/M1568","v":2.3838456040028593},-27,9,17,108,216,0.86206896551724133,6.296851574212893E-2,7.4962518740629688E-2,{"$f":"L527*100/B$1537","v":1766.7844522968198},7.4962518740629688E-2]
["2020-03-17T17:00:00",7,"Liguria",299,85,384,277,661,86,86,57,60,778,2509,null,559,559,"",null,{"$f":"M528*100/M1569","v":2.4693709134767983},4,15,10,111,320,0.84961439588688947,7.3264781491002573E-2,7.7120822622107968E-2,{"$f":"L528*100/B$1537","v":2120.1413427561838},7.7120822622107968E-2]
["2020-03-18T17:00:00",7,"Liguria",401,100,501,243,744,83,83,70,73,887,2912,null,559,559,"",null,{"$f":"M529*100/M1570","v":2.4836894128188614},-3,13,13,109,403,0.83878241262683206,7.8917700112739575E-2,8.2299887260428417E-2,{"$f":"L529*100/B$1537","v":2579.5053003533567},8.2299887260428417E-2]
["2020-03-19T17:00:00",7,"Liguria",491,112,603,280,883,139,139,85,91,1059,3348,null,559,559,"",null,{"$f":"M530*100/M1571","v":2.5807237723894239},56,15,18,172,436,0.83380547686496698,8.0264400377714831E-2,8.593012275731822E-2,{"$f":"L530*100/B$1537","v":3215.547703180212},8.593012275731822E-2]
["2020-03-20T17:00:00",7,"Liguria",573,121,694,307,1001,118,118,101,119,1221,3794,null,1221,"x2",1221,null,{"$f":"M531*100/M1572","v":2.5967121073562875},-21,16,28,162,446,0.81981981981981977,8.2719082719082723E-2,9.7461097461097462E-2,{"$f":"L531*100/B$1537","v":4204.9469964664313},9.7461097461097462E-2]
["2020-03-21T17:00:00",7,"Liguria",598,129,727,432,1159,158,158,125,152,1436,4304,null,1221,1221,"",null,{"$f":"M532*100/M1573","v":2.6802045615737802},40,24,33,215,510,0.80710306406685239,8.7047353760445687E-2,0.10584958217270195,{"$f":"L532*100/B$1537","v":5371.0247349823321},0.10584958217270195]
["2020-03-22T17:00:00",7,"Liguria",736,132,868,483,1351,192,192,143,171,1665,4995,null,1221,1221,"",null,{"$f":"M533*100/M1574","v":2.8154486117217354},34,18,19,229,691,0.81141141141141138,8.5885885885885888E-2,0.10270270270270271,{"$f":"L533*100/B$1537","v":6042.4028268551237},0.10270270270270271]
["2020-03-23T17:00:00",7,"Liguria",761,133,894,659,1553,202,202,159,212,1924,5538,null,1221,1221,"",null,{"$f":"M534*100/M1575","v":3.009682919580146},10,16,41,259,543,0.8071725571725572,8.2640332640332645E-2,0.11018711018711019,{"$f":"L534*100/B$1537","v":7491.1660777385159},0.11018711018711019]
["2020-03-24T17:00:00",7,"Liguria",803,147,950,742,1692,139,139,193,231,2116,5992,null,1221,1221,"",null,{"$f":"M535*100/M1576","v":3.0588643460159592},-63,34,19,192,454,0.79962192816635158,9.1209829867674855E-2,0.10916824196597354,{"$f":"L535*100/B$1537","v":8162.5441696113076},0.10916824196597354]
["2020-03-25T17:00:00",7,"Liguria",927,147,1074,752,1826,134,134,225,254,2305,6602,null,1221,1221,"",null,{"$f":"M536*100/M1577","v":3.0987013685370903},-5,32,23,189,610,0.79219088937093274,9.7613882863340565E-2,0.11019522776572668,{"$f":"L536*100/B$1537","v":8975.2650176678435},0.11019522776572668]
["2020-03-26T17:00:00",7,"Liguria",998,154,1152,875,2027,201,201,260,280,2567,7304,null,2567,"x2",2567,null,{"$f":"M537*100/M1578","v":3.1872757297706702},67,35,26,262,702,0.78963770938839106,0.10128554733151539,0.10907674328009349,{"$f":"L537*100/B$1537","v":9893.9929328621911},0.10907674328009349]
["2020-03-27T17:00:00",7,"Liguria",1023,157,1180,880,2060,33,129,305,331,2696,7804,null,2567,2567,"",null,{"$f":"M538*100/M1579","v":3.116835071331129},-72,45,51,129,500,{"$f":"IF(M538=0,0,H538/M538)","v":0.76409495548961426},{"$f":"IF(M538=0,0,K538/M538)","v":0.11313056379821959},{"$f":"IF(M538=0,0,L538/M538)","v":0.12277448071216618},{"$f":"L538*100/B$1537","v":11696.113074204946},0.12277448071216618]
["2020-03-28T17:00:00",7,"Liguria",1031,167,1198,888,2086,26,126,378,358,2822,8177,null,{"$f":"IF(Q539=\"x2\",M539,P538)","v":2567},{"$f":"IF(M539>P538*2,\"x2\",P538)","v":2567},{"$f":"IF(Q539=\"x2\",M539,\"\")","v":""},null,{"$f":"M539*100/M1580","v":3.0517345791158403},{"$f":"IF(J539-J538=0,\"\",J539-J538)","v":-3},{"$f":"IF(K539-K538=0,\"\",K539-K538)","v":73},{"$f":"IF(L539-L538=0,\"\",L539-L538)","v":27},{"$f":"IF(M539-M538=0,\"\",M539-M538)","v":126},{"$f":"IF(N539-N538=0,\"\",N539-N538)","v":373},0.73919206236711554,0.13394755492558469,0.1268603827072998,{"$f":"L539*100/B$1537","v":12650.17667844523},0.1268603827072998]
["2020-03-29T17:00:00",7,"Liguria",1077,166,1243,1036,2279,193,254,420,377,3076,9100,null,2567,2567,"",null,{"$f":"M540*100/M1581","v":3.148768029153743},128,42,19,254,923,0.74089726918075427,0.13654096228868662,0.12256176853055917,{"$f":"L540*100/B$1537","v":13321.55477031802},0.12256176853055917]
["2020-03-30T17:00:00",7,"Liguria",1142,175,1317,1066,2383,104,141,437,397,3217,9677,null,2567,2567,"",null,{"$f":"M541*100/M1582","v":3.162012600870856},-113,17,20,141,577,0.74075225365247122,0.1358408455082375,0.12340690083929126,{"$f":"L541*100/B$1537","v":14028.268551236748},0.12340690083929126]
["2020-03-31T17:00:00",7,"Liguria",1153,179,1332,1176,2508,125,199,480,428,3416,10376,null,2567,2567,"",null,{"$f":"M542*100/M1583","v":3.2289776164549306},58,43,31,199,699,0.73419203747072603,0.14051522248243559,0.12529274004683841,{"$f":"L542*100/B$1537","v":15123.674911660777},0.12529274004683841]
["2020-04-01T17:00:00",7,"Liguria",1114,179,1293,1352,2645,137,244,555,460,3660,11334,null,2567,2567,"",null,{"$f":"M543*100/M1584","v":3.3100005426230399},45,75,32,244,958,0.72267759562841527,0.15163934426229508,0.12568306010928962,{"$f":"L543*100/B$1537","v":16254.416961130742},0.12568306010928962]
["2020-04-02T17:00:00",7,"Liguria",1120,172,1292,1368,2660,15,122,634,488,3782,12069,null,2567,2567,"",null,{"$f":"M544*100/M1585","v":3.2817896253102168},-122,79,28,122,735,0.70333157059756746,0.16763617133791645,0.12903225806451613,{"$f":"L544*100/B$1537","v":17243.816254416961},0.12903225806451613]
["2020-04-03T17:00:00",7,"Liguria",1147,173,1320,1426,2746,86,183,700,519,3965,12934,null,2567,2567,"",null,{"$f":"M545*100/M1586","v":3.3089370509150693},61,66,31,183,865,0.69255989911727611,0.17654476670870115,0.13089533417402269,{"$f":"L545*100/B$1537","v":18339.22261484099},0.13089533417402269]
["2020-04-04T17:00:00",7,"Liguria",1121,169,1290,1604,2894,148,238,767,542,4203,14087,null,2567,2567,"",null,{"$f":"M546*100/M1587","v":3.3723281340265743},55,67,23,238,1153,0.68855579348084706,0.18248869854865571,0.12895550797049726,{"$f":"L546*100/B$1537","v":19151.943462897525},0.12895550797049726]
["2020-04-05T17:00:00",7,"Liguria",1126,165,1291,1802,3093,199,246,800,556,4449,15047,null,2567,2567,"",null,{"$f":"M547*100/M1588","v":3.4502279988832707},8,33,14,246,960,0.69521240728253542,0.17981568891885816,0.12497190379860643,{"$f":"L547*100/B$1537","v":19646.643109540637},0.12497190379860643]
["2020-04-06T17:00:00",7,"Liguria",1141,162,1303,1814,3117,24,100,837,595,4549,15533,null,2567,2567,"",null,{"$f":"M548*100/M1589","v":3.4319901619802788},-146,37,39,100,486,0.68520553967905029,0.18399648274346009,0.13079797757748957,{"$f":"L548*100/B$1537","v":21024.734982332157},0.13079797757748957]
["2020-04-07T17:00:00",7,"Liguria",1090,156,1246,1966,3212,95,208,925,620,4757,16579,null,2567,2567,"",null,{"$f":"M549*100/M1590","v":3.5084743262578733},108,88,25,208,1046,0.67521547193609421,0.19445028379230608,0.13033424427159976,{"$f":"L549*100/B$1537","v":21908.127208480564},0.13033424427159976]
["2020-04-08T17:00:00",7,"Liguria",1109,153,1262,1983,3245,33,149,1007,654,4906,17521,null,2567,2567,"",null,{"$f":"M550*100/M1591","v":3.5188133866965043},-59,82,34,149,942,0.66143497757847536,0.20525886669384427,0.1333061557276804,{"$f":"L550*100/B$1537","v":23109.540636042402},0.1333061557276804]
["2020-04-09T17:00:00",7,"Liguria",1103,154,1257,1996,3253,8,114,1085,682,5020,18446,null,2567,2567,"",null,{"$f":"M551*100/M1592","v":3.4951888933758513},-35,78,28,114,925,0.64800796812749006,0.21613545816733068,0.13585657370517928,{"$f":"L551*100/B$1537","v":24098.939929328622},0.13585657370517928]
["2020-04-10T17:00:00",7,"Liguria",1076,151,1227,2074,3301,48,171,1181,709,5191,19514,null,5191,"x2",5191,null,{"$f":"M552*100/M1593","v":3.5174857870806426},57,96,27,171,1068,0.63590830283182431,0.22750915045270662,0.13658254671546907,{"$f":"L552*100/B$1537","v":25053.003533568903},0.13658254671546907]
["2020-04-11T17:00:00",7,"Liguria",1003,146,1149,2184,3333,32,185,1309,734,5376,20888,null,5191,5191,"",null,{"$f":"M553*100/M1594","v":3.530547510688181},14,128,25,185,1374,0.6199776785714286,0.24348958333333334,0.13653273809523808,{"$f":"L553*100/B$1537","v":25936.395759717314},0.13653273809523808]
["2020-04-12T17:00:00",7,"Liguria",1032,144,1176,2157,3333,0,118,1412,749,5494,21983,null,5191,5191,"",null,{"$f":"M554*100/M1595","v":3.5136189507747995},-67,103,15,118,1095,0.60666181288678556,0.25700764470331272,0.13633054240990172,{"$f":"L554*100/B$1537","v":26466.431095406359},0.13633054240990172]
["2020-04-13T17:00:00",7,"Liguria",1088,138,1226,2139,3365,32,102,1471,760,5596,23129,null,5191,5191,"",null,{"$f":"M555*100/M1596","v":3.508112038917726},-16,59,11,102,1146,0.60132237312365977,0.26286633309506791,0.13581129378127232,{"$f":"L555*100/B$1537","v":26855.123674911662},0.13581129378127232]
["2020-04-14T17:00:00",7,"Liguria",967,133,1100,2366,3466,101,212,1549,793,5808,24446,null,5191,5191,"",null,{"$f":"M556*100/M1597","v":3.5744178031608489},110,78,33,212,1317,0.596763085399449,0.26670110192837465,0.13653581267217632,{"$f":"L556*100/B$1537","v":28021.20141342756},0.13653581267217632]
["2020-04-15T17:00:00",7,"Liguria",959,120,1079,2385,3464,-2,128,1665,807,5936,25793,null,5191,5191,"",null,{"$f":"M557*100/M1598","v":3.594199388453271},-84,116,14,128,1347,0.5835579514824798,0.28049191374663074,0.13595013477088949,{"$f":"L557*100/B$1537","v":28515.901060070672},0.13595013477088949]
["2020-04-16T17:00:00",7,"Liguria",957,103,1060,2377,3437,-27,103,1774,828,6039,26945,null,5191,5191,"",null,{"$f":"M558*100/M1599","v":3.5746207255787525},-25,109,21,103,1152,0.56913396257658555,0.29375724457691671,0.13710879284649777,{"$f":"L558*100/B$1537","v":29257.950530035334},0.13710879284649777]
["2020-04-17T17:00:00",7,"Liguria",897,105,1002,2457,3459,22,149,1863,866,6188,28181,null,{"$f":"IF(Q559=\"x2\",M559,P558)","v":5191},{"$f":"IF(M559>P558*2,\"x2\",P558)","v":5191},{"$f":"IF(Q559=\"x2\",M559,\"\")","v":""},null,{"$f":"M559*100/M1600","v":3.5886194138047021},{"$f":"IF(J559-J558=0,\"\",J559-J558)","v":46},{"$f":"IF(K559-K558=0,\"\",K559-K558)","v":89},{"$f":"IF(L559-L558=0,\"\",L559-L558)","v":38},{"$f":"IF(M559-M558=0,\"\",M559-M558)","v":149},{"$f":"IF(N559-N558=0,\"\",N559-N558)","v":1236},{"$f":"IF(M559=0,0,H559/M559)","v":0.55898513251454429},{"$f":"IF(M559=0,0,K559/M559)","v":0.30106658047834517},{"$f":"IF(M559=0,0,L559/M559)","v":0.13994828700711054},{"$f":"L559*100/B$1537","v":30600.706713780917},0.13994828700711054]
["2020-04-18T17:00:00",7,"Liguria",901,105,1006,2406,3412,-47,113,1992,897,6301,29322,null,{"$f":"IF(Q560=\"x2\",M560,P559)","v":5191},{"$f":"IF(M560>P559*2,\"x2\",P559)","v":5191},{"$f":"IF(Q560=\"x2\",M560,\"\")","v":""},null,{"$f":"M560*100/M1601","v":3.5816399033679125},{"$f":"IF(J560-J559=0,\"\",J560-J559)","v":-36},{"$f":"IF(K560-K559=0,\"\",K560-K559)","v":129},{"$f":"IF(L560-L559=0,\"\",L560-L559)","v":31},{"$f":"IF(M560-M559=0,\"\",M560-M559)","v":113},{"$f":"IF(N560-N559=0,\"\",N560-N559)","v":1141},{"$f":"IF(M560=0,0,H560/M560)","v":0.54150134899222346},{"$f":"IF(M560=0,0,K560/M560)","v":0.31614029519123948},{"$f":"IF(M560=0,0,L560/M560)","v":0.14235835581653705},{"$f":"L560*100/B$1537","v":31696.113074204946},0.14235835581653705]
["2020-04-19T17:00:00",7,"Liguria",885,101,986,2504,3490,78,227,2110,928,6528,31551,21103,{"$f":"IF(Q561=\"x2\",M561,P560)","v":5191},{"$f":"IF(M561>P560*2,\"x2\",P560)","v":5191},{"$f":"IF(Q561=\"x2\",M561,\"\")","v":""},null,{"$f":"M561*100/M1602","v":3.6474979326375077},{"$f":"IF(J561-J560=0,\"\",J561-J560)","v":114},{"$f":"IF(K561-K560=0,\"\",K561-K560)","v":118},{"$f":"IF(L561-L560=0,\"\",L561-L560)","v":31},{"$f":"IF(M561-M560=0,\"\",M561-M560)","v":227},{"$f":"IF(N561-N560=0,\"\",N561-N560)","v":2229},{"$f":"IF(M561=0,0,H561/M561)","v":0.53462009803921573},{"$f":"IF(M561=0,0,K561/M561)","v":0.32322303921568629},{"$f":"IF(M561=0,0,L561/M561)","v":0.14215686274509803},{"$f":"L561*100/B$1537","v":32791.519434628972},0.14215686274509803]
["2020-04-20T17:00:00",7,"Liguria",878,102,980,2516,3496,6,141,2216,957,6669,33007,21979,{"$f":"IF(Q562=\"x2\",M562,P561)","v":5191},{"$f":"IF(M562>P561*2,\"x2\",P561)","v":5191},{"$f":"IF(Q562=\"x2\",M562,\"\")","v":""},null,{"$f":"M562*100/M1603","v":3.6798949389719029},{"$f":"IF(J562-J561=0,\"\",J562-J561)","v":-86},{"$f":"IF(K562-K561=0,\"\",K562-K561)","v":106},{"$f":"IF(L562-L561=0,\"\",L562-L561)","v":29},{"$f":"IF(M562-M561=0,\"\",M562-M561)","v":141},{"$f":"IF(N562-N561=0,\"\",N562-N561)","v":1456},{"$f":"IF(M562=0,0,H562/M562)","v":0.5242165242165242},{"$f":"IF(M562=0,0,K562/M562)","v":0.33228370070475333},{"$f":"IF(M562=0,0,L562/M562)","v":0.14349977507872244},{"$f":"L562*100/B$1537","v":33816.254416961128},0.14349977507872244]
["2020-04-21T17:00:00",7,"Liguria",914,94,1008,2455,3463,-33,95,2311,990,6764,34186,22670,5191,{"$f":"IF(M563>P562*2,\"x2\",P562)","v":5191},{"$f":"IF(Q563=\"x2\",M563,\"\")","v":""},null,{"$f":"M563*100/M1604","v":3.6769462428719755},{"$f":"IF(J563-J562=0,\"\",J563-J562)","v":-46},{"$f":"IF(K563-K562=0,\"\",K563-K562)","v":95},{"$f":"IF(L563-L562=0,\"\",L563-L562)","v":33},{"$f":"IF(M563-M562=0,\"\",M563-M562)","v":95},{"$f":"IF(N563-N562=0,\"\",N563-N562)","v":1179},{"$f":"IF(M563=0,0,H563/M563)","v":0.51197516262566534},{"$f":"IF(M563=0,0,K563/M563)","v":0.34166173861620341},{"$f":"IF(M563=0,0,L563/M563)","v":0.14636309875813128},{"$f":"L563*100/B$1537","v":34982.33215547703},0.14636309875813128]
["2020-04-22T17:00:00",7,"Liguria",860,92,952,2524,3476,13,154,2420,1022,6918,35990,23756,5191,{"$f":"IF(M564>P563*2,\"x2\",P563)","v":5191},{"$f":"IF(Q564=\"x2\",M564,\"\")","v":""},null,{"$f":"M564*100/M1605","v":3.6930074148414271},{"$f":"IF(J564-J563=0,\"\",J564-J563)","v":59},{"$f":"IF(K564-K563=0,\"\",K564-K563)","v":109},{"$f":"IF(L564-L563=0,\"\",L564-L563)","v":32},{"$f":"IF(M564-M563=0,\"\",M564-M563)","v":154},{"$f":"IF(N564-N563=0,\"\",N564-N563)","v":1804},{"$f":"IF(M564=0,0,H564/M564)","v":0.50245735761780863},{"$f":"IF(M564=0,0,K564/M564)","v":0.3498120844174617},{"$f":"IF(M564=0,0,L564/M564)","v":0.1477305579647297},{"$f":"L564*100/B$1537","v":36113.074204946999},0.1477305579647297]
["2020-04-23T17:00:00",7,"Liguria",783,91,874,2592,3466,-10,131,2536,1047,7049,37842,25045,{"$f":"IF(Q565=\"x2\",M565,P564)","v":5191},{"$f":"IF(M565>P564*2,\"x2\",P564)","v":5191},{"$f":"IF(Q565=\"x2\",M565,\"\")","v":""},null,{"$f":"M565*100/M1606","v":3.7105272854563545},{"$f":"IF(J565-J564=0,\"\",J565-J564)","v":-23},{"$f":"IF(K565-K564=0,\"\",K565-K564)","v":116},{"$f":"IF(L565-L564=0,\"\",L565-L564)","v":25},{"$f":"IF(M565-M564=0,\"\",M565-M564)","v":131},{"$f":"IF(N565-N564=0,\"\",N565-N564)","v":1852},{"$f":"IF(M565=0,0,H565/M565)","v":0.49170095048943113},{"$f":"IF(M565=0,0,K565/M565)","v":0.35976734288551565},{"$f":"IF(M565=0,0,L565/M565)","v":0.14853170662505319},{"$f":"L565*100/B$1537","v":36996.466431095403},{"$f":"IF(M565=0,0,L565/M565)","v":0.14853170662505319}]
["2020-04-24T17:00:00",7,"Liguria",760,87,847,2590,3437,-29,124,2660,1076,7173,39563,26040,{"$f":"IF(Q566=\"x2\",M566,P565)","v":5191},{"$f":"IF(M566>P565*2,\"x2\",P565)","v":5191},{"$f":"IF(Q566=\"x2\",M566,\"\")","v":""},null,{"$f":"M566*100/M1607","v":3.7166958558297147},{"$f":"IF(J566-J565=0,\"\",J566-J565)","v":-7},{"$f":"IF(K566-K565=0,\"\",K566-K565)","v":124},{"$f":"IF(L566-L565=0,\"\",L566-L565)","v":29},{"$f":"IF(M566-M565=0,\"\",M566-M565)","v":124},{"$f":"IF(N566-N565=0,\"\",N566-N565)","v":1721},{"$f":"IF(M566=0,0,H566/M566)","v":0.47915795343649797},{"$f":"IF(M566=0,0,K566/M566)","v":0.37083507597936705},{"$f":"IF(M566=0,0,L566/M566)","v":0.15000697058413495},{"$f":"L566*100/B$1537","v":38021.20141342756},{"$f":"IF(M566=0,0,L566/M566)","v":0.15000697058413495}]
["2020-04-25T17:00:00",7,"Liguria",759,83,842,2591,3433,-4,128,2775,1093,7301,41125,26898,{"$f":"IF(Q567=\"x2\",M567,P566)","v":5191},{"$f":"IF(M567>P566*2,\"x2\",P566)","v":5191},{"$f":"IF(Q567=\"x2\",M567,\"\")","v":""},null,{"$f":"M567*100/M1608","v":3.7373752885831144},{"$f":"IF(J567-J566=0,\"\",J567-J566)","v":4},{"$f":"IF(K567-K566=0,\"\",K567-K566)","v":115},{"$f":"IF(L567-L566=0,\"\",L567-L566)","v":17},{"$f":"IF(M567-M566=0,\"\",M567-M566)","v":128},{"$f":"IF(N567-N566=0,\"\",N567-N566)","v":1562},{"$f":"IF(M567=0,0,H567/M567)","v":0.4702095603342008},{"$f":"IF(M567=0,0,K567/M567)","v":0.38008491987398985},{"$f":"IF(M567=0,0,L567/M567)","v":0.14970551979180935},{"$f":"L567*100/B$1537","v":38621.90812720848},{"$f":"IF(M567=0,0,L567/M567)","v":0.14970551979180935}]
["2020-04-26T17:00:00",7,"Liguria",748,82,830,2650,3480,47,187,2894,1114,7488,42607,27852,{"$f":"IF(Q568=\"x2\",M568,P567)","v":5191},{"$f":"IF(M568>P567*2,\"x2\",P567)","v":5191},{"$f":"IF(Q568=\"x2\",M568,\"\")","v":""},null,{"$f":"M568*100/M1609","v":3.7880359175414191},{"$f":"IF(J568-J567=0,\"\",J568-J567)","v":59},{"$f":"IF(K568-K567=0,\"\",K568-K567)","v":119},{"$f":"IF(L568-L567=0,\"\",L568-L567)","v":21},{"$f":"IF(M568-M567=0,\"\",M568-M567)","v":187},{"$f":"IF(N568-N567=0,\"\",N568-N567)","v":1482},{"$f":"IF(M568=0,0,H568/M568)","v":0.46474358974358976},{"$f":"IF(M568=0,0,K568/M568)","v":0.38648504273504275},{"$f":"IF(M568=0,0,L568/M568)","v":0.14877136752136752},{"$f":"L568*100/B$1537","v":39363.957597173146},{"$f":"IF(M568=0,0,L568/M568)","v":0.14877136752136752}]
["2020-04-27T17:00:00",7,"Liguria",754,83,837,2743,3580,100,154,2934,1128,7642,44039,28739,{"$f":"IF(Q569=\"x2\",M569,P568)","v":5191},{"$f":"IF(M569>P568*2,\"x2\",P568)","v":5191},{"$f":"IF(Q569=\"x2\",M569,\"\")","v":""},null,{"$f":"M569*100/M1610","v":3.8322284292978428},{"$f":"IF(J569-J568=0,\"\",J569-J568)","v":-33},{"$f":"IF(K569-K568=0,\"\",K569-K568)","v":40},{"$f":"IF(L569-L568=0,\"\",L569-L568)","v":14},{"$f":"IF(M569-M568=0,\"\",M569-M568)","v":154},{"$f":"IF(N569-N568=0,\"\",N569-N568)","v":1432},{"$f":"IF(M569=0,0,H569/M569)","v":0.46846375294425541},{"$f":"IF(M569=0,0,K569/M569)","v":0.38393090813923059},{"$f":"IF(M569=0,0,L569/M569)","v":0.14760533891651401},{"$f":"L569*100/B$1537","v":39858.657243816255},{"$f":"IF(M569=0,0,L569/M569)","v":0.14760533891651401}]
[{"$f":"A569 + 1","v":"2020-04-28T17:00:00"},null,null,null,null,null,null,null,null,null,null,null,null,null,null,null,"Media x2",{"$f":"COUNT(N506:N569) / COUNT(R506:R569)","v":6.4}]
[{"$f":"A570+1","v":"2020-04-29T17:00:00"}]
[{"$f":"A571+1","v":"2020-04-30T17:00:00"}]
[null,null,null,null,{"$f":"E569/$M569","v":1.0861031143679666E-2},null,null,{"$f":"H569/$M569","v":0.46846375294425541},null,null,{"$f":"K569/$M569","v":0.38393090813923059},{"$f":"L569/$M569","v":0.14760533891651401},null,{"$f":"N569/$M569","v":5.7627584401989012}]
[]
[]
[]
["Data","Codice","Regione","Ricoverati","Terap. Intens.","Ospedalizzati","Quarantena","Positivi","+ Positivi","Nuovi","Guariti","Deceduti","Totale","Tamponi","Testati",null,null,"x 2",null,"% su Tot.","+ Nuovi","+ Guariti","+ Deceduti","+ Totali","+ Tamponi","% Positivi","% Guariti","% Deceduti","P. Stimati","% Morti"]
["2020-02-24T18:00:00",8,"Emilia Romagna",10,2,12,6,18,0,18,0,0,18,148,null,{"$f":"M578","v":18},null,{"$f":"M578","v":18},null,{"$f":"M578*100/M1547","v":7.8602620087336241},null,null,null,null,null,{"$f":"IF(M578=0,0,H578/M578)","v":1},{"$f":"IF(M578=0,0,K578/M578)","v":0},{"$f":"IF(M578=0,0,L578/M578)","v":0},{"$f":"L578*100/B$1537","v":0},{"$f":"IF(M578=0,0,L578/M578)","v":0}]
["2020-02-25T18:00:00",8,"Emilia Romagna",15,2,17,9,26,8,8,0,0,26,391,null,{"$f":"IF(Q579=\"x2\",M579,P578)","v":18},{"$f":"IF(M579>P578*2,\"x2\",P578)","v":18},{"$f":"IF(Q579=\"x2\",M579,\"\")","v":""},null,{"$f":"M579*100/M1548","v":8.0745341614906838},{"$f":"IF(J579-J578=0,\"\",J579-J578)","v":-10},{"$f":"IF(K579-K578=0,\"\",K579-K578)","v":""},{"$f":"IF(L579-L578=0,\"\",L579-L578)","v":""},{"$f":"IF(M579-M578=0,\"\",M579-M578)","v":8},{"$f":"IF(N579-N578=0,\"\",N579-N578)","v":243},1,0,0,{"$f":"L579*100/B$1537","v":0},0]
["2020-02-26T18:00:00",8,"Emilia Romagna",20,3,23,23,46,20,20,0,1,47,577,null,47,"x2",47,null,{"$f":"M580*100/M1549","v":11.75},12,"",1,21,186,0.97872340425531912,0,2.1276595744680851E-2,{"$f":"L580*100/B$1537","v":35.335689045936398},2.1276595744680851E-2]
["2020-02-27T18:00:00",8,"Emilia Romagna",36,6,42,54,96,50,50,0,1,97,1033,null,97,"x2",97,null,{"$f":"M581*100/M1550","v":14.923076923076923},30,"","",50,456,0.98969072164948457,0,1.0309278350515464E-2,{"$f":"L581*100/B$1537","v":35.335689045936398},1.0309278350515464E-2]
["2020-02-28T18:00:00",8,"Emilia Romagna",56,6,62,81,143,47,47,0,2,145,1277,null,97,97,"",null,{"$f":"M582*100/M1551","v":16.328828828828829},-3,"",1,48,244,0.98620689655172411,0,1.3793103448275862E-2,{"$f":"L582*100/B$1537","v":70.671378091872796},1.3793103448275862E-2]
["2020-02-29T17:00:00",8,"Emilia Romagna",86,11,97,116,213,70,70,0,4,217,1550,null,217,"x2",217,null,{"$f":"M583*100/M1552","v":19.23758865248227},23,"",2,72,273,0.98156682027649766,0,1.8433179723502304E-2,{"$f":"L583*100/B$1537","v":141.34275618374559},1.8433179723502304E-2]
["2020-03-01T17:00:00",8,"Emilia Romagna",127,13,140,137,277,64,64,0,8,285,1795,null,217,217,"",null,{"$f":"M584*100/M1553","v":16.824085005903189},-6,"",4,68,245,0.97192982456140353,0,2.8070175438596492E-2,{"$f":"L584*100/B$1537","v":282.68551236749119},2.8070175438596492E-2]
["2020-03-02T18:00:00",8,"Emilia Romagna",148,16,164,160,324,47,47,0,11,335,1973,null,217,217,"",null,{"$f":"M585*100/M1554","v":16.453831041257367},-17,"",3,50,178,0.96716417910447761,0,3.2835820895522387E-2,{"$f":"L585*100/B$1537","v":388.69257950530033},3.2835820895522387E-2]
["2020-03-03T18:00:00",8,"Emilia Romagna",187,24,211,187,398,74,74,4,18,420,2012,null,217,217,"",null,{"$f":"M586*100/M1555","v":16.786570743405274},27,4,7,85,39,0.94761904761904758,9.5238095238095247E-3,4.2857142857142858E-2,{"$f":"L586*100/B$1537","v":636.0424028268551},4.2857142857142858E-2]
["2020-03-04T17:00:00",8,"Emilia Romagna",256,26,282,234,516,118,118,6,22,544,2500,null,544,"x2",544,null,{"$f":"M587*100/M1556","v":17.610877306571705},44,2,4,124,488,0.94852941176470584,1.1029411764705883E-2,4.0441176470588237E-2,{"$f":"L587*100/B$1537","v":777.38515901060066},4.0441176470588237E-2]
["2020-03-05T17:00:00",8,"Emilia Romagna",327,32,359,299,658,142,142,10,30,698,2884,null,544,544,"",null,{"$f":"M588*100/M1557","v":18.092275790565061},24,4,8,154,384,0.94269340974212035,1.4326647564469915E-2,4.2979942693409739E-2,{"$f":"L588*100/B$1537","v":1060.0706713780919},4.2979942693409739E-2]
["2020-03-06T17:00:00",8,"Emilia Romagna",397,53,450,366,816,158,158,17,37,870,3136,null,544,544,"",null,{"$f":"M589*100/M1558","v":18.766177739430542},16,7,7,172,252,0.93793103448275861,1.9540229885057471E-2,4.2528735632183907E-2,{"$f":"L589*100/B$1537","v":1307.4204946996465},4.2528735632183907E-2]
["2020-03-07T18:00:00",8,"Emilia Romagna",464,64,528,409,937,121,121,25,48,1010,3604,null,544,544,"",null,{"$f":"M590*100/M1559","v":17.16811150773415},-37,8,11,140,468,0.92772277227722777,2.4752475247524754E-2,4.7524752475247525E-2,{"$f":"L590*100/B$1537","v":1696.113074204947},4.7524752475247525E-2]
["2020-03-08T18:00:00",8,"Emilia Romagna",542,75,617,480,1097,160,160,27,56,1180,4344,null,1180,"x2",1180,null,{"$f":"M591*100/M1560","v":16},39,2,8,170,740,0.9296610169491526,2.288135593220339E-2,4.7457627118644069E-2,{"$f":"L591*100/B$1537","v":1978.7985865724381},4.7457627118644069E-2]
["2020-03-09T18:00:00",8,"Emilia Romagna",576,90,666,620,1286,189,189,30,70,1386,4906,null,1180,1180,"",null,{"$f":"M592*100/M1561","v":15.111208024422154},29,3,14,206,562,0.92784992784992781,2.1645021645021644E-2,5.0505050505050504E-2,{"$f":"L592*100/B$1537","v":2473.4982332155478},5.0505050505050504E-2]
["2020-03-10T18:00:00",8,"Emilia Romagna",669,98,767,650,1417,131,131,31,85,1533,5494,null,1180,1180,"",null,{"$f":"M593*100/M1562","v":15.104936446940584},-58,1,15,147,588,0.92433137638617091,2.0221787345075015E-2,5.5446836268754074E-2,{"$f":"L593*100/B$1537","v":3003.5335689045937},5.5446836268754074E-2]
["2020-03-11T17:00:00",8,"Emilia Romagna",745,104,849,739,1588,171,171,38,113,1739,6640,null,1180,1180,"",null,{"$f":"M594*100/M1563","v":13.954421441181191},40,7,28,206,1146,0.91316848763657277,2.1851638872915469E-2,6.4979873490511791E-2,{"$f":"L594*100/B$1537","v":3992.9328621908126},6.4979873490511791E-2]
["2020-03-12T17:00:00",8,"Emilia Romagna",814,112,926,832,1758,170,170,43,146,1947,7600,null,1180,1180,"",null,{"$f":"M595*100/M1564","v":12.88294845497254},-1,5,33,208,960,0.90292758089368264,2.2085259373394967E-2,7.4987159732922443E-2,{"$f":"L595*100/B$1537","v":5159.0106007067134},7.4987159732922443E-2]
["2020-03-13T17:00:00",8,"Emilia Romagna",942,128,1070,941,2011,253,253,51,201,2263,8787,null,1180,1180,"",null,{"$f":"M596*100/M1565","v":12.814269535673839},83,8,55,316,1187,0.88864339372514356,2.2536456031816175E-2,8.8820150243040213E-2,{"$f":"L596*100/B$1537","v":7102.4734982332157},8.8820150243040213E-2]
["2020-03-14T17:00:00",8,"Emilia Romagna",1076,152,1228,1121,2349,338,338,54,241,2644,10043,null,2644,"x2",2644,null,{"$f":"M597*100/M1566","v":12.497045894975658},85,3,40,381,1256,0.88842662632375191,2.042360060514372E-2,9.114977307110439E-2,{"$f":"L597*100/B$1537","v":8515.9010600706715},9.114977307110439E-2]
["2020-03-15T17:00:00",8,"Emilia Romagna",1215,169,1384,1357,2741,392,392,68,284,3093,12054,null,2644,2644,"",null,{"$f":"M598*100/M1567","v":12.498484664807856},54,14,43,449,2011,0.88619463304235369,2.1985127707727127E-2,9.1820239249919167E-2,{"$f":"L598*100/B$1537","v":10035.335689045936},9.1820239249919167E-2]
["2020-03-16T17:00:00",8,"Emilia Romagna",1362,197,1559,1529,3088,347,347,88,346,3522,13096,null,2644,2644,"",null,{"$f":"M599*100/M1568","v":12.587562544674768},-45,20,62,429,1042,0.87677455990914255,2.4985803520726858E-2,9.8239636570130601E-2,{"$f":"L599*100/B$1537","v":12226.148409893993},9.8239636570130601E-2]
["2020-03-17T17:00:00",8,"Emilia Romagna",1566,223,1789,1615,3404,316,316,134,393,3931,14510,null,2644,2644,"",null,{"$f":"M600*100/M1569","v":12.476988510125055},-31,46,47,409,1414,0.8659374205036886,3.4088018315950139E-2,9.9974561180361229E-2,{"$f":"L600*100/B$1537","v":13886.925795053003},9.9974561180361229E-2]
["2020-03-18T17:00:00",8,"Emilia Romagna",1784,247,2031,1884,3915,511,511,152,458,4525,15461,null,2644,2644,"",null,{"$f":"M601*100/M1570","v":12.670456136420912},195,18,65,594,951,0.86519337016574582,3.3591160220994475E-2,0.10121546961325967,{"$f":"L601*100/B$1537","v":16183.745583038868},0.10121546961325967]
["2020-03-19T17:00:00",8,"Emilia Romagna",1900,260,2160,2346,4506,591,591,177,531,5214,18344,null,2644,2644,"",null,{"$f":"M602*100/M1571","v":12.706226392104302},80,25,73,689,2883,0.86421173762945913,3.394706559263521E-2,0.10184119677790564,{"$f":"L602*100/B$1537","v":18763.250883392226},0.10184119677790564]
["2020-03-20T17:00:00",8,"Emilia Romagna",2083,267,2350,2739,5089,583,583,239,640,5968,20753,null,5968,"x2",5968,null,{"$f":"M603*100/M1572","v":12.692201356840561},-8,62,109,754,2409,0.85271447721179627,4.0046916890080428E-2,0.10723860589812333,{"$f":"L603*100/B$1537","v":22614.840989399294},0.10723860589812333]
["2020-03-21T17:00:00",8,"Emilia Romagna",2267,265,2532,3129,5661,572,572,329,715,6705,24620,null,5968,5968,"",null,{"$f":"M604*100/M1573","v":12.514464892306544},-11,90,75,737,3867,0.84429530201342284,4.906785980611484E-2,0.10663683818046234,{"$f":"L604*100/B$1537","v":25265.017667844524},0.10663683818046234]
["2020-03-22T17:00:00",8,"Emilia Romagna",2429,269,2698,3692,6390,729,729,349,816,7555,28022,null,5968,5968,"",null,{"$f":"M605*100/M1574","v":12.775203760695323},157,20,101,850,3402,0.84579748510919917,4.6194573130377233E-2,0.10800794176042355,{"$f":"L605*100/B$1537","v":28833.922261484098},0.10800794176042355]
["2020-03-23T17:00:00",8,"Emilia Romagna",2846,276,3122,4098,7220,830,830,423,892,8535,31200,null,5968,5968,"",null,{"$f":"M606*100/M1575","v":13.351166173917123},101,74,76,980,3178,0.84592852958406561,4.9560632688927943E-2,0.10451083772700645,{"$f":"L606*100/B$1537","v":31519.434628975265},0.10451083772700645]
["2020-03-24T17:00:00",8,"Emilia Romagna",2974,291,3265,4446,7711,491,491,558,985,9254,33527,null,5968,5968,"",null,{"$f":"M607*100/M1576","v":13.377471955591535},-339,135,93,719,2327,0.83326129241409119,6.0298249405662419E-2,0.10644045818024638,{"$f":"L607*100/B$1537","v":34805.653710247352},0.10644045818024638]
["2020-03-25T17:00:00",8,"Emilia Romagna",3180,294,3474,4782,8256,545,545,721,1077,10054,38045,null,5968,5968,"",null,{"$f":"M608*100/M1577","v":13.515984190573494},54,163,92,800,4518,0.82116570519196341,7.1712751143823347E-2,0.10712154366421325,{"$f":"L608*100/B$1537","v":38056.5371024735},0.10712154366421325]
["2020-03-26T17:00:00",8,"Emilia Romagna",3354,301,3655,5195,8850,594,594,792,1174,10816,42395,null,5968,5968,"",null,{"$f":"M609*100/M1578","v":13.429518618309142},49,71,97,762,4350,0.81823224852071008,7.3224852071005916E-2,0.10854289940828403,{"$f":"L609*100/B$1537","v":41484.098939929325},0.10854289940828403]
["2020-03-27T17:00:00",8,"Emilia-Romagna",3461,308,3769,5592,9361,511,772,960,1267,11588,47798,null,5968,5968,"",null,{"$f":"M610*100/M1579","v":13.396841545469259},178,168,93,772,5403,{"$f":"IF(M610=0,0,H610/M610)","v":0.80781843286158095},{"$f":"IF(M610=0,0,K610/M610)","v":8.2844321712115976E-2},{"$f":"IF(M610=0,0,L610/M610)","v":0.10933724542630308},{"$f":"L610*100/B$1537","v":44770.318021201412},0.10933724542630308]
["2020-03-28T17:00:00",8,"Emilia-Romagna",3695,316,4011,5953,9964,603,795,1075,1344,12383,52991,null,12383,"x2",{"$f":"IF(Q611=\"x2\",M611,\"\")","v":12383},null,{"$f":"M611*100/M1580","v":13.391080543299593},{"$f":"IF(J611-J610=0,\"\",J611-J610)","v":23},{"$f":"IF(K611-K610=0,\"\",K611-K610)","v":115},{"$f":"IF(L611-L610=0,\"\",L611-L610)","v":77},{"$f":"IF(M611-M610=0,\"\",M611-M610)","v":795},{"$f":"IF(N611-N610=0,\"\",N611-N610)","v":5193},0.80465153839941861,8.6812565614148435E-2,0.10853589598643301,{"$f":"L611*100/B$1537","v":47491.166077738511},0.10853589598643301]
["2020-03-29T17:00:00",8,"Emilia-Romagna",3769,333,4102,6433,10535,571,736,1141,1443,13119,52991,null,12383,12383,"",null,{"$f":"M612*100/M1581","v":13.429352332401805},-59,66,99,736,"",0.803033767817669,8.6973092461315654E-2,0.10999313972101532,{"$f":"L612*100/B$1537","v":50989.399293286217},0.10999313972101532]
["2020-03-30T17:00:00",8,"Emilia-Romagna",3779,351,4130,6636,10766,231,412,1227,1538,13531,50990,null,12383,12383,"",null,{"$f":"M613*100/M1582","v":13.299717905621247},-324,86,95,412,-2001,0.79565442317640978,9.0680659226960308E-2,0.11366491759662996,{"$f":"L613*100/B$1537","v":54346.289752650177},0.11366491759662996]
["2020-03-31T17:00:00",8,"Emilia-Romagna",3765,353,4118,6835,10953,187,543,1477,1644,14074,54532,null,12383,12383,"",null,{"$f":"M614*100/M1583","v":13.303463399879007},131,250,106,543,3542,0.77824356970299846,0.10494528918573255,0.116811141111269,{"$f":"L614*100/B$1537","v":58091.872791519432},0.116811141111269]
["2020-04-01T17:00:00",8,"Emilia-Romagna",3898,359,4257,7232,11489,536,713,1566,1732,14787,58457,null,12383,12383,"",null,{"$f":"M615*100/M1584","v":13.372944815236854},170,89,88,713,3925,0.77696625414215192,0.10590383444917834,0.11712991140866978,{"$f":"L615*100/B$1537","v":61201.413427561834},0.11712991140866978]
["2020-04-02T17:00:00",8,"Emilia-Romagna",3944,366,4310,7549,11859,370,546,1663,1811,15333,60507,null,12383,12383,"",null,{"$f":"M616*100/M1585","v":13.305045035664081},-167,97,79,546,2050,0.77342985717080803,0.10845887954085959,0.11811126328833235,{"$f":"L616*100/B$1537","v":63992.932862190813},0.11811126328833235]
["2020-04-03T17:00:00",8,"Emilia-Romagna",3915,364,4279,7899,12178,319,599,1852,1902,15932,63682,null,12383,12383,"",null,{"$f":"M617*100/M1586","v":13.295834828544486},53,189,91,599,3175,0.76437358774792874,0.11624403715792117,0.11938237509415014,{"$f":"L617*100/B$1537","v":67208.480565371021},0.11938237509415014]
["2020-04-04T17:00:00",8,"Emilia-Romagna",3859,358,4217,8306,12523,345,608,2040,1977,16540,67075,null,12383,12383,"",null,{"$f":"M618*100/M1587","v":13.271070030168817},9,188,75,608,3393,0.75713422007255138,0.12333736396614269,0.11952841596130592,{"$f":"L618*100/B$1537","v":69858.657243816255},0.11952841596130592]
["2020-04-05T17:00:00",8,"Emilia-Romagna",3839,375,4214,8623,12837,314,549,2201,2051,17089,69986,null,12383,12383,"",null,{"$f":"M619*100/M1588","v":13.252628966715266},-59,161,74,549,2911,0.75118497278951368,0.12879630171455322,0.12001872549593305,{"$f":"L619*100/B$1537","v":72473.498233215549},0.12001872549593305]
["2020-04-06T17:00:00",8,"Emilia-Romagna",3804,372,4176,8875,13051,214,467,2397,2108,17556,72163,null,12383,12383,"",null,{"$f":"M620*100/M1589","v":13.245113054237365},-82,196,57,467,2177,0.74339257233994072,0.13653451811346548,0.12007290954659376,{"$f":"L620*100/B$1537","v":74487.632508833922},0.12007290954659376]
["2020-04-07T17:00:00",8,"Emilia-Romagna",3750,366,4116,8932,13048,-3,269,2597,2180,17825,75191,null,12383,12383,"",null,{"$f":"M621*100/M1590","v":13.146637558449987},-198,200,72,269,3028,0.73200561009817677,0.14569424964936886,0.12230014025245442,{"$f":"L621*100/B$1537","v":77031.802120141336},0.12230014025245442]
["2020-04-08T17:00:00",8,"Emilia-Romagna",3769,361,4130,8980,13110,62,409,2890,2234,18234,78367,null,12383,12383,"",null,{"$f":"M622*100/M1591","v":13.078280328785988},140,293,54,409,3176,0.71898650871997372,0.15849511900844576,0.12251837227158056,{"$f":"L622*100/B$1537","v":78939.929328621904},0.12251837227158056]
["2020-04-09T17:00:00",8,"Emilia-Romagna",3722,355,4077,9181,13258,148,443,3103,2316,18677,81715,null,12383,12383,"",null,{"$f":"M623*100/M1592","v":13.003912940553938},34,213,82,443,3348,0.7098570434223912,0.16614017240456175,0.12400278417304707,{"$f":"L623*100/B$1537","v":81837.455830388688},0.12400278417304707]
["2020-04-10T17:00:00",8,"Emilia-Romagna",3596,349,3945,9405,13350,92,451,3381,2397,19128,85884,null,12383,12383,"",null,{"$f":"M624*100/M1593","v":12.961369319067334},8,278,81,451,4169,0.6979297365119197,0.17675658720200751,0.12531367628607276,{"$f":"L624*100/B$1537","v":84699.646643109532},0.12531367628607276]
["2020-04-11T17:00:00",8,"Emilia-Romagna",3530,341,3871,9624,13495,145,507,3659,2481,19635,91759,null,12383,12383,"",null,{"$f":"M625*100/M1594","v":12.894773134740037},56,278,84,507,5875,0.68729309905780489,0.18635090399796281,0.12635599694423225,{"$f":"L625*100/B$1537","v":87667.844522968197},0.12635599694423225]
["2020-04-12T17:00:00",8,"Emilia-Romagna",3491,335,3826,9846,13672,177,463,3862,2564,20098,96704,null,12383,12383,"",null,{"$f":"M626*100/M1595","v":12.85342440347141},-44,203,83,463,4945,0.6802666932033038,0.19215842372375361,0.12757488307294257,{"$f":"L626*100/B$1537","v":90600.706713780921},0.12757488307294257]
["2020-04-13T17:00:00",8,"Emilia-Romagna",3490,331,3821,9997,13818,146,342,4007,2615,20440,99047,null,12383,12383,"",null,{"$f":"M627*100/M1596","v":12.813761628927505},-121,145,51,342,2343,0.67602739726027394,0.19603718199608611,0.12793542074363992,{"$f":"L627*100/B$1537","v":92402.826855123669},0.12793542074363992]
["2020-04-14T17:00:00",8,"Emilia-Romagna",3473,328,3801,9977,13778,-40,312,4269,2705,20752,101896,null,12383,12383,"",null,{"$f":"M628*100/M1597","v":12.771404657574713},-30,262,90,312,2849,0.66393600616808024,0.20571511179645335,0.13034888203546646,{"$f":"L628*100/B$1537","v":95583.038869257944},0.13034888203546646]
["2020-04-15T17:00:00",8,"Emilia-Romagna",3388,325,3713,9864,13577,-201,277,4664,2788,21029,106149,null,12383,12383,"",null,{"$f":"M629*100/M1598","v":12.732887287699434},-35,395,83,277,4253,0.64563222216938509,0.22178895810547339,0.13257881972514146,{"$f":"L629*100/B$1537","v":98515.901060070668},0.13257881972514146]
["2020-04-16T17:00:00",8,"Emilia-Romagna",3360,316,3676,9987,13663,86,457,4980,2843,21486,112105,null,12383,12383,"",null,{"$f":"M630*100/M1599","v":12.718049496569808},180,316,55,457,5956,0.63590244810574326,0.2317788327282882,0.13231871916596855,{"$f":"L630*100/B$1537","v":100459.36395759718},0.13231871916596855]
["2020-04-17T17:00:00",8,"Emilia-Romagna",3330,309,3639,9946,13585,-78,348,5346,2903,21834,116826,null,12383,12383,{"$f":"IF(Q631=\"x2\",M631,\"\")","v":""},null,{"$f":"M631*100/M1600","v":12.662235985942447},{"$f":"IF(J631-J630=0,\"\",J631-J630)","v":-109},{"$f":"IF(K631-K630=0,\"\",K631-K630)","v":366},{"$f":"IF(L631-L630=0,\"\",L631-L630)","v":60},{"$f":"IF(M631-M630=0,\"\",M631-M630)","v":348},{"$f":"IF(N631-N630=0,\"\",N631-N630)","v":4721},{"$f":"IF(M631=0,0,H631/M631)","v":0.62219474214527803},{"$f":"IF(M631=0,0,K631/M631)","v":0.2448474855729596},{"$f":"IF(M631=0,0,L631/M631)","v":0.13295777228176239},{"$f":"L631*100/B$1537","v":102579.50530035335},0.13295777228176239]
["2020-04-18T17:00:00",8,"Emilia-Romagna",3234,296,3530,10054,13584,-1,350,5635,2965,22184,121220,null,12383,12383,{"$f":"IF(Q632=\"x2\",M632,\"\")","v":""},null,{"$f":"M632*100/M1601","v":12.609918999573681},{"$f":"IF(J632-J631=0,\"\",J632-J631)","v":2},{"$f":"IF(K632-K631=0,\"\",K632-K631)","v":289},{"$f":"IF(L632-L631=0,\"\",L632-L631)","v":62},{"$f":"IF(M632-M631=0,\"\",M632-M631)","v":350},{"$f":"IF(N632-N631=0,\"\",N632-N631)","v":4394},{"$f":"IF(M632=0,0,H632/M632)","v":0.61233321312657774},{"$f":"IF(M632=0,0,K632/M632)","v":0.25401190046880634},{"$f":"IF(M632=0,0,L632/M632)","v":0.13365488640461595},{"$f":"L632*100/B$1537","v":104770.31802120141},0.13365488640461595]
["2020-04-19T17:00:00",8,"Emilia-Romagna",3166,289,3455,10097,13552,-32,376,5985,3023,22560,124916,88776,12383,12383,{"$f":"IF(Q633=\"x2\",M633,\"\")","v":""},null,{"$f":"M633*100/M1602","v":12.605323737791386},{"$f":"IF(J633-J632=0,\"\",J633-J632)","v":26},{"$f":"IF(K633-K632=0,\"\",K633-K632)","v":350},{"$f":"IF(L633-L632=0,\"\",L633-L632)","v":58},{"$f":"IF(M633-M632=0,\"\",M633-M632)","v":376},{"$f":"IF(N633-N632=0,\"\",N633-N632)","v":3696},{"$f":"IF(M633=0,0,H633/M633)","v":0.60070921985815606},{"$f":"IF(M633=0,0,K633/M633)","v":0.26529255319148937},{"$f":"IF(M633=0,0,L633/M633)","v":0.1339982269503546},{"$f":"L633*100/B$1537","v":106819.78798586573},0.1339982269503546]
["2020-04-20T17:00:00",8,"Emilia-Romagna",3144,283,3427,10095,13522,-30,307,6266,3079,22867,129530,90894,12383,12383,{"$f":"IF(Q634=\"x2\",M634,\"\")","v":""},null,{"$f":"M634*100/M1603","v":12.617807402829586},{"$f":"IF(J634-J633=0,\"\",J634-J633)","v":-69},{"$f":"IF(K634-K633=0,\"\",K634-K633)","v":281},{"$f":"IF(L634-L633=0,\"\",L634-L633)","v":56},{"$f":"IF(M634-M633=0,\"\",M634-M633)","v":307},{"$f":"IF(N634-N633=0,\"\",N634-N633)","v":4614},{"$f":"IF(M634=0,0,H634/M634)","v":0.59133248786460835},{"$f":"IF(M634=0,0,K634/M634)","v":0.27401932916429789},{"$f":"IF(M634=0,0,L634/M634)","v":0.13464818297109371},{"$f":"L634*100/B$1537","v":108798.58657243816},0.13464818297109371]
["2020-04-21T17:00:00",8,"Emilia-Romagna",3045,282,3327,9917,13244,-278,225,6701,3147,23092,134878,93367,12383,12383,{"$f":"IF(Q635=\"x2\",M635,\"\")","v":""},null,{"$f":"M635*100/M1604","v":12.552933565996401},{"$f":"IF(J635-J634=0,\"\",J635-J634)","v":-82},{"$f":"IF(K635-K634=0,\"\",K635-K634)","v":435},{"$f":"IF(L635-L634=0,\"\",L635-L634)","v":68},{"$f":"IF(M635-M634=0,\"\",M635-M634)","v":225},{"$f":"IF(N635-N634=0,\"\",N635-N634)","v":5348},{"$f":"IF(M635=0,0,H635/M635)","v":0.57353195912004162},{"$f":"IF(M635=0,0,K635/M635)","v":0.29018707777585312},{"$f":"IF(M635=0,0,L635/M635)","v":0.13628096310410531},{"$f":"L635*100/B$1537","v":111201.41342756184},0.13628096310410531]
["2020-04-22T17:00:00",8,"Emilia-Romagna",2964,282,3246,9838,13084,-160,342,7146,3204,23434,140874,96824,12383,12383,{"$f":"IF(Q636=\"x2\",M636,\"\")","v":""},null,{"$f":"M636*100/M1605","v":12.509675594014745},{"$f":"IF(J636-J635=0,\"\",J636-J635)","v":117},{"$f":"IF(K636-K635=0,\"\",K636-K635)","v":445},{"$f":"IF(L636-L635=0,\"\",L636-L635)","v":57},{"$f":"IF(M636-M635=0,\"\",M636-M635)","v":342},{"$f":"IF(N636-N635=0,\"\",N636-N635)","v":5996},{"$f":"IF(M636=0,0,H636/M636)","v":0.55833404455065294},{"$f":"IF(M636=0,0,K636/M636)","v":0.30494153793633183},{"$f":"IF(M636=0,0,L636/M636)","v":0.13672441751301528},{"$f":"L636*100/B$1537","v":113215.54770318021},0.13672441751301528]
["2020-04-23T17:00:00",8,"Emilia-Romagna",2889,266,3155,9690,12845,-239,289,7609,3269,23723,146146,99714,12383,12383,{"$f":"IF(Q637=\"x2\",M637,\"\")","v":""},null,{"$f":"M637*100/M1606","v":12.487564022255794},{"$f":"IF(J637-J636=0,\"\",J637-J636)","v":-53},{"$f":"IF(K637-K636=0,\"\",K637-K636)","v":463},{"$f":"IF(L637-L636=0,\"\",L637-L636)","v":65},{"$f":"IF(M637-M636=0,\"\",M637-M636)","v":289},{"$f":"IF(N637-N636=0,\"\",N637-N636)","v":5272},{"$f":"IF(M637=0,0,H637/M637)","v":0.54145765712599592},{"$f":"IF(M637=0,0,K637/M637)","v":0.32074358217763355},{"$f":"IF(M637=0,0,L637/M637)","v":0.13779876069637062},{"$f":"L637*100/B$1537","v":115512.36749116608},{"$f":"IF(M637=0,0,L637/M637)","v":0.13779876069637062}]
["2020-04-24T17:00:00",8,"Emilia-Romagna",2807,264,3071,9438,12509,-336,247,8158,3303,23970,151505,102495,12383,12383,{"$f":"IF(Q638=\"x2\",M638,\"\")","v":""},null,{"$f":"M638*100/M1607","v":12.420075235499549},{"$f":"IF(J638-J637=0,\"\",J638-J637)","v":-42},{"$f":"IF(K638-K637=0,\"\",K638-K637)","v":549},{"$f":"IF(L638-L637=0,\"\",L638-L637)","v":34},{"$f":"IF(M638-M637=0,\"\",M638-M637)","v":247},{"$f":"IF(N638-N637=0,\"\",N638-N637)","v":5359},{"$f":"IF(M638=0,0,H638/M638)","v":0.52186065915727997},{"$f":"IF(M638=0,0,K638/M638)","v":0.34034209428452233},{"$f":"IF(M638=0,0,L638/M638)","v":0.13779724655819775},{"$f":"L638*100/B$1537","v":116713.78091872791},{"$f":"IF(M638=0,0,L638/M638)","v":0.13779724655819775}]
["2020-04-25T17:00:00",8,"Emilia-Romagna",2718,246,2964,9383,12347,-162,239,8515,3347,24209,156883,105628,12383,12383,{"$f":"IF(Q639=\"x2\",M639,\"\")","v":""},null,{"$f":"M639*100/M1608","v":12.392565177552202},{"$f":"IF(J639-J638=0,\"\",J639-J638)","v":-8},{"$f":"IF(K639-K638=0,\"\",K639-K638)","v":357},{"$f":"IF(L639-L638=0,\"\",L639-L638)","v":44},{"$f":"IF(M639-M638=0,\"\",M639-M638)","v":239},{"$f":"IF(N639-N638=0,\"\",N639-N638)","v":5378},{"$f":"IF(M639=0,0,H639/M639)","v":0.51001693585030361},{"$f":"IF(M639=0,0,K639/M639)","v":0.3517286959395266},{"$f":"IF(M639=0,0,L639/M639)","v":0.13825436821016976},{"$f":"L639*100/B$1537","v":118268.55123674912},{"$f":"IF(M639=0,0,L639/M639)","v":0.13825436821016976}]
["2020-04-26T17:00:00",8,"Emilia-Romagna",2695,245,2940,9401,12341,-6,241,8723,3386,24450,161928,109192,12383,12383,{"$f":"IF(Q640=\"x2\",M640,\"\")","v":""},null,{"$f":"M640*100/M1609","v":12.368787150626028},{"$f":"IF(J640-J639=0,\"\",J640-J639)","v":2},{"$f":"IF(K640-K639=0,\"\",K640-K639)","v":208},{"$f":"IF(L640-L639=0,\"\",L640-L639)","v":39},{"$f":"IF(M640-M639=0,\"\",M640-M639)","v":241},{"$f":"IF(N640-N639=0,\"\",N640-N639)","v":5045},{"$f":"IF(M640=0,0,H640/M640)","v":0.50474437627811863},{"$f":"IF(M640=0,0,K640/M640)","v":0.35676891615541922},{"$f":"IF(M640=0,0,L640/M640)","v":0.13848670756646217},{"$f":"L640*100/B$1537","v":119646.64310954063},{"$f":"IF(M640=0,0,L640/M640)","v":0.13848670756646217}]
["2020-04-27T17:00:00",8,"Emilia-Romagna",2640,247,2887,9338,12225,-116,212,9006,3431,24662,164979,111041,12383,12383,{"$f":"IF(Q641=\"x2\",M641,\"\")","v":""},null,{"$f":"M641*100/M1610","v":12.367236001484349},{"$f":"IF(J641-J640=0,\"\",J641-J640)","v":-29},{"$f":"IF(K641-K640=0,\"\",K641-K640)","v":283},{"$f":"IF(L641-L640=0,\"\",L641-L640)","v":45},{"$f":"IF(M641-M640=0,\"\",M641-M640)","v":212},{"$f":"IF(N641-N640=0,\"\",N641-N640)","v":3051},{"$f":"IF(M641=0,0,H641/M641)","v":0.49570188954667099},{"$f":"IF(M641=0,0,K641/M641)","v":0.36517719568567025},{"$f":"IF(M641=0,0,L641/M641)","v":0.13912091476765875},{"$f":"L641*100/B$1537","v":121236.74911660777},{"$f":"IF(M641=0,0,L641/M641)","v":0.13912091476765875}]
[{"$f":"A641 + 1","v":"2020-04-28T17:00:00"},null,null,null,null,null,null,null,null,null,null,null,null,null,null,null,"Media x2",{"$f":"COUNT(N578:N641) / COUNT(R578:R641)","v":7.1111111111111107}]
[{"$f":"A642+1","v":"2020-04-29T17:00:00"}]
[{"$f":"A643+1","v":"2020-04-30T17:00:00"}]
[null,null,null,null,{"$f":"E641/$M641","v":1.0015408320493066E-2},null,null,{"$f":"H641/$M641","v":0.49570188954667099},null,null,{"$f":"K641/$M641","v":0.36517719568567025},{"$f":"L641/$M641","v":0.13912091476765875},null,{"$f":"N641/$M641","v":6.6896034384883629}]
[]
[]
[]
["Data","Codice","Regione","Ricoverati","Terap. Intens.","Ospedalizzati","Quarantena","Positivi","+ Positivi","Nuovi","Guariti","Deceduti","Totale","Tamponi","Testati",null,null,"x 2",null,"% su Tot.","+ Nuovi","+ Guariti","+ Deceduti","+ Totali","+ Tamponi","% Positivi","% Guariti","% Deceduti","P. Stimati","% Morti"]
["2020-02-24T18:00:00",9,"Toscana",0,0,0,0,0,0,0,0,0,0,140,null,{"$f":"M650","v":0},null,{"$f":"M650","v":0},null,{"$f":"M650*100/M1547","v":0},null,null,null,null,null,{"$f":"IF(M650=0,0,H650/M650)","v":0},{"$f":"IF(M650=0,0,K650/M650)","v":0},{"$f":"IF(M650=0,0,L650/M650)","v":0},{"$f":"L650*100/B$1537","v":0},{"$f":"IF(M650=0,0,L650/M650)","v":0}]
["2020-02-25T18:00:00",9,"Toscana",2,0,2,0,2,2,2,0,0,2,296,null,{"$f":"IF(Q651=\"x2\",M651,P650)","v":2},{"$f":"IF(M651>P650*2,\"x2\",P650)","v":"x2"},{"$f":"IF(Q651=\"x2\",M651,\"\")","v":2},null,{"$f":"M651*100/M1548","v":0.6211180124223602},{"$f":"IF(J651-J650=0,\"\",J651-J650)","v":2},{"$f":"IF(K651-K650=0,\"\",K651-K650)","v":""},{"$f":"IF(L651-L650=0,\"\",L651-L650)","v":""},{"$f":"IF(M651-M650=0,\"\",M651-M650)","v":2},{"$f":"IF(N651-N650=0,\"\",N651-N650)","v":156},1,0,0,{"$f":"L651*100/B$1537","v":0},0]
["2020-02-26T18:00:00",9,"Toscana",2,0,2,0,2,0,0,0,0,2,363,null,2,2,"",null,{"$f":"M652*100/M1549","v":0.5},-2,"","","",67,1,0,0,{"$f":"L652*100/B$1537","v":0},0]
["2020-02-27T18:00:00",9,"Toscana",2,0,2,0,2,0,0,0,0,2,410,null,2,2,"",null,{"$f":"M653*100/M1550","v":0.30769230769230771},"","","","",47,1,0,0,{"$f":"L653*100/B$1537","v":0},0]
["2020-02-28T18:00:00",9,"Toscana",5,0,5,2,7,5,5,1,0,8,437,null,8,"x2",8,null,{"$f":"M654*100/M1551","v":0.90090090090090091},5,1,"",6,27,0.875,0.125,0,{"$f":"L654*100/B$1537","v":0},0]
["2020-02-29T17:00:00",9,"Toscana",7,0,7,3,10,3,3,1,0,11,531,null,8,8,"",null,{"$f":"M655*100/M1552","v":0.97517730496453903},-2,"","",3,94,0.90909090909090906,9.0909090909090912E-2,0,{"$f":"L655*100/B$1537","v":0},0]
["2020-03-01T17:00:00",9,"Toscana",7,0,7,5,12,2,2,1,0,13,572,null,8,8,"",null,{"$f":"M656*100/M1553","v":0.76741440377804016},-1,"","",2,41,0.92307692307692313,7.6923076923076927E-2,0,{"$f":"L656*100/B$1537","v":0},0]
["2020-03-02T18:00:00",9,"Toscana",7,0,7,5,12,0,0,1,0,13,613,null,8,8,"",null,{"$f":"M657*100/M1554","v":0.63850687622789781},-2,"","","",41,0.92307692307692313,7.6923076923076927E-2,0,{"$f":"L657*100/B$1537","v":0},0]
["2020-03-03T18:00:00",9,"Toscana",10,0,10,8,18,6,6,1,0,19,697,null,19,"x2",19,null,{"$f":"M658*100/M1555","v":0.75939248601119103},6,"","",6,84,0.94736842105263153,5.2631578947368418E-2,0,{"$f":"L658*100/B$1537","v":0},0]
["2020-03-04T17:00:00",9,"Toscana",15,2,17,20,37,19,19,1,0,38,776,null,19,19,"",null,{"$f":"M659*100/M1556","v":1.2301715765619943},13,"","",19,79,0.97368421052631582,2.6315789473684209E-2,0,{"$f":"L659*100/B$1537","v":0},0]
["2020-03-05T17:00:00",9,"Toscana",26,3,29,31,60,23,23,1,0,61,776,null,61,"x2",61,null,{"$f":"M660*100/M1557","v":1.5811301192327631},4,"","",23,"",0.98360655737704916,1.6393442622950821E-2,0,{"$f":"L660*100/B$1537","v":0},0]
["2020-03-06T17:00:00",9,"Toscana",35,5,40,38,78,18,18,1,0,79,1097,null,61,61,"",null,{"$f":"M661*100/M1558","v":1.7040552200172563},-5,"","",18,321,0.98734177215189878,1.2658227848101266E-2,0,{"$f":"L661*100/B$1537","v":0},0]
["2020-03-07T18:00:00",9,"Toscana",54,7,61,51,112,34,34,1,0,113,1331,null,61,61,"",null,{"$f":"M662*100/M1559","v":1.9207887132415433},16,"","",34,234,0.99115044247787609,8.8495575221238937E-3,0,{"$f":"L662*100/B$1537","v":0},0]
["2020-03-08T18:00:00",9,"Toscana",91,7,98,67,165,53,53,1,0,166,1618,null,166,"x2",166,null,{"$f":"M663*100/M1560","v":2.2508474576271187},19,"","",53,287,0.99397590361445787,6.024096385542169E-3,0,{"$f":"L663*100/B$1537","v":0},0]
["2020-03-09T18:00:00",9,"Toscana",107,9,116,90,206,41,41,1,1,208,2018,null,166,166,"",null,{"$f":"M664*100/M1561","v":2.26777147841256},-12,"",1,42,400,0.99038461538461542,4.807692307692308E-3,4.807692307692308E-3,{"$f":"L664*100/B$1537","v":35.335689045936398},4.807692307692308E-3]
["2020-03-10T18:00:00",9,"Toscana",91,40,131,129,260,54,54,3,1,264,2573,null,166,166,"",null,{"$f":"M665*100/M1562","v":2.6012415016257759},13,2,"",56,555,0.98484848484848486,1.1363636363636364E-2,3.787878787878788E-3,{"$f":"L665*100/B$1537","v":35.335689045936398},3.787878787878788E-3]
["2020-03-11T17:00:00",9,"Toscana",87,54,141,173,314,54,54,5,1,320,2804,null,166,166,"",null,{"$f":"M666*100/M1563","v":2.5678061306371367},"",2,"",56,231,0.98124999999999996,1.5625E-2,3.1250000000000002E-3,{"$f":"L666*100/B$1537","v":35.335689045936398},3.1250000000000002E-3]
["2020-03-12T17:00:00",9,"Toscana",100,59,159,193,352,38,38,7,5,364,3165,null,364,"x2",364,null,{"$f":"M667*100/M1564","v":2.4085224641037519},-16,2,4,44,361,0.96703296703296704,1.9230769230769232E-2,1.3736263736263736E-2,{"$f":"L667*100/B$1537","v":176.67844522968198},1.3736263736263736E-2]
["2020-03-13T17:00:00",9,"Toscana",134,77,211,244,455,103,103,10,5,470,4049,null,364,364,"",null,{"$f":"M668*100/M1565","v":2.6613816534541335},65,3,"",106,884,0.96808510638297873,2.1276595744680851E-2,1.0638297872340425E-2,{"$f":"L668*100/B$1537","v":176.67844522968198},1.0638297872340425E-2]
["2020-03-14T17:00:00",9,"Toscana",160,87,247,367,614,159,159,10,6,630,4595,null,364,364,"",null,{"$f":"M669*100/M1566","v":2.97773786453656},56,"",1,160,546,0.97460317460317458,1.5873015873015872E-2,9.5238095238095247E-3,{"$f":"L669*100/B$1537","v":212.01413427561837},9.5238095238095247E-3]
["2020-03-15T17:00:00",9,"Toscana",175,107,282,481,763,149,149,10,8,781,5132,null,781,"x2",781,null,{"$f":"M670*100/M1567","v":3.1559380935062835},-10,"",2,151,537,0.97695262483994882,1.2804097311139564E-2,1.0243277848911651E-2,{"$f":"L670*100/B$1537","v":282.68551236749119},1.0243277848911651E-2]
["2020-03-16T17:00:00",9,"Toscana",175,107,282,559,841,78,78,11,14,866,5910,null,781,781,"",null,{"$f":"M671*100/M1568","v":3.0950679056468906},-71,1,6,85,778,0.97113163972286376,1.2702078521939953E-2,1.6166281755196306E-2,{"$f":"L671*100/B$1537","v":494.69964664310953},1.6166281755196306E-2]
["2020-03-17T17:00:00",9,"Toscana",329,143,472,552,1024,183,183,12,17,1053,6727,null,781,781,"",null,{"$f":"M672*100/M1569","v":3.342220529422967},105,1,3,187,817,0.97245963912630584,1.1396011396011397E-2,1.6144349477682812E-2,{"$f":"L672*100/B$1537","v":600.70671378091868},1.6144349477682812E-2]
["2020-03-18T17:00:00",9,"Toscana",427,160,587,704,1291,267,267,17,22,1330,7606,null,781,781,"",null,{"$f":"M673*100/M1570","v":3.7241340688264777},84,5,5,277,879,0.97067669172932336,1.2781954887218045E-2,1.6541353383458645E-2,{"$f":"L673*100/B$1537","v":777.38515901060066},1.6541353383458645E-2]
["2020-03-19T17:00:00",9,"Toscana",501,178,679,743,1422,131,131,22,38,1482,8873,null,781,781,"",null,{"$f":"M674*100/M1571","v":3.6115511149019128},-136,5,16,152,1267,0.95951417004048578,1.4844804318488529E-2,2.564102564102564E-2,{"$f":"L674*100/B$1537","v":1342.756183745583},2.564102564102564E-2]
["2020-03-20T17:00:00",9,"Toscana",601,189,790,923,1713,291,291,33,47,1793,10405,null,1793,"x2",1793,null,{"$f":"M675*100/M1572","v":3.8131898513430169},160,11,9,311,1532,0.95538204127161186,1.8404907975460124E-2,2.6213050752928055E-2,{"$f":"L675*100/B$1537","v":1660.7773851590105},2.6213050752928055E-2]
["2020-03-21T17:00:00",9,"Toscana",664,202,866,1039,1905,192,192,35,72,2012,11909,null,1793,1793,"",null,{"$f":"M676*100/M1573","v":3.75527268655045},-99,2,25,219,1504,0.94681908548707749,1.7395626242544732E-2,3.5785288270377733E-2,{"$f":"L676*100/B$1537","v":2544.1696113074204},3.5785288270377733E-2]
["2020-03-22T17:00:00",9,"Toscana",706,215,921,1223,2144,239,239,42,91,2277,13264,null,1793,1793,"",null,{"$f":"M677*100/M1574","v":3.8503162095437791},47,7,19,265,1355,0.9415898111550286,1.844532279314888E-2,3.9964866051822576E-2,{"$f":"L677*100/B$1537","v":3215.547703180212},3.9964866051822576E-2]
["2020-03-23T17:00:00",9,"Toscana",838,238,1076,1225,2301,157,157,51,109,2461,13851,null,1793,1793,"",null,{"$f":"M678*100/M1575","v":3.849703568132401},-82,9,18,184,587,0.93498577813896788,2.0723283218203981E-2,4.4290938642828119E-2,{"$f":"L678*100/B$1537","v":3851.5901060070669},4.4290938642828119E-2]
["2020-03-24T17:00:00",9,"Toscana",918,244,1162,1357,2519,218,218,51,129,2699,15701,null,1793,1793,"",null,{"$f":"M679*100/M1576","v":3.9016421880420955},61,"",20,238,1850,0.93330863282697296,1.8895887365690995E-2,4.7795479807336047E-2,{"$f":"L679*100/B$1537","v":4558.3038869257953},4.7795479807336047E-2]
["2020-03-25T17:00:00",9,"Toscana",999,251,1250,1526,2776,257,257,54,142,2972,17868,null,1793,1793,"",null,{"$f":"M680*100/M1577","v":3.9953754738794935},39,3,13,273,2167,0.93405114401076716,1.8169582772543741E-2,4.7779273216689101E-2,{"$f":"L680*100/B$1537","v":5017.6678445229682},4.7779273216689101E-2]
["2020-03-26T17:00:00",9,"Toscana",1037,259,1296,1677,2973,197,197,95,158,3226,20952,null,1793,1793,"",null,{"$f":"M681*100/M1578","v":4.0055128571251197},-60,41,16,254,3084,0.92157470551766896,2.944823310601364E-2,4.8977061376317424E-2,{"$f":"L681*100/B$1537","v":5583.03886925795},4.8977061376317424E-2]
["2020-03-27T17:00:00",9,"Toscana",1053,274,1327,1843,3170,197,224,103,177,3450,23746,null,1793,1793,"",null,{"$f":"M682*100/M1579","v":3.9885315267405028},27,8,19,224,2794,{"$f":"IF(M682=0,0,H682/M682)","v":0.91884057971014488},{"$f":"IF(M682=0,0,K682/M682)","v":2.9855072463768118E-2},{"$f":"IF(M682=0,0,L682/M682)","v":5.1304347826086956E-2},{"$f":"L682*100/B$1537","v":6254.4169611307416},5.1304347826086956E-2]
["2020-03-28T17:00:00",9,"Toscana",1093,277,1370,2141,3511,341,367,108,198,3817,25613,null,{"$f":"IF(Q683=\"x2\",M683,P682)","v":3817},{"$f":"IF(M683>P682*2,\"x2\",P682)","v":"x2"},{"$f":"IF(Q683=\"x2\",M683,\"\")","v":3817},null,{"$f":"M683*100/M1580","v":4.1277359633186261},{"$f":"IF(J683-J682=0,\"\",J683-J682)","v":143},{"$f":"IF(K683-K682=0,\"\",K683-K682)","v":5},{"$f":"IF(L683-L682=0,\"\",L683-L682)","v":21},{"$f":"IF(M683-M682=0,\"\",M683-M682)","v":367},{"$f":"IF(N683-N682=0,\"\",N683-N682)","v":1867},0.91983232905423107,2.829447209850668E-2,5.1873198847262249E-2,{"$f":"L683*100/B$1537","v":6996.4664310954058},5.1873198847262249E-2]
["2020-03-29T17:00:00",9,"Toscana",1111,275,1386,2400,3786,275,305,121,215,4122,27579,null,3817,3817,"",null,{"$f":"M684*100/M1581","v":4.2195129441390531},-62,13,17,305,1966,0.91848617176128089,2.9354682193110139E-2,5.215914604560893E-2,{"$f":"L684*100/B$1537","v":7597.1731448763248},5.215914604560893E-2]
["2020-03-30T17:00:00",9,"Toscana",1116,279,1395,2655,4050,264,290,131,231,4412,30099,null,3817,3817,"",null,{"$f":"M685*100/M1582","v":4.3365867563078071},-15,10,16,290,2520,0.91795104261106075,2.9691749773345422E-2,5.2357207615593836E-2,{"$f":"L685*100/B$1537","v":8162.5441696113076},5.2357207615593836E-2]
["2020-03-31T17:00:00",9,"Toscana",1120,293,1413,2813,4226,176,196,138,244,4608,33165,null,3817,3817,"",null,{"$f":"M686*100/M1583","v":4.3557168784029034},-94,7,13,196,3066,0.91710069444444442,2.9947916666666668E-2,5.2951388888888888E-2,{"$f":"L686*100/B$1537","v":8621.9081272084804},5.2951388888888888E-2]
["2020-04-01T17:00:00",9,"Toscana",1120,297,1417,3015,4432,206,259,182,253,4867,36575,null,3817,3817,"",null,{"$f":"M687*100/M1584","v":4.4015772243022768},63,44,9,259,3410,0.91062256009862341,3.7394698993219642E-2,5.1982740908156973E-2,{"$f":"L687*100/B$1537","v":8939.9293286219072},5.1982740908156973E-2]
["2020-04-02T17:00:00",9,"Toscana",1135,295,1430,3359,4789,357,406,216,268,5273,40724,null,3817,3817,"",null,{"$f":"M688*100/M1585","v":4.5755887610419812},147,34,15,406,4149,0.90821164422529865,4.0963398444908025E-2,5.0824957329793287E-2,{"$f":"L688*100/B$1537","v":9469.9646643109536},5.0824957329793287E-2]
["2020-04-03T17:00:00",9,"Toscana",1149,288,1437,3472,4909,120,226,300,290,5499,44460,null,3817,3817,"",null,{"$f":"M689*100/M1586","v":4.5891159755313913},-180,84,22,226,3736,0.8927077650481906,5.4555373704309872E-2,5.2736861247499545E-2,{"$f":"L689*100/B$1537","v":10247.349823321554},5.2736861247499545E-2]
["2020-04-04T17:00:00",9,"Toscana",1129,286,1415,3639,5054,145,172,310,307,5671,47886,null,3817,3817,"",null,{"$f":"M690*100/M1587","v":4.5501957763656202},-54,10,17,172,3426,0.8912008464115676,5.4664080409098925E-2,5.413507317933345E-2,{"$f":"L690*100/B$1537","v":10848.056537102473},5.413507317933345E-2]
["2020-04-05T17:00:00",9,"Toscana",1111,276,1387,3798,5185,131,176,337,325,5847,51006,null,3817,3817,"",null,{"$f":"M691*100/M1588","v":4.5343859540279805},4,27,18,176,3120,0.88677954506584578,5.7636394732341369E-2,5.5584060201812897E-2,{"$f":"L691*100/B$1537","v":11484.098939929328},5.5584060201812897E-2]
["2020-04-06T17:00:00",9,"Toscana",1116,279,1395,3906,5301,116,154,350,350,6001,52849,null,3817,3817,"",null,{"$f":"M692*100/M1589","v":4.5274506401502865},-22,13,25,154,1843,0.8833527745375771,5.8323612731211463E-2,5.8323612731211463E-2,{"$f":"L692*100/B$1537","v":12367.491166077738},5.8323612731211463E-2]
["2020-04-07T17:00:00",9,"Toscana",1087,263,1350,4077,5427,126,172,377,369,6173,56651,null,3817,3817,"",null,{"$f":"M693*100/M1590","v":4.5528299381942086},18,27,19,172,3802,0.8791511420703062,6.1072412117284952E-2,5.9776445812408881E-2,{"$f":"L693*100/B$1537","v":13038.86925795053},5.9776445812408881E-2]
["2020-04-08T17:00:00",9,"Toscana",1066,260,1326,4231,5557,130,206,430,392,6379,60985,null,3817,3817,"",null,{"$f":"M694*100/M1591","v":4.575318099008765},34,53,23,206,4334,0.87113967706537077,6.7408684746825515E-2,6.1451638187803734E-2,{"$f":"L694*100/B$1537","v":13851.590106007066},6.1451638187803734E-2]
["2020-04-09T17:00:00",9,"Toscana",1038,256,1294,4409,5703,146,173,441,408,6552,65461,null,3817,3817,"",null,{"$f":"M695*100/M1592","v":4.5618481333463299},-33,11,16,173,4476,0.87042124542124544,6.7307692307692304E-2,6.2271062271062272E-2,{"$f":"L695*100/B$1537","v":14416.961130742049},6.2271062271062272E-2]
["2020-04-10T17:00:00",9,"Toscana",1011,256,1267,4555,5822,119,175,451,454,6727,72001,null,3817,3817,"",null,{"$f":"M696*100/M1593","v":4.5582983798288348},2,10,46,175,6540,0.86546751895347107,6.7043258510480153E-2,6.7489222536048762E-2,{"$f":"L696*100/B$1537","v":16042.402826855123},6.7489222536048762E-2]
["2020-04-11T17:00:00",9,"Toscana",997,237,1234,4758,5992,170,231,499,467,6958,75756,null,3817,3817,"",null,{"$f":"M697*100/M1594","v":4.5694846687813175},56,48,13,231,3755,0.86116700201207241,7.171601034780109E-2,6.7116987640126469E-2,{"$f":"L697*100/B$1537","v":16501.766784452295},6.7116987640126469E-2]
["2020-04-12T17:00:00",9,"Toscana",983,238,1221,4941,6162,170,277,578,495,7235,78640,null,3817,3817,"",null,{"$f":"M698*100/M1595","v":4.6270537147534903},46,79,28,277,2884,0.85169315825846581,7.9889426399447128E-2,6.8417415342087076E-2,{"$f":"L698*100/B$1537","v":17491.166077738515},6.8417415342087076E-2]
["2020-04-13T17:00:00",9,"Toscana",992,225,1217,5040,6257,95,155,615,518,7390,80889,null,3817,3817,"",null,{"$f":"M699*100/M1596","v":4.6327641114370977},-122,37,23,155,2249,0.84668470906630577,8.3220568335588635E-2,7.0094722598105549E-2,{"$f":"L699*100/B$1537","v":18303.886925795054},7.0094722598105549E-2]
["2020-04-14T17:00:00",9,"Toscana",1002,225,1227,5125,6352,95,137,637,538,7527,82269,null,3817,3817,"",null,{"$f":"M700*100/M1597","v":4.6323420806459552},-18,22,20,137,1380,0.84389531021655373,8.46286701208981E-2,7.1476019662548157E-2,{"$f":"L700*100/B$1537","v":19010.60070671378},7.1476019662548157E-2]
["2020-04-15T17:00:00",9,"Toscana",977,216,1193,5224,6417,65,139,693,556,7666,86348,null,7666,"x2",7666,null,{"$f":"M701*100/M1598","v":4.6417002210045109},2,56,18,139,4079,0.8370727889381685,9.0399165144795193E-2,7.2528045917036266E-2,{"$f":"L701*100/B$1537","v":19646.643109540637},7.2528045917036266E-2]
["2020-04-16T17:00:00",9,"Toscana",940,213,1153,5460,6613,196,277,745,585,7943,91651,null,7666,7666,"",null,{"$f":"M702*100/M1599","v":4.701641401436004},138,52,29,277,5303,0.83255696839984894,9.3793277099332745E-2,7.3649754500818329E-2,{"$f":"L702*100/B$1537","v":20671.37809187279},7.3649754500818329E-2]
["2020-04-17T17:00:00",9,"Toscana",898,207,1105,5478,6583,-30,167,925,602,8110,96231,null,{"$f":"IF(Q703=\"x2\",M703,P702)","v":7666},{"$f":"IF(M703>P702*2,\"x2\",P702)","v":7666},{"$f":"IF(Q703=\"x2\",M703,\"\")","v":""},null,{"$f":"M703*100/M1600","v":4.7032487792430731},{"$f":"IF(J703-J702=0,\"\",J703-J702)","v":-110},{"$f":"IF(K703-K702=0,\"\",K703-K702)","v":180},{"$f":"IF(L703-L702=0,\"\",L703-L702)","v":17},{"$f":"IF(M703-M702=0,\"\",M703-M702)","v":167},{"$f":"IF(N703-N702=0,\"\",N703-N702)","v":4580},{"$f":"IF(M703=0,0,H703/M703)","v":0.81171393341553633},{"$f":"IF(M703=0,0,K703/M703)","v":0.11405672009864365},{"$f":"IF(M703=0,0,L703/M703)","v":7.4229346485819969E-2},{"$f":"L703*100/B$1537","v":21272.084805653711},7.4229346485819969E-2]
["2020-04-18T17:00:00",9,"Toscana",883,198,1081,5389,6470,-113,127,1149,618,8237,99903,null,{"$f":"IF(Q704=\"x2\",M704,P703)","v":7666},{"$f":"IF(M704>P703*2,\"x2\",P703)","v":7666},{"$f":"IF(Q704=\"x2\",M704,\"\")","v":""},null,{"$f":"M704*100/M1601","v":4.6821088532044906},{"$f":"IF(J704-J703=0,\"\",J704-J703)","v":-40},{"$f":"IF(K704-K703=0,\"\",K704-K703)","v":224},{"$f":"IF(L704-L703=0,\"\",L704-L703)","v":16},{"$f":"IF(M704-M703=0,\"\",M704-M703)","v":127},{"$f":"IF(N704-N703=0,\"\",N704-N703)","v":3672},{"$f":"IF(M704=0,0,H704/M704)","v":0.78548015054024523},{"$f":"IF(M704=0,0,K704/M704)","v":0.13949253368945005},{"$f":"IF(M704=0,0,L704/M704)","v":7.502731577030472E-2},{"$f":"L704*100/B$1537","v":21837.455830388692},7.502731577030472E-2]
["2020-04-19T17:00:00",9,"Toscana",852,192,1044,5452,6496,26,135,1239,637,8372,103975,84620,{"$f":"IF(Q705=\"x2\",M705,P704)","v":7666},{"$f":"IF(M705>P704*2,\"x2\",P704)","v":7666},{"$f":"IF(Q705=\"x2\",M705,\"\")","v":""},null,{"$f":"M705*100/M1602","v":4.6778266991484703},{"$f":"IF(J705-J704=0,\"\",J705-J704)","v":8},{"$f":"IF(K705-K704=0,\"\",K705-K704)","v":90},{"$f":"IF(L705-L704=0,\"\",L705-L704)","v":19},{"$f":"IF(M705-M704=0,\"\",M705-M704)","v":135},{"$f":"IF(N705-N704=0,\"\",N705-N704)","v":4072},{"$f":"IF(M705=0,0,H705/M705)","v":0.77591973244147161},{"$f":"IF(M705=0,0,K705/M705)","v":0.14799331103678931},{"$f":"IF(M705=0,0,L705/M705)","v":7.6086956521739135E-2},{"$f":"L705*100/B$1537","v":22508.833922261485},7.6086956521739135E-2]
["2020-04-20T17:00:00",9,"Toscana",850,182,1032,5536,6568,72,135,1272,667,8507,105857,85946,{"$f":"IF(Q706=\"x2\",M706,P705)","v":7666},{"$f":"IF(M706>P705*2,\"x2\",P705)","v":7666},{"$f":"IF(Q706=\"x2\",M706,\"\")","v":""},null,{"$f":"M706*100/M1603","v":4.6940870064228486},{"$f":"IF(J706-J705=0,\"\",J706-J705)","v":""},{"$f":"IF(K706-K705=0,\"\",K706-K705)","v":33},{"$f":"IF(L706-L705=0,\"\",L706-L705)","v":30},{"$f":"IF(M706-M705=0,\"\",M706-M705)","v":135},{"$f":"IF(N706-N705=0,\"\",N706-N705)","v":1882},{"$f":"IF(M706=0,0,H706/M706)","v":0.77207005995062894},{"$f":"IF(M706=0,0,K706/M706)","v":0.14952392147643118},{"$f":"IF(M706=0,0,L706/M706)","v":7.8406018572939926E-2},{"$f":"L706*100/B$1537","v":23568.904593639574},7.8406018572939926E-2]
["2020-04-21T17:00:00",9,"Toscana",833,171,1004,5618,6622,54,96,1295,686,8603,109925,87717,7666,{"$f":"IF(M707>P706*2,\"x2\",P706)","v":7666},{"$f":"IF(Q707=\"x2\",M707,\"\")","v":""},null,{"$f":"M707*100/M1604","v":4.6766363878515085},{"$f":"IF(J707-J706=0,\"\",J707-J706)","v":-39},{"$f":"IF(K707-K706=0,\"\",K707-K706)","v":23},{"$f":"IF(L707-L706=0,\"\",L707-L706)","v":19},{"$f":"IF(M707-M706=0,\"\",M707-M706)","v":96},{"$f":"IF(N707-N706=0,\"\",N707-N706)","v":4068},{"$f":"IF(M707=0,0,H707/M707)","v":0.76973148901545974},{"$f":"IF(M707=0,0,K707/M707)","v":0.15052888527257932},{"$f":"IF(M707=0,0,L707/M707)","v":7.9739625711960943E-2},{"$f":"L707*100/B$1537","v":24240.282685512368},7.9739625711960943E-2]
["2020-04-22T17:00:00",9,"Toscana",820,174,994,5173,6167,-455,97,1828,705,8700,114100,91747,7666,{"$f":"IF(M708>P707*2,\"x2\",P707)","v":7666},{"$f":"IF(Q708=\"x2\",M708,\"\")","v":""},null,{"$f":"M708*100/M1605","v":4.6442851270772501},{"$f":"IF(J708-J707=0,\"\",J708-J707)","v":1},{"$f":"IF(K708-K707=0,\"\",K708-K707)","v":533},{"$f":"IF(L708-L707=0,\"\",L708-L707)","v":19},{"$f":"IF(M708-M707=0,\"\",M708-M707)","v":97},{"$f":"IF(N708-N707=0,\"\",N708-N707)","v":4175},{"$f":"IF(M708=0,0,H708/M708)","v":0.70885057471264368},{"$f":"IF(M708=0,0,K708/M708)","v":0.21011494252873564},{"$f":"IF(M708=0,0,L708/M708)","v":8.1034482758620685E-2},{"$f":"L708*100/B$1537","v":24911.660777385157},8.1034482758620685E-2]
["2020-04-23T17:00:00",9,"Toscana",791,168,959,5212,6171,4,80,1886,723,8780,118177,94426,{"$f":"IF(Q709=\"x2\",M709,P708)","v":7666},{"$f":"IF(M709>P708*2,\"x2\",P708)","v":7666},{"$f":"IF(Q709=\"x2\",M709,\"\")","v":""},null,{"$f":"M709*100/M1606","v":4.6217094008095891},{"$f":"IF(J709-J708=0,\"\",J709-J708)","v":-17},{"$f":"IF(K709-K708=0,\"\",K709-K708)","v":58},{"$f":"IF(L709-L708=0,\"\",L709-L708)","v":18},{"$f":"IF(M709-M708=0,\"\",M709-M708)","v":80},{"$f":"IF(N709-N708=0,\"\",N709-N708)","v":4077},{"$f":"IF(M709=0,0,H709/M709)","v":0.70284738041002282},{"$f":"IF(M709=0,0,K709/M709)","v":0.21480637813211845},{"$f":"IF(M709=0,0,L709/M709)","v":8.2346241457858765E-2},{"$f":"L709*100/B$1537","v":25547.703180212015},{"$f":"IF(M709=0,0,L709/M709)","v":8.2346241457858765E-2}]
["2020-04-24T17:00:00",9,"Toscana",738,159,897,5236,6133,-38,97,2002,742,8877,121336,96180,{"$f":"IF(Q710=\"x2\",M710,P709)","v":7666},{"$f":"IF(M710>P709*2,\"x2\",P709)","v":7666},{"$f":"IF(Q710=\"x2\",M710,\"\")","v":""},null,{"$f":"M710*100/M1607","v":4.5996248588039004},{"$f":"IF(J710-J709=0,\"\",J710-J709)","v":17},{"$f":"IF(K710-K709=0,\"\",K710-K709)","v":116},{"$f":"IF(L710-L709=0,\"\",L710-L709)","v":19},{"$f":"IF(M710-M709=0,\"\",M710-M709)","v":97},{"$f":"IF(N710-N709=0,\"\",N710-N709)","v":3159},{"$f":"IF(M710=0,0,H710/M710)","v":0.69088656077503663},{"$f":"IF(M710=0,0,K710/M710)","v":0.2255266418835192},{"$f":"IF(M710=0,0,L710/M710)","v":8.3586797341444183E-2},{"$f":"L710*100/B$1537","v":26219.081272084804},{"$f":"IF(M710=0,0,L710/M710)","v":8.3586797341444183E-2}]
["2020-04-25T17:00:00",9,"Toscana",687,166,853,5293,6146,13,138,2109,760,9015,125495,98753,{"$f":"IF(Q711=\"x2\",M711,P710)","v":7666},{"$f":"IF(M711>P710*2,\"x2\",P710)","v":7666},{"$f":"IF(Q711=\"x2\",M711,\"\")","v":""},null,{"$f":"M711*100/M1608","v":4.6147703364712749},{"$f":"IF(J711-J710=0,\"\",J711-J710)","v":41},{"$f":"IF(K711-K710=0,\"\",K711-K710)","v":107},{"$f":"IF(L711-L710=0,\"\",L711-L710)","v":18},{"$f":"IF(M711-M710=0,\"\",M711-M710)","v":138},{"$f":"IF(N711-N710=0,\"\",N711-N710)","v":4159},{"$f":"IF(M711=0,0,H711/M711)","v":0.68175263449805878},{"$f":"IF(M711=0,0,K711/M711)","v":0.23394342762063228},{"$f":"IF(M711=0,0,L711/M711)","v":8.4303937881308924E-2},{"$f":"L711*100/B$1537","v":26855.123674911662},{"$f":"IF(M711=0,0,L711/M711)","v":8.4303937881308924E-2}]
["2020-04-26T17:00:00",9,"Toscana",677,158,835,5234,6069,-77,132,2300,778,9147,127394,99751,{"$f":"IF(Q712=\"x2\",M712,P711)","v":7666},{"$f":"IF(M712>P711*2,\"x2\",P711)","v":7666},{"$f":"IF(Q712=\"x2\",M712,\"\")","v":""},null,{"$f":"M712*100/M1609","v":4.627292272669786},{"$f":"IF(J712-J711=0,\"\",J712-J711)","v":-6},{"$f":"IF(K712-K711=0,\"\",K712-K711)","v":191},{"$f":"IF(L712-L711=0,\"\",L712-L711)","v":18},{"$f":"IF(M712-M711=0,\"\",M712-M711)","v":132},{"$f":"IF(N712-N711=0,\"\",N712-N711)","v":1899},{"$f":"IF(M712=0,0,H712/M712)","v":0.6634962282715644},{"$f":"IF(M712=0,0,K712/M712)","v":0.25144856237017599},{"$f":"IF(M712=0,0,L712/M712)","v":8.505520935825954E-2},{"$f":"L712*100/B$1537","v":27491.166077738515},{"$f":"IF(M712=0,0,L712/M712)","v":8.505520935825954E-2}]
["2020-04-27T17:00:00",9,"Toscana",671,154,825,5158,5983,-86,32,2401,795,9179,129048,100869,{"$f":"IF(Q713=\"x2\",M713,P712)","v":7666},{"$f":"IF(M713>P712*2,\"x2\",P712)","v":7666},{"$f":"IF(Q713=\"x2\",M713,\"\")","v":""},null,{"$f":"M713*100/M1610","v":4.6029867511809606},{"$f":"IF(J713-J712=0,\"\",J713-J712)","v":-100},{"$f":"IF(K713-K712=0,\"\",K713-K712)","v":101},{"$f":"IF(L713-L712=0,\"\",L713-L712)","v":17},{"$f":"IF(M713-M712=0,\"\",M713-M712)","v":32},{"$f":"IF(N713-N712=0,\"\",N713-N712)","v":1654},{"$f":"IF(M713=0,0,H713/M713)","v":0.65181392308530339},{"$f":"IF(M713=0,0,K713/M713)","v":0.26157533500381303},{"$f":"IF(M713=0,0,L713/M713)","v":8.661074191088354E-2},{"$f":"L713*100/B$1537","v":28091.872791519432},{"$f":"IF(M713=0,0,L713/M713)","v":8.661074191088354E-2}]
[{"$f":"A713 + 1","v":"2020-04-28T17:00:00"},null,null,null,null,null,null,null,null,null,null,null,null,null,null,null,"Media x2",{"$f":"COUNT(N650:N713) / COUNT(R650:R713)","v":5.8181818181818183}]
[{"$f":"A714+1","v":"2020-04-29T17:00:00"}]
[{"$f":"A715+1","v":"2020-04-30T17:00:00"}]
[null,null,null,null,{"$f":"E713/$M713","v":1.6777426734938445E-2},null,null,{"$f":"H713/$M713","v":0.65181392308530339},null,null,{"$f":"K713/$M713","v":0.26157533500381303},{"$f":"L713/$M713","v":8.661074191088354E-2},null,{"$f":"N713/$M713","v":14.059047826560628}]
[]
[]
[]
["Data","Codice","Regione","Ricoverati","Terap. Intens.","Ospedalizzati","Quarantena","Positivi","+ Positivi","Nuovi","Guariti","Deceduti","Totale","Tamponi","Testati",null,null,"x 2",null,"% su Tot.","+ Nuovi","+ Guariti","+ Deceduti","+ Totali","+ Tamponi","% Positivi","% Guariti","% Deceduti","P. Stimati","% Morti"]
["2020-02-24T18:00:00",10,"Umbria",0,0,0,0,0,0,0,0,0,0,0,null,{"$f":"M722","v":0},null,{"$f":"M722","v":0},null,{"$f":"M722*100/M1547","v":0},null,null,null,null,null,{"$f":"IF(M722=0,0,H722/M722)","v":0},{"$f":"IF(M722=0,0,K722/M722)","v":0},{"$f":"IF(M722=0,0,L722/M722)","v":0},{"$f":"L722*100/B$1537","v":0},{"$f":"IF(M722=0,0,L722/M722)","v":0}]
["2020-02-25T18:00:00",10,"Umbria",0,0,0,0,0,0,0,0,0,0,8,null,{"$f":"IF(Q723=\"x2\",M723,P722)","v":0},{"$f":"IF(M723>P722*2,\"x2\",P722)","v":0},{"$f":"IF(Q723=\"x2\",M723,\"\")","v":""},null,{"$f":"M723*100/M1548","v":0},{"$f":"IF(J723-J722=0,\"\",J723-J722)","v":""},{"$f":"IF(K723-K722=0,\"\",K723-K722)","v":""},{"$f":"IF(L723-L722=0,\"\",L723-L722)","v":""},{"$f":"IF(M723-M722=0,\"\",M723-M722)","v":""},{"$f":"IF(N723-N722=0,\"\",N723-N722)","v":8},0,0,0,{"$f":"L723*100/B$1537","v":0},0]
["2020-02-26T18:00:00",10,"Umbria",0,0,0,0,0,0,0,0,0,0,8,null,0,0,"",null,{"$f":"M724*100/M1549","v":0},"","","","","",0,0,0,{"$f":"L724*100/B$1537","v":0},0]
["2020-02-27T18:00:00",10,"Umbria",0,0,0,0,0,0,0,0,0,0,8,null,0,0,"",null,{"$f":"M725*100/M1550","v":0},"","","","","",0,0,0,{"$f":"L725*100/B$1537","v":0},0]
["2020-02-28T18:00:00",10,"Umbria",0,0,0,0,0,0,0,0,0,0,8,null,0,0,"",null,{"$f":"M726*100/M1551","v":0},"","","","","",0,0,0,{"$f":"L726*100/B$1537","v":0},0]
["2020-02-29T17:00:00",10,"Umbria",0,0,0,0,0,0,0,0,0,0,31,null,0,0,"",null,{"$f":"M727*100/M1552","v":0},"","","","",23,0,0,0,{"$f":"L727*100/B$1537","v":0},0]
["2020-03-01T17:00:00",10,"Umbria",0,0,0,2,2,2,2,0,0,2,35,null,2,"x2",2,null,{"$f":"M728*100/M1553","v":0.1180637544273908},2,"","",2,4,1,0,0,{"$f":"L728*100/B$1537","v":0},0]
["2020-03-02T18:00:00",10,"Umbria",0,0,0,2,2,0,0,0,0,2,35,null,2,2,"",null,{"$f":"M729*100/M1554","v":9.8231827111984277E-2},-2,"","","","",1,0,0,{"$f":"L729*100/B$1537","v":0},0]
["2020-03-03T18:00:00",10,"Umbria",1,1,2,6,8,6,6,0,0,8,45,null,8,"x2",8,null,{"$f":"M730*100/M1555","v":0.31974420463629094},6,"","",6,10,1,0,0,{"$f":"L730*100/B$1537","v":0},0]
["2020-03-04T17:00:00",10,"Umbria",1,1,2,7,9,1,1,0,0,9,58,null,8,8,"",null,{"$f":"M731*100/M1556","v":0.29135642602784073},-5,"","",1,13,1,0,0,{"$f":"L731*100/B$1537","v":0},0]
["2020-03-05T17:00:00",10,"Umbria",1,1,2,7,9,0,0,0,0,9,88,null,8,8,"",null,{"$f":"M732*100/M1557","v":0.23328149300155521},-1,"","","",30,1,0,0,{"$f":"L732*100/B$1537","v":0},0]
["2020-03-06T17:00:00",10,"Umbria",2,2,4,12,16,7,7,0,0,16,110,null,8,8,"",null,{"$f":"M733*100/M1558","v":0.34512510785159622},7,"","",7,22,1,0,0,{"$f":"L733*100/B$1537","v":0},0]
["2020-03-07T18:00:00",10,"Umbria",2,2,4,20,24,8,8,0,0,24,134,null,24,"x2",24,null,{"$f":"M734*100/M1559","v":0.40795512493625702},1,"","",8,24,1,0,0,{"$f":"L734*100/B$1537","v":0},0]
["2020-03-08T18:00:00",10,"Umbria",2,2,4,22,26,2,2,0,0,26,168,null,24,24,"",null,{"$f":"M735*100/M1560","v":0.35254237288135593},-6,"","",2,34,1,0,0,{"$f":"L735*100/B$1537","v":0},0]
["2020-03-09T18:00:00",10,"Umbria",4,2,6,22,28,2,2,0,0,28,183,null,24,24,"",null,{"$f":"M736*100/M1561","v":0.30527692978630616},"","","",2,15,1,0,0,{"$f":"L736*100/B$1537","v":0},0]
["2020-03-10T18:00:00",10,"Umbria",8,2,10,27,37,9,9,0,0,37,260,null,24,24,"",null,{"$f":"M737*100/M1562","v":0.36456793772785495},7,"","",9,77,1,0,0,{"$f":"L737*100/B$1537","v":0},0]
["2020-03-11T17:00:00",10,"Umbria",7,5,12,32,44,7,7,2,0,46,340,null,24,24,"",null,{"$f":"M738*100/M1563","v":0.36912213127908844},-2,2,"",9,80,0.95652173913043481,4.3478260869565216E-2,0,{"$f":"L738*100/B$1537","v":0},0]
["2020-03-12T17:00:00",10,"Umbria",8,8,16,46,62,18,18,2,0,64,458,null,64,"x2",64,null,{"$f":"M739*100/M1564","v":0.42347647720505527},11,"","",18,118,0.96875,3.125E-2,0,{"$f":"L739*100/B$1537","v":0},0]
["2020-03-13T17:00:00",10,"Umbria",11,10,21,52,73,11,11,2,1,76,576,null,64,64,"",null,{"$f":"M740*100/M1565","v":0.43035107587768967},-7,"",1,12,118,0.96052631578947367,2.6315789473684209E-2,1.3157894736842105E-2,{"$f":"L740*100/B$1537","v":35.335689045936398},1.3157894736842105E-2]
["2020-03-14T17:00:00",10,"Umbria",21,11,32,71,103,30,30,3,1,107,748,null,64,64,"",null,{"$f":"M741*100/M1566","v":0.50574278016732055},19,1,"",31,172,0.96261682242990654,2.8037383177570093E-2,9.3457943925233638E-3,{"$f":"L741*100/B$1537","v":35.335689045936398},9.3457943925233638E-3]
["2020-03-15T17:00:00",10,"Umbria",25,13,38,101,139,36,36,3,1,143,965,null,143,"x2",143,null,{"$f":"M742*100/M1567","v":0.57784781993777024},6,"","",36,217,0.97202797202797198,2.097902097902098E-2,6.993006993006993E-3,{"$f":"L742*100/B$1537","v":35.335689045936398},6.993006993006993E-3]
["2020-03-16T17:00:00",10,"Umbria",30,15,45,114,159,20,20,4,1,164,1093,null,143,143,"",null,{"$f":"M743*100/M1568","v":0.58613295210864902},-16,1,"",21,128,0.96951219512195119,2.4390243902439025E-2,6.0975609756097563E-3,{"$f":"L743*100/B$1537","v":35.335689045936398},6.0975609756097563E-3]
["2020-03-17T17:00:00",10,"Umbria",36,21,57,135,192,33,33,4,1,197,1323,null,143,143,"",null,{"$f":"M744*100/M1569","v":0.62527772487780109},13,"","",33,230,0.97461928934010156,2.030456852791878E-2,5.076142131979695E-3,{"$f":"L744*100/B$1537","v":35.335689045936398},5.076142131979695E-3]
["2020-03-18T17:00:00",10,"Umbria",54,21,75,166,241,49,49,4,2,247,1601,null,143,143,"",null,{"$f":"M745*100/M1570","v":0.6916248984963459},16,"",1,50,278,0.97570850202429149,1.6194331983805668E-2,8.0971659919028341E-3,{"$f":"L745*100/B$1537","v":70.671378091872796},8.0971659919028341E-3]
["2020-03-19T17:00:00",10,"Umbria",69,21,90,238,328,87,87,4,2,334,1954,null,334,"x2",334,null,{"$f":"M746*100/M1571","v":0.81393932009260384},38,"","",87,353,0.98203592814371254,1.1976047904191617E-2,5.9880239520958087E-3,{"$f":"L746*100/B$1537","v":70.671378091872796},5.9880239520958087E-3]
["2020-03-20T17:00:00",10,"Umbria",75,24,99,285,384,56,56,4,7,395,2303,null,334,334,"",null,{"$f":"M747*100/M1572","v":0.84005019034048611},-31,"",5,61,349,0.97215189873417718,1.0126582278481013E-2,1.7721518987341773E-2,{"$f":"L747*100/B$1537","v":247.34982332155477},1.7721518987341773E-2]
["2020-03-21T17:00:00",10,"Umbria",92,29,121,326,447,63,63,5,10,462,2712,null,334,334,"",null,{"$f":"M748*100/M1573","v":0.86229422524170374},7,1,3,67,409,0.96753246753246758,1.0822510822510822E-2,2.1645021645021644E-2,{"$f":"L748*100/B$1537","v":353.35689045936397},2.1645021645021644E-2]
["2020-03-22T17:00:00",10,"Umbria",97,35,132,368,500,53,53,5,16,521,3135,null,334,334,"",null,{"$f":"M749*100/M1574","v":0.88099022625046497},-10,"",6,59,423,0.95969289827255277,9.5969289827255271E-3,3.0710172744721688E-2,{"$f":"L749*100/B$1537","v":565.37102473498237},3.0710172744721688E-2]
["2020-03-23T17:00:00",10,"Umbria",106,42,148,408,556,56,56,5,16,577,3561,null,334,334,"",null,{"$f":"M750*100/M1575","v":0.90259201902169661},3,"","",56,426,0.96360485268630847,8.6655112651646445E-3,2.7729636048526862E-2,{"$f":"L750*100/B$1537","v":565.37102473498237},2.7729636048526862E-2]
["2020-03-24T17:00:00",10,"Umbria",105,43,148,476,624,68,68,5,19,648,4108,null,334,334,"",null,{"$f":"M751*100/M1576","v":0.93674106626575693},12,"",3,71,547,0.96296296296296291,7.716049382716049E-3,2.9320987654320986E-2,{"$f":"L751*100/B$1537","v":671.37809187279152},2.9320987654320986E-2]
["2020-03-25T17:00:00",10,"Umbria",123,44,167,519,686,62,62,5,19,710,4707,null,710,"x2",710,null,{"$f":"M752*100/M1577","v":0.95448068184873502},-6,"","",62,599,0.96619718309859159,7.0422535211267607E-3,2.6760563380281689E-2,{"$f":"L752*100/B$1537","v":671.37809187279152},2.6760563380281689E-2]
["2020-03-26T17:00:00",10,"Umbria",144,46,190,580,770,84,84,12,20,802,5428,null,710,710,"",null,{"$f":"M753*100/M1578","v":0.99579085908690201},22,7,1,92,721,0.96009975062344144,1.4962593516209476E-2,2.4937655860349128E-2,{"$f":"L753*100/B$1537","v":706.71378091872793},2.4937655860349128E-2]
["2020-03-27T17:00:00",10,"Umbria",149,46,195,629,824,54,82,39,21,884,6137,null,710,710,"",null,{"$f":"M754*100/M1579","v":1.0219889477213346},-2,27,1,82,709,{"$f":"IF(M754=0,0,H754/M754)","v":0.9321266968325792},{"$f":"IF(M754=0,0,K754/M754)","v":4.4117647058823532E-2},{"$f":"IF(M754=0,0,L754/M754)","v":2.3755656108597284E-2},{"$f":"L754*100/B$1537","v":742.04946996466424},2.3755656108597284E-2]
["2020-03-28T17:00:00",10,"Umbria",159,44,203,695,898,74,85,43,28,969,7028,null,{"$f":"IF(Q755=\"x2\",M755,P754)","v":710},{"$f":"IF(M755>P754*2,\"x2\",P754)","v":710},{"$f":"IF(Q755=\"x2\",M755,\"\")","v":""},null,{"$f":"M755*100/M1580","v":1.0478847651180898},{"$f":"IF(J755-J754=0,\"\",J755-J754)","v":3},{"$f":"IF(K755-K754=0,\"\",K755-K754)","v":4},{"$f":"IF(L755-L754=0,\"\",L755-L754)","v":7},{"$f":"IF(M755-M754=0,\"\",M755-M754)","v":85},{"$f":"IF(N755-N754=0,\"\",N755-N754)","v":891},0.9267285861713106,4.4375644994840042E-2,2.8895768833849329E-2,{"$f":"L755*100/B$1537","v":989.39929328621906},2.8895768833849329E-2]
["2020-03-29T17:00:00",10,"Umbria",166,46,212,685,897,-1,54,95,31,1023,7685,null,710,710,"",null,{"$f":"M756*100/M1581","v":1.0472008107361115},-31,52,3,54,657,0.87683284457478006,9.2864125122189639E-2,3.0303030303030304E-2,{"$f":"L756*100/B$1537","v":1095.4063604240282},3.0303030303030304E-2]
["2020-03-30T17:00:00",10,"Umbria",173,47,220,614,834,-63,28,184,33,1051,8150,null,710,710,"",null,{"$f":"M757*100/M1582","v":1.0330355124386912},-26,89,2,28,465,0.79352997145575643,0.17507136060894388,3.1398667935299718E-2,{"$f":"L757*100/B$1537","v":1166.077738515901},3.1398667935299718E-2]
["2020-03-31T17:00:00",10,"Umbria",176,43,219,632,851,17,27,190,37,1078,8685,null,710,710,"",null,{"$f":"M758*100/M1583","v":1.0189806412583182},-1,6,4,27,535,0.78942486085343233,0.17625231910946196,3.4322820037105753E-2,{"$f":"L758*100/B$1537","v":1307.4204946996465},3.4322820037105753E-2]
["2020-04-01T17:00:00",10,"Umbria",173,45,218,646,864,13,17,194,37,1095,9080,null,710,710,"",null,{"$f":"M759*100/M1584","v":0.99028704758804054},-10,4,"",17,395,0.78904109589041094,0.17716894977168951,3.3789954337899546E-2,{"$f":"L759*100/B$1537","v":1307.4204946996465},3.3789954337899546E-2]
["2020-04-02T17:00:00",10,"Umbria",171,47,218,667,885,21,33,205,38,1128,9737,null,710,710,"",null,{"$f":"M760*100/M1585","v":0.97880980892382985},16,11,1,33,657,0.78457446808510634,0.18173758865248227,3.3687943262411348E-2,{"$f":"L760*100/B$1537","v":1342.756183745583},3.3687943262411348E-2]
["2020-04-03T17:00:00",10,"Umbria",165,48,213,707,920,35,51,220,39,1179,10614,null,710,710,"",null,{"$f":"M761*100/M1586","v":0.98391848247890712},18,15,1,51,877,0.78032230703986427,0.18659881255301103,3.3078880407124679E-2,{"$f":"L761*100/B$1537","v":1378.0918727915193},3.3078880407124679E-2]
["2020-04-04T17:00:00",10,"Umbria",167,44,211,716,927,7,31,242,41,1210,11809,null,710,710,"",null,{"$f":"M762*100/M1587","v":0.97085820656011301},-20,22,2,31,1195,0.7661157024793388,0.2,3.3884297520661154E-2,{"$f":"L762*100/B$1537","v":1448.7632508833922},3.3884297520661154E-2]
["2020-04-05T17:00:00",10,"Umbria",159,45,204,694,898,-29,29,298,43,1239,12448,null,710,710,"",null,{"$f":"M763*100/M1588","v":0.96085243664112663},-2,56,2,29,639,0.72477804681194513,0.24051654560129138,3.470540758676352E-2,{"$f":"L763*100/B$1537","v":1519.434628975265},3.470540758676352E-2]
["2020-04-06T17:00:00",10,"Umbria",159,46,205,667,872,-26,14,337,44,1253,12573,null,710,710,"",null,{"$f":"M764*100/M1589","v":0.94532505450896664},-15,39,1,14,125,0.69592976855546684,0.26895450917797287,3.5115722266560255E-2,{"$f":"L764*100/B$1537","v":1554.7703180212013},3.5115722266560255E-2]
["2020-04-07T17:00:00",10,"Umbria",157,41,198,648,846,-26,10,368,49,1263,13274,null,710,710,"",null,{"$f":"M765*100/M1590","v":0.93151210301948584},-4,31,5,10,701,0.66983372921615203,0.2913697545526524,3.8796516231195566E-2,{"$f":"L765*100/B$1537","v":1731.4487632508833},3.8796516231195566E-2]
["2020-04-08T17:00:00",10,"Umbria",155,41,196,627,823,-23,26,416,50,1289,14105,null,710,710,"",null,{"$f":"M766*100/M1591","v":0.92453127913815614},16,48,1,26,831,0.63847944142746316,0.32273079906904578,3.8789759503491075E-2,{"$f":"L766*100/B$1537","v":1766.7844522968198},3.8789759503491075E-2]
["2020-04-09T17:00:00",10,"Umbria",154,38,192,600,792,-31,9,455,51,1298,15170,null,710,710,"",null,{"$f":"M767*100/M1592","v":0.90373609235096708},-17,39,1,9,1065,0.61016949152542377,0.3505392912172573,3.9291217257318954E-2,{"$f":"L767*100/B$1537","v":1802.1201413427561},3.9291217257318954E-2]
["2020-04-10T17:00:00",10,"Umbria",146,39,185,567,752,-40,4,498,52,1302,16325,null,710,710,"",null,{"$f":"M768*100/M1593","v":0.88225129932170998},-5,43,1,4,1155,0.57757296466973884,0.38248847926267282,3.9938556067588324E-2,{"$f":"L768*100/B$1537","v":1837.4558303886924},3.9938556067588324E-2]
["2020-04-11T17:00:00",10,"Umbria",137,39,176,547,723,-29,7,534,52,1309,17661,null,710,710,"",null,{"$f":"M769*100/M1594","v":0.85965154231600238},3,36,"",7,1336,0.55233002291825817,0.40794499618029029,3.972498090145149E-2,{"$f":"L769*100/B$1537","v":1837.4558303886924},3.972498090145149E-2]
["2020-04-12T17:00:00",10,"Umbria",129,39,168,519,687,-36,10,580,52,1319,18672,null,710,710,"",null,{"$f":"M770*100/M1595","v":0.84354994468000744},3,46,"",10,1011,0.52084912812736917,0.43972706595905992,3.9423805913570885E-2,{"$f":"L770*100/B$1537","v":1837.4558303886924},3.9423805913570885E-2]
["2020-04-13T17:00:00",10,"Umbria",127,38,165,460,625,-62,1,643,52,1320,18740,null,710,710,"",null,{"$f":"M771*100/M1596","v":0.82750319717144361},-9,63,"",1,68,0.47348484848484851,0.48712121212121212,3.9393939393939391E-2,{"$f":"L771*100/B$1537","v":1837.4558303886924},3.9393939393939391E-2]
["2020-04-14T17:00:00",10,"Umbria",127,37,164,458,622,-3,1,646,53,1321,18956,null,710,710,"",null,{"$f":"M772*100/M1597","v":0.81298311259908429},"",3,1,1,216,0.4708554125662377,0.48902346707040123,4.0121120363361087E-2,{"$f":"L772*100/B$1537","v":1872.791519434629},4.0121120363361087E-2]
["2020-04-15T17:00:00",10,"Umbria",122,37,159,423,582,-40,1,686,54,1322,20258,null,710,710,"",null,{"$f":"M773*100/M1598","v":0.80046017377614964},"",40,1,1,1302,0.44024205748865358,0.51891074130105896,4.084720121028744E-2,{"$f":"L773*100/B$1537","v":1908.1272084805653},4.084720121028744E-2]
["2020-04-16T17:00:00",10,"Umbria",116,33,149,387,536,-46,7,738,55,1329,21487,null,710,710,"",null,{"$f":"M774*100/M1599","v":0.78666516712935286},6,52,1,7,1229,0.40331075996990218,0.5553047404063205,4.1384499623777278E-2,{"$f":"L774*100/B$1537","v":1943.4628975265018},4.1384499623777278E-2]
["2020-04-17T17:00:00",10,"Umbria",111,31,142,352,494,-42,8,786,57,1337,22818,null,{"$f":"IF(Q775=\"x2\",M775,P774)","v":710},{"$f":"IF(M775>P774*2,\"x2\",P774)","v":710},{"$f":"IF(Q775=\"x2\",M775,\"\")","v":""},null,{"$f":"M775*100/M1600","v":0.77536912673834624},{"$f":"IF(J775-J774=0,\"\",J775-J774)","v":1},{"$f":"IF(K775-K774=0,\"\",K775-K774)","v":48},{"$f":"IF(L775-L774=0,\"\",L775-L774)","v":2},{"$f":"IF(M775-M774=0,\"\",M775-M774)","v":8},{"$f":"IF(N775-N774=0,\"\",N775-N774)","v":1331},{"$f":"IF(M775=0,0,H775/M775)","v":0.36948391922213913},{"$f":"IF(M775=0,0,K775/M775)","v":0.58788332086761408},{"$f":"IF(M775=0,0,L775/M775)","v":4.2632759910246822E-2},{"$f":"L775*100/B$1537","v":2014.1342756183744},4.2632759910246822E-2]
["2020-04-18T17:00:00",10,"Umbria",109,32,141,290,431,-63,7,856,57,1344,24106,null,{"$f":"IF(Q776=\"x2\",M776,P775)","v":710},{"$f":"IF(M776>P775*2,\"x2\",P775)","v":710},{"$f":"IF(Q776=\"x2\",M776,\"\")","v":""},null,{"$f":"M776*100/M1601","v":0.76396191558902937},{"$f":"IF(J776-J775=0,\"\",J776-J775)","v":-1},{"$f":"IF(K776-K775=0,\"\",K776-K775)","v":70},{"$f":"IF(L776-L775=0,\"\",L776-L775)","v":""},{"$f":"IF(M776-M775=0,\"\",M776-M775)","v":7},{"$f":"IF(N776-N775=0,\"\",N776-N775)","v":1288},{"$f":"IF(M776=0,0,H776/M776)","v":0.32068452380952384},{"$f":"IF(M776=0,0,K776/M776)","v":0.63690476190476186},{"$f":"IF(M776=0,0,L776/M776)","v":4.2410714285714288E-2},{"$f":"L776*100/B$1537","v":2014.1342756183744},4.2410714285714288E-2]
["2020-04-19T17:00:00",10,"Umbria",108,30,138,298,436,5,4,854,58,1348,25170,16790,{"$f":"IF(Q777=\"x2\",M777,P776)","v":710},{"$f":"IF(M777>P776*2,\"x2\",P776)","v":710},{"$f":"IF(Q777=\"x2\",M777,\"\")","v":""},null,{"$f":"M777*100/M1602","v":0.75319044319781869},{"$f":"IF(J777-J776=0,\"\",J777-J776)","v":-3},{"$f":"IF(K777-K776=0,\"\",K777-K776)","v":-2},{"$f":"IF(L777-L776=0,\"\",L777-L776)","v":1},{"$f":"IF(M777-M776=0,\"\",M777-M776)","v":4},{"$f":"IF(N777-N776=0,\"\",N777-N776)","v":1064},{"$f":"IF(M777=0,0,H777/M777)","v":0.32344213649851633},{"$f":"IF(M777=0,0,K777/M777)","v":0.63353115727002962},{"$f":"IF(M777=0,0,L777/M777)","v":4.3026706231454007E-2},{"$f":"L777*100/B$1537","v":2049.4699646643107},4.3026706231454007E-2]
["2020-04-20T17:00:00",10,"Umbria",113,29,142,282,424,-12,1,867,58,1349,25562,17099,{"$f":"IF(Q778=\"x2\",M778,P777)","v":710},{"$f":"IF(M778>P777*2,\"x2\",P777)","v":710},{"$f":"IF(Q778=\"x2\",M778,\"\")","v":""},null,{"$f":"M778*100/M1603","v":0.74436621272651027},{"$f":"IF(J778-J777=0,\"\",J778-J777)","v":-3},{"$f":"IF(K778-K777=0,\"\",K778-K777)","v":13},{"$f":"IF(L778-L777=0,\"\",L778-L777)","v":""},{"$f":"IF(M778-M777=0,\"\",M778-M777)","v":1},{"$f":"IF(N778-N777=0,\"\",N778-N777)","v":392},{"$f":"IF(M778=0,0,H778/M778)","v":0.31430689399555228},{"$f":"IF(M778=0,0,K778/M778)","v":0.64269829503335807},{"$f":"IF(M778=0,0,L778/M778)","v":4.2994810971089696E-2},{"$f":"L778*100/B$1537","v":2049.4699646643107},4.2994810971089696E-2]
["2020-04-21T17:00:00",10,"Umbria",107,22,129,278,407,-17,4,886,60,1353,26639,17873,710,{"$f":"IF(M779>P778*2,\"x2\",P778)","v":710},{"$f":"IF(Q779=\"x2\",M779,\"\")","v":""},null,{"$f":"M779*100/M1604","v":0.73549796963420799},{"$f":"IF(J779-J778=0,\"\",J779-J778)","v":3},{"$f":"IF(K779-K778=0,\"\",K779-K778)","v":19},{"$f":"IF(L779-L778=0,\"\",L779-L778)","v":2},{"$f":"IF(M779-M778=0,\"\",M779-M778)","v":4},{"$f":"IF(N779-N778=0,\"\",N779-N778)","v":1077},{"$f":"IF(M779=0,0,H779/M779)","v":0.30081300813008133},{"$f":"IF(M779=0,0,K779/M779)","v":0.65484109386548406},{"$f":"IF(M779=0,0,L779/M779)","v":4.4345898004434593E-2},{"$f":"L779*100/B$1537","v":2120.1413427561838},4.4345898004434593E-2]
["2020-04-22T17:00:00",10,"Umbria",97,20,117,254,371,-36,4,925,61,1357,27655,18679,710,{"$f":"IF(M780>P779*2,\"x2\",P779)","v":710},{"$f":"IF(Q780=\"x2\",M780,\"\")","v":""},null,{"$f":"M780*100/M1605","v":0.72440171464871583},{"$f":"IF(J780-J779=0,\"\",J780-J779)","v":""},{"$f":"IF(K780-K779=0,\"\",K780-K779)","v":39},{"$f":"IF(L780-L779=0,\"\",L780-L779)","v":1},{"$f":"IF(M780-M779=0,\"\",M780-M779)","v":4},{"$f":"IF(N780-N779=0,\"\",N780-N779)","v":1016},{"$f":"IF(M780=0,0,H780/M780)","v":0.27339719970523213},{"$f":"IF(M780=0,0,K780/M780)","v":0.681650700073692},{"$f":"IF(M780=0,0,L780/M780)","v":4.4952100221075902E-2},{"$f":"L780*100/B$1537","v":2155.4770318021201},4.4952100221075902E-2]
["2020-04-23T17:00:00",10,"Umbria",100,19,119,236,355,-16,5,946,61,1362,29011,19627,{"$f":"IF(Q781=\"x2\",M781,P780)","v":710},{"$f":"IF(M781>P780*2,\"x2\",P780)","v":710},{"$f":"IF(Q781=\"x2\",M781,\"\")","v":""},null,{"$f":"M781*100/M1606","v":0.71694398677706828},{"$f":"IF(J781-J780=0,\"\",J781-J780)","v":1},{"$f":"IF(K781-K780=0,\"\",K781-K780)","v":21},{"$f":"IF(L781-L780=0,\"\",L781-L780)","v":""},{"$f":"IF(M781-M780=0,\"\",M781-M780)","v":5},{"$f":"IF(N781-N780=0,\"\",N781-N780)","v":1356},{"$f":"IF(M781=0,0,H781/M781)","v":0.26064610866372984},{"$f":"IF(M781=0,0,K781/M781)","v":0.69456681350954474},{"$f":"IF(M781=0,0,L781/M781)","v":4.4787077826725405E-2},{"$f":"L781*100/B$1537","v":2155.4770318021201},{"$f":"IF(M781=0,0,L781/M781)","v":4.4787077826725405E-2}]
["2020-04-24T17:00:00",10,"Umbria",94,19,113,209,322,-33,1,979,62,1363,30524,20733,{"$f":"IF(Q782=\"x2\",M782,P781)","v":710},{"$f":"IF(M782>P781*2,\"x2\",P781)","v":710},{"$f":"IF(Q782=\"x2\",M782,\"\")","v":""},null,{"$f":"M782*100/M1607","v":0.70623957221468026},{"$f":"IF(J782-J781=0,\"\",J782-J781)","v":-4},{"$f":"IF(K782-K781=0,\"\",K782-K781)","v":33},{"$f":"IF(L782-L781=0,\"\",L782-L781)","v":1},{"$f":"IF(M782-M781=0,\"\",M782-M781)","v":1},{"$f":"IF(N782-N781=0,\"\",N782-N781)","v":1513},{"$f":"IF(M782=0,0,H782/M782)","v":0.23624358033749082},{"$f":"IF(M782=0,0,K782/M782)","v":0.71826852531181218},{"$f":"IF(M782=0,0,L782/M782)","v":4.5487894350696993E-2},{"$f":"L782*100/B$1537","v":2190.8127208480564},{"$f":"IF(M782=0,0,L782/M782)","v":4.5487894350696993E-2}]
["2020-04-25T17:00:00",10,"Umbria",95,18,113,184,297,-25,3,1006,63,1366,31939,21842,{"$f":"IF(Q783=\"x2\",M783,P782)","v":710},{"$f":"IF(M783>P782*2,\"x2\",P782)","v":710},{"$f":"IF(Q783=\"x2\",M783,\"\")","v":""},null,{"$f":"M783*100/M1608","v":0.69925416301938559},{"$f":"IF(J783-J782=0,\"\",J783-J782)","v":2},{"$f":"IF(K783-K782=0,\"\",K783-K782)","v":27},{"$f":"IF(L783-L782=0,\"\",L783-L782)","v":1},{"$f":"IF(M783-M782=0,\"\",M783-M782)","v":3},{"$f":"IF(N783-N782=0,\"\",N783-N782)","v":1415},{"$f":"IF(M783=0,0,H783/M783)","v":0.21742313323572474},{"$f":"IF(M783=0,0,K783/M783)","v":0.73645680819912152},{"$f":"IF(M783=0,0,L783/M783)","v":4.6120058565153735E-2},{"$f":"L783*100/B$1537","v":2226.1484098939927},{"$f":"IF(M783=0,0,L783/M783)","v":4.6120058565153735E-2}]
["2020-04-26T17:00:00",10,"Umbria",91,17,108,188,296,-1,2,1008,64,1368,32569,22320,{"$f":"IF(Q784=\"x2\",M784,P783)","v":710},{"$f":"IF(M784>P783*2,\"x2\",P783)","v":710},{"$f":"IF(Q784=\"x2\",M784,\"\")","v":""},null,{"$f":"M784*100/M1609","v":0.69204502339699003},{"$f":"IF(J784-J783=0,\"\",J784-J783)","v":-1},{"$f":"IF(K784-K783=0,\"\",K784-K783)","v":2},{"$f":"IF(L784-L783=0,\"\",L784-L783)","v":1},{"$f":"IF(M784-M783=0,\"\",M784-M783)","v":2},{"$f":"IF(N784-N783=0,\"\",N784-N783)","v":630},{"$f":"IF(M784=0,0,H784/M784)","v":0.21637426900584794},{"$f":"IF(M784=0,0,K784/M784)","v":0.73684210526315785},{"$f":"IF(M784=0,0,L784/M784)","v":4.6783625730994149E-2},{"$f":"L784*100/B$1537","v":2261.4840989399295},{"$f":"IF(M784=0,0,L784/M784)","v":4.6783625730994149E-2}]
["2020-04-27T17:00:00",10,"Umbria",90,16,106,181,287,-9,2,1018,65,1370,32823,22492,{"$f":"IF(Q785=\"x2\",M785,P784)","v":710},{"$f":"IF(M785>P784*2,\"x2\",P784)","v":710},{"$f":"IF(Q785=\"x2\",M785,\"\")","v":""},null,{"$f":"M785*100/M1610","v":0.68701294793745671},{"$f":"IF(J785-J784=0,\"\",J785-J784)","v":""},{"$f":"IF(K785-K784=0,\"\",K785-K784)","v":10},{"$f":"IF(L785-L784=0,\"\",L785-L784)","v":1},{"$f":"IF(M785-M784=0,\"\",M785-M784)","v":2},{"$f":"IF(N785-N784=0,\"\",N785-N784)","v":254},{"$f":"IF(M785=0,0,H785/M785)","v":0.20948905109489052},{"$f":"IF(M785=0,0,K785/M785)","v":0.74306569343065698},{"$f":"IF(M785=0,0,L785/M785)","v":4.7445255474452552E-2},{"$f":"L785*100/B$1537","v":2296.8197879858658},{"$f":"IF(M785=0,0,L785/M785)","v":4.7445255474452552E-2}]
[{"$f":"A785 + 1","v":"2020-04-28T17:00:00"},null,null,null,null,null,null,null,null,null,null,null,null,null,null,null,"Media x2",{"$f":"COUNT(N722:N785) / COUNT(R722:R785)","v":8}]
[{"$f":"A786+1","v":"2020-04-29T17:00:00"}]
[{"$f":"A787+1","v":"2020-04-30T17:00:00"}]
[null,null,null,null,{"$f":"E785/$M785","v":1.167883211678832E-2},null,null,{"$f":"H785/$M785","v":0.20948905109489052},null,null,{"$f":"K785/$M785","v":0.74306569343065698},{"$f":"L785/$M785","v":4.7445255474452552E-2},null,{"$f":"N785/$M785","v":23.958394160583943}]
[]
[]
[]
["Data","Codice","Regione","Ricoverati","Terap. Intens.","Ospedalizzati","Quarantena","Positivi","+ Positivi","Nuovi","Guariti","Deceduti","Totale","Tamponi","Testati",null,null,"x 2",null,"% su Tot.","+ Nuovi","+ Guariti","+ Deceduti","+ Totali","+ Tamponi","% Positivi","% Guariti","% Deceduti","P. Stimati","% Morti"]
["2020-02-24T18:00:00",11,"Marche",0,0,0,0,0,0,0,0,0,0,16,null,{"$f":"M794","v":0},null,{"$f":"M794","v":0},null,{"$f":"M794*100/M1547","v":0},null,null,null,null,null,{"$f":"IF(M794=0,0,H794/M794)","v":0},{"$f":"IF(M794=0,0,K794/M794)","v":0},{"$f":"IF(M794=0,0,L794/M794)","v":0},{"$f":"L794*100/B$1537","v":0},{"$f":"IF(M794=0,0,L794/M794)","v":0}]
["2020-02-25T18:00:00",11,"Marche",0,0,0,0,0,0,0,0,0,0,21,null,{"$f":"IF(Q795=\"x2\",M795,P794)","v":0},{"$f":"IF(M795>P794*2,\"x2\",P794)","v":0},{"$f":"IF(Q795=\"x2\",M795,\"\")","v":""},null,{"$f":"M795*100/M1548","v":0},{"$f":"IF(J795-J794=0,\"\",J795-J794)","v":""},{"$f":"IF(K795-K794=0,\"\",K795-K794)","v":""},{"$f":"IF(L795-L794=0,\"\",L795-L794)","v":""},{"$f":"IF(M795-M794=0,\"\",M795-M794)","v":""},{"$f":"IF(N795-N794=0,\"\",N795-N794)","v":5},0,0,0,{"$f":"L795*100/B$1537","v":0},0]
["2020-02-26T18:00:00",11,"Marche",1,0,1,0,1,1,1,0,0,1,28,null,1,"x2",1,null,{"$f":"M796*100/M1549","v":0.25},1,"","",1,7,1,0,0,{"$f":"L796*100/B$1537","v":0},0]
["2020-02-27T18:00:00",11,"Marche",2,1,3,0,3,2,2,0,0,3,46,null,3,"x2",3,null,{"$f":"M797*100/M1550","v":0.46153846153846156},1,"","",2,18,1,0,0,{"$f":"L797*100/B$1537","v":0},0]
["2020-02-28T18:00:00",11,"Marche",3,2,5,1,6,3,3,0,0,6,47,null,3,3,"",null,{"$f":"M798*100/M1551","v":0.67567567567567566},1,"","",3,1,1,0,0,{"$f":"L798*100/B$1537","v":0},0]
["2020-02-29T17:00:00",11,"Marche",6,2,8,3,11,5,5,0,0,11,68,null,11,"x2",11,null,{"$f":"M799*100/M1552","v":0.97517730496453903},2,"","",5,21,1,0,0,{"$f":"L799*100/B$1537","v":0},0]
["2020-03-01T17:00:00",11,"Marche",12,5,17,8,25,14,14,0,0,25,101,null,25,"x2",25,null,{"$f":"M800*100/M1553","v":1.4757969303423848},9,"","",14,33,1,0,0,{"$f":"L800*100/B$1537","v":0},0]
["2020-03-02T18:00:00",11,"Marche",17,6,23,11,34,9,9,0,1,35,137,null,25,25,"",null,{"$f":"M801*100/M1554","v":1.7190569744597251},-5,"",1,10,36,0.97142857142857142,0,2.8571428571428571E-2,{"$f":"L801*100/B$1537","v":35.335689045936398},2.8571428571428571E-2]
["2020-03-03T18:00:00",11,"Marche",27,13,40,19,59,25,25,0,2,61,200,null,61,"x2",61,null,{"$f":"M802*100/M1555","v":2.4380495603517187},16,"",1,26,63,0.96721311475409832,0,3.2786885245901641E-2,{"$f":"L802*100/B$1537","v":70.671378091872796},3.2786885245901641E-2]
["2020-03-04T17:00:00",11,"Marche",34,15,49,31,80,21,21,0,4,84,288,null,61,61,"",null,{"$f":"M803*100/M1556","v":2.7193266429265135},-4,"",2,23,88,0.95238095238095233,0,4.7619047619047616E-2,{"$f":"L803*100/B$1537","v":141.34275618374559},4.7619047619047616E-2]
["2020-03-05T17:00:00",11,"Marche",57,19,76,44,120,40,40,0,4,124,413,null,124,"x2",124,null,{"$f":"M804*100/M1557","v":3.2141005702436494},19,"","",40,125,0.967741935483871,0,3.2258064516129031E-2,{"$f":"L804*100/B$1537","v":141.34275618374559},3.2258064516129031E-2]
["2020-03-06T17:00:00",11,"Marche",73,20,93,62,155,35,35,0,4,159,585,null,124,124,"",null,{"$f":"M805*100/M1558","v":3.4296807592752372},-5,"","",35,172,0.97484276729559749,0,2.5157232704402517E-2,{"$f":"L805*100/B$1537","v":141.34275618374559},2.5157232704402517E-2]
["2020-03-07T18:00:00",11,"Marche",94,36,130,71,201,46,46,0,6,207,816,null,124,124,"",null,{"$f":"M806*100/M1559","v":3.5186129525752166},11,"",2,48,231,0.97101449275362317,0,2.8985507246376812E-2,{"$f":"L806*100/B$1537","v":212.01413427561837},2.8985507246376812E-2]
["2020-03-08T18:00:00",11,"Marche",110,41,151,114,265,64,64,0,7,272,1025,null,272,"x2",272,null,{"$f":"M807*100/M1560","v":3.688135593220339},18,"",1,65,209,0.97426470588235292,0,2.5735294117647058E-2,{"$f":"L807*100/B$1537","v":247.34982332155477},2.5735294117647058E-2]
["2020-03-09T18:00:00",11,"Marche",136,47,183,130,313,48,48,0,10,323,1250,null,272,272,"",null,{"$f":"M808*100/M1561","v":3.5215874400348888},-16,"",3,51,225,0.96904024767801855,0,3.0959752321981424E-2,{"$f":"L808*100/B$1537","v":353.35689045936397},3.0959752321981424E-2]
["2020-03-10T18:00:00",11,"Marche",152,54,206,175,381,68,68,0,13,394,1437,null,272,272,"",null,{"$f":"M809*100/M1562","v":3.8821558774263476},20,"",3,71,187,0.96700507614213194,0,3.2994923857868022E-2,{"$f":"L809*100/B$1537","v":459.36395759717311},3.2994923857868022E-2]
["2020-03-11T17:00:00",11,"Marche",212,66,278,183,461,80,80,0,18,479,1656,null,272,272,"",null,{"$f":"M810*100/M1563","v":3.8436848017974641},12,"",5,85,219,0.9624217118997912,0,3.7578288100208766E-2,{"$f":"L810*100/B$1537","v":636.0424028268551},3.7578288100208766E-2]
["2020-03-12T17:00:00",11,"Marche",254,76,330,240,570,109,109,0,22,592,1907,null,592,"x2",592,null,{"$f":"M811*100/M1564","v":3.9171574141467609},29,"",4,113,251,0.96283783783783783,0,3.7162162162162164E-2,{"$f":"L811*100/B$1537","v":777.38515901060066},3.7162162162162164E-2]
["2020-03-13T17:00:00",11,"Marche",337,85,422,276,698,128,128,0,27,725,2218,null,592,592,"",null,{"$f":"M812*100/M1565","v":4.1053227633069085},19,"",5,133,311,0.96275862068965512,0,3.7241379310344824E-2,{"$f":"L812*100/B$1537","v":954.06360424028264},3.7241379310344824E-2]
["2020-03-14T17:00:00",11,"Marche",449,93,542,321,863,165,165,0,36,899,2561,null,592,592,"",null,{"$f":"M813*100/M1566","v":4.2491846670132816},37,"",9,174,343,0.95995550611790881,0,4.0044493882091213E-2,{"$f":"L813*100/B$1537","v":1272.0848056537102},4.0044493882091213E-2]
["2020-03-15T17:00:00",11,"Marche",521,98,619,468,1087,224,224,0,46,1133,2946,null,592,592,"",null,{"$f":"M814*100/M1567","v":4.5783327271992569},59,"",10,234,385,0.95939982347749342,0,4.0600176522506623E-2,{"$f":"L814*100/B$1537","v":1625.4416961130742},4.0600176522506623E-2]
["2020-03-16T17:00:00",11,"Marche",528,110,638,547,1185,98,98,0,57,1242,3225,null,1242,"x2",1242,null,{"$f":"M815*100/M1568","v":4.4388849177984273},-126,"",11,109,279,0.95410628019323673,0,4.5893719806763288E-2,{"$f":"L815*100/B$1537","v":2014.1342756183744},4.5893719806763288E-2]
["2020-03-17T17:00:00",11,"Marche",599,109,708,594,1302,117,117,0,69,1371,3225,null,1242,1242,"",null,{"$f":"M816*100/M1569","v":4.3515520853170822},19,"",12,129,"",0.94967177242888401,0,5.0328227571115977E-2,{"$f":"L816*100/B$1537","v":2438.1625441696115},5.0328227571115977E-2]
["2020-03-18T17:00:00",11,"Marche",638,119,757,719,1476,174,174,0,92,1568,4109,null,1242,1242,"",null,{"$f":"M817*100/M1570","v":4.3905580600901635},57,"",23,197,884,0.94132653061224492,0,5.8673469387755105E-2,{"$f":"L817*100/B$1537","v":3250.8833922261483},5.8673469387755105E-2]
["2020-03-19T17:00:00",11,"Marche",656,141,797,825,1622,146,146,0,115,1737,4512,null,1242,1242,"",null,{"$f":"M818*100/M1571","v":4.2329718532959673},-28,"",23,169,403,0.93379389752446751,0,6.6206102475532533E-2,{"$f":"L818*100/B$1537","v":4063.6042402826856},6.6206102475532533E-2]
["2020-03-20T17:00:00",11,"Marche",704,138,842,1002,1844,222,222,0,137,1981,5170,null,1242,1242,"",null,{"$f":"M819*100/M1572","v":4.2130112077582353},76,"",22,244,658,0.93084300858152447,0,6.9156991418475519E-2,{"$f":"L819*100/B$1537","v":4840.9893992932857},6.9156991418475519E-2]
["2020-03-21T17:00:00",11,"Marche",742,141,883,1114,1997,153,153,2,154,2153,5740,null,1242,1242,"",null,{"$f":"M820*100/M1573","v":4.0184404046436972},-69,2,17,172,570,0.92754296330701347,9.2893636785880169E-4,7.1528100325127728E-2,{"$f":"L820*100/B$1537","v":5441.6961130742047},7.1528100325127728E-2]
["2020-03-22T17:00:00",11,"Marche",816,138,954,1277,2231,234,234,6,184,2421,6391,null,1242,1242,"",null,{"$f":"M821*100/M1574","v":4.0938144678548483},81,4,30,268,651,0.92152003304419661,2.4783147459727386E-3,7.6001652209830642E-2,{"$f":"L821*100/B$1537","v":6501.7667844522966},7.6001652209830642E-2]
["2020-03-23T17:00:00",11,"Marche",882,148,1030,1328,2358,127,127,8,203,2569,6782,null,2569,"x2",2569,null,{"$f":"M822*100/M1575","v":4.0186462683998938},-107,2,19,148,391,0.91786687427014402,3.1140521603736861E-3,7.901907356948229E-2,{"$f":"L822*100/B$1537","v":7173.1448763250883},7.901907356948229E-2]
["2020-03-24T17:00:00",11,"Marche",862,149,1011,1486,2497,139,139,8,231,2736,7229,null,2569,2569,"",null,{"$f":"M823*100/M1576","v":3.9551289464554182},12,"",28,167,447,0.91264619883040932,2.9239766081871343E-3,8.4429824561403508E-2,{"$f":"L823*100/B$1537","v":8162.5441696113076},8.4429824561403508E-2]
["2020-03-25T17:00:00",11,"Marche",938,148,1086,1553,2639,142,142,8,287,2934,7896,null,2569,2569,"",null,{"$f":"M824*100/M1577","v":3.9442905923157583},3,"",56,198,667,0.89945466939331975,2.7266530334014998E-3,9.7818677573278806E-2,{"$f":"L824*100/B$1537","v":10141.342756183745},9.7818677573278806E-2]
["2020-03-26T17:00:00",11,"Marche",977,166,1143,1652,2795,156,156,9,310,3114,8623,null,2569,2569,"",null,{"$f":"M825*100/M1578","v":3.8664497945094922},14,1,23,180,727,0.89755940912010279,2.8901734104046241E-3,9.9550417469492614E-2,{"$f":"L825*100/B$1537","v":10954.063604240282},9.9550417469492614E-2]
["2020-03-27T17:00:00",11,"Marche",979,162,1141,1709,2850,55,82,10,336,3196,9060,null,2569,2569,"",null,{"$f":"M826*100/M1579","v":3.694883118684825},-74,1,26,82,437,{"$f":"IF(M826=0,0,H826/M826)","v":0.89173967459324155},{"$f":"IF(M826=0,0,K826/M826)","v":3.1289111389236545E-3},{"$f":"IF(M826=0,0,L826/M826)","v":0.10513141426783479},{"$f":"L826*100/B$1537","v":11872.791519434628},0.10513141426783479]
["2020-03-28T17:00:00",11,"Marche",987,166,1153,1846,2999,149,177,10,364,3373,9884,null,{"$f":"IF(Q827=\"x2\",M827,P826)","v":2569},{"$f":"IF(M827>P826*2,\"x2\",P826)","v":2569},{"$f":"IF(Q827=\"x2\",M827,\"\")","v":""},null,{"$f":"M827*100/M1580","v":3.6475906220261267},{"$f":"IF(J827-J826=0,\"\",J827-J826)","v":95},{"$f":"IF(K827-K826=0,\"\",K827-K826)","v":""},{"$f":"IF(L827-L826=0,\"\",L827-L826)","v":28},{"$f":"IF(M827-M826=0,\"\",M827-M826)","v":177},{"$f":"IF(N827-N826=0,\"\",N827-N826)","v":824},0.88911947820930926,2.9647198339756895E-3,0.10791580195671509,{"$f":"L827*100/B$1537","v":12862.190812720848},0.10791580195671509]
["2020-03-29T17:00:00",11,"Marche",1000,168,1168,1992,3160,161,185,12,386,3558,10431,null,2569,2569,"",null,{"$f":"M828*100/M1581","v":3.6421705616804347},8,2,22,185,547,0.88813940415964021,3.3726812816188868E-3,0.10848791455874086,{"$f":"L828*100/B$1537","v":13639.575971731449},0.10848791455874086]
["2020-03-30T17:00:00",11,"Marche",998,167,1165,2086,3251,91,126,16,417,3684,10979,null,2569,2569,"",null,{"$f":"M829*100/M1582","v":3.6210302833721584},-59,4,31,126,548,0.88246471226927248,4.3431053203040176E-3,0.11319218241042345,{"$f":"L829*100/B$1537","v":14734.982332155476},0.11319218241042345]
["2020-03-31T17:00:00",11,"Marche",946,169,1115,2237,3352,101,141,21,452,3825,11724,null,2569,2569,"",null,{"$f":"M830*100/M1583","v":3.6155852994555353},15,5,35,141,745,0.87633986928104579,5.4901960784313726E-3,0.11816993464052288,{"$f":"L830*100/B$1537","v":15971.73144876325},0.11816993464052288]
["2020-04-01T17:00:00",11,"Marche",984,168,1152,2304,3456,104,137,29,477,3962,12296,null,2569,2569,"",null,{"$f":"M831*100/M1584","v":3.5831208059760886},-4,8,25,137,572,0.87228672387682993,7.3195355880868252E-3,0.1203937405350833,{"$f":"L831*100/B$1537","v":16855.123674911662},0.1203937405350833]
["2020-04-02T17:00:00",11,"Marche",986,164,1150,2405,3555,99,136,40,503,4098,12943,null,2569,2569,"",null,{"$f":"M832*100/M1585","v":3.5559952100796584},-1,11,26,136,647,0.86749633967789164,9.760858955588092E-3,0.12274280136652026,{"$f":"L832*100/B$1537","v":17773.851590106005},0.12274280136652026]
["2020-04-03T17:00:00",11,"Marche",982,158,1140,2491,3631,76,132,42,557,4230,13678,null,2569,2569,"",null,{"$f":"M833*100/M1586","v":3.530089211947224},-4,2,54,132,735,0.85839243498817963,9.9290780141843976E-3,0.13167848699763593,{"$f":"L833*100/B$1537","v":19681.978798586573},0.13167848699763593]
["2020-04-04T17:00:00",11,"Marche",997,153,1150,2347,3497,-134,111,270,574,4341,14472,null,2569,2569,"",null,{"$f":"M834*100/M1587","v":3.4830541113036779},-21,228,17,111,794,0.80557475236120712,6.2197650310988249E-2,0.13222759732780465,{"$f":"L834*100/B$1537","v":20282.68551236749},0.13222759732780465]
["2020-04-05T17:00:00",11,"Marche",987,151,1138,2440,3578,81,123,287,599,4464,15252,null,2569,2569,"",null,{"$f":"M835*100/M1588","v":3.4618605949685146},12,17,25,123,780,0.80152329749103945,6.4292114695340505E-2,0.13418458781362008,{"$f":"L835*100/B$1537","v":21166.077738515902},0.13418458781362008]
["2020-04-06T17:00:00",11,"Marche",1001,140,1141,2565,3706,128,150,296,612,4614,15919,null,2569,2569,"",null,{"$f":"M836*100/M1589","v":3.4810293707137845},27,9,13,150,667,0.80320762895535325,6.4152579107065455E-2,0.13263979193758127,{"$f":"L836*100/B$1537","v":21625.441696113074},0.13263979193758127]
["2020-04-07T17:00:00",11,"Marche",962,139,1101,2637,3738,32,96,342,630,4710,16619,null,2569,2569,"",null,{"$f":"M837*100/M1590","v":3.4738099803814553},-54,46,18,96,700,0.79363057324840769,7.2611464968152864E-2,0.13375796178343949,{"$f":"L837*100/B$1537","v":22261.484098939927},0.13375796178343949]
["2020-04-08T17:00:00",11,"Marche",974,133,1107,2455,3562,-176,149,645,652,4859,17532,null,2569,2569,"",null,{"$f":"M838*100/M1591","v":3.4851027814835533},53,303,22,149,913,0.7330726486931467,0.13274336283185842,0.13418398847499485,{"$f":"L838*100/B$1537","v":23038.86925795053},0.13418398847499485]
["2020-04-09T17:00:00",11,"Marche",945,133,1078,2323,3401,-161,96,885,669,4955,18194,null,2569,2569,"",null,{"$f":"M839*100/M1592","v":3.4499324634815425},-53,240,17,96,662,0.68637739656912211,0.17860746720484358,0.13501513622603431,{"$f":"L839*100/B$1537","v":23639.575971731447},0.13501513622603431]
["2020-04-10T17:00:00",11,"Marche",925,127,1052,2264,3316,-85,129,1086,682,5084,18970,null,2569,2569,"",null,{"$f":"M840*100/M1593","v":3.4449812640181059},33,201,13,129,776,0.65224232887490163,0.21361132966168372,0.13414634146341464,{"$f":"L840*100/B$1537","v":24098.939929328622},0.13414634146341464]
["2020-04-11T17:00:00",11,"Marche",960,118,1078,2153,3231,-85,127,1291,689,5211,20060,null,5211,"x2",5211,null,{"$f":"M841*100/M1594","v":3.4221880725811218},-2,205,7,127,1090,0.62003454231433508,0.24774515448090578,0.13222030320475917,{"$f":"L841*100/B$1537","v":24346.289752650177},0.13222030320475917]
["2020-04-12T17:00:00",11,"Marche",949,114,1063,2051,3114,-117,92,1489,700,5303,21057,null,5211,5211,"",null,{"$f":"M842*100/M1595","v":3.3914672908552537},-35,198,11,92,997,0.58721478408448047,0.28078446162549503,0.1320007542900245,{"$f":"L842*100/B$1537","v":24734.982332155476},0.1320007542900245]
["2020-04-13T17:00:00",11,"Marche",959,108,1067,2013,3080,-34,78,1588,713,5381,28379,null,5211,5211,"",null,{"$f":"M843*100/M1596","v":3.37332932119662},-14,99,13,78,7322,0.57238431518305144,0.29511243263333953,0.132503252183609,{"$f":"L843*100/B$1537","v":25194.346289752648},0.132503252183609]
["2020-04-14T17:00:00",11,"Marche",937,106,1043,2052,3095,15,45,1603,728,5426,29160,null,5211,5211,"",null,{"$f":"M844*100/M1597","v":3.3393235192752697},-33,15,15,45,781,0.57040176925912278,0.29542941393291561,0.13416881680796167,{"$f":"L844*100/B$1537","v":25724.381625441696},0.13416881680796167]
["2020-04-15T17:00:00",11,"Marche",888,106,994,2103,3097,2,77,1660,746,5503,30329,null,5211,5211,"",null,{"$f":"M845*100/M1598","v":3.3320214344100996},32,57,18,77,1169,0.56278393603489008,0.30165364346719969,0.13556242049791023,{"$f":"L845*100/B$1537","v":26360.42402826855},0.13556242049791023]
["2020-04-16T17:00:00",11,"Marche",850,102,952,2172,3124,27,79,1694,764,5582,33778,null,5211,5211,"",null,{"$f":"M846*100/M1599","v":3.3041120864680571},2,34,18,79,3449,0.55965603726262991,0.30347545682551058,0.13686850591185956,{"$f":"L846*100/B$1537","v":26996.466431095407},0.13686850591185956]
["2020-04-17T17:00:00",11,"Marche",839,94,933,2224,3157,33,86,1726,785,5668,37997,null,{"$f":"IF(Q847=\"x2\",M847,P846)","v":5211},{"$f":"IF(M847>P846*2,\"x2\",P846)","v":5211},{"$f":"IF(Q847=\"x2\",M847,\"\")","v":""},null,{"$f":"M847*100/M1600","v":3.2870547571824584},{"$f":"IF(J847-J846=0,\"\",J847-J846)","v":7},{"$f":"IF(K847-K846=0,\"\",K847-K846)","v":32},{"$f":"IF(L847-L846=0,\"\",L847-L846)","v":21},{"$f":"IF(M847-M846=0,\"\",M847-M846)","v":86},{"$f":"IF(N847-N846=0,\"\",N847-N846)","v":4219},{"$f":"IF(M847=0,0,H847/M847)","v":0.55698659139026108},{"$f":"IF(M847=0,0,K847/M847)","v":0.30451658433309808},{"$f":"IF(M847=0,0,L847/M847)","v":0.13849682427664078},{"$f":"L847*100/B$1537","v":27738.515901060069},0.13849682427664078]
["2020-04-18T17:00:00",11,"Marche",804,88,892,2280,3172,15,53,1754,795,5721,39909,null,{"$f":"IF(Q848=\"x2\",M848,P847)","v":5211},{"$f":"IF(M848>P847*2,\"x2\",P847)","v":5211},{"$f":"IF(Q848=\"x2\",M848,\"\")","v":""},null,{"$f":"M848*100/M1601","v":3.2519539576524088},{"$f":"IF(J848-J847=0,\"\",J848-J847)","v":-33},{"$f":"IF(K848-K847=0,\"\",K848-K847)","v":28},{"$f":"IF(L848-L847=0,\"\",L848-L847)","v":10},{"$f":"IF(M848-M847=0,\"\",M848-M847)","v":53},{"$f":"IF(N848-N847=0,\"\",N848-N847)","v":1912},{"$f":"IF(M848=0,0,H848/M848)","v":0.55444852298549208},{"$f":"IF(M848=0,0,K848/M848)","v":0.3065897570354833},{"$f":"IF(M848=0,0,L848/M848)","v":0.13896171997902465},{"$f":"L848*100/B$1537","v":28091.872791519432},0.13896171997902465]
["2020-04-19T17:00:00",11,"Marche",799,86,885,2297,3182,10,48,1780,807,5769,41474,27099,{"$f":"IF(Q849=\"x2\",M849,P848)","v":5211},{"$f":"IF(M849>P848*2,\"x2\",P848)","v":5211},{"$f":"IF(Q849=\"x2\",M849,\"\")","v":""},null,{"$f":"M849*100/M1602","v":3.2234092483740473},{"$f":"IF(J849-J848=0,\"\",J849-J848)","v":-5},{"$f":"IF(K849-K848=0,\"\",K849-K848)","v":26},{"$f":"IF(L849-L848=0,\"\",L849-L848)","v":12},{"$f":"IF(M849-M848=0,\"\",M849-M848)","v":48},{"$f":"IF(N849-N848=0,\"\",N849-N848)","v":1565},{"$f":"IF(M849=0,0,H849/M849)","v":0.55156872941584334},{"$f":"IF(M849=0,0,K849/M849)","v":0.30854567516033976},{"$f":"IF(M849=0,0,L849/M849)","v":0.13988559542381696},{"$f":"L849*100/B$1537","v":28515.901060070672},0.13988559542381696]
["2020-04-20T17:00:00",11,"Marche",792,80,872,2340,3212,30,57,1792,822,5826,42782,28006,{"$f":"IF(Q850=\"x2\",M850,P849)","v":5211},{"$f":"IF(M850>P849*2,\"x2\",P849)","v":5211},{"$f":"IF(Q850=\"x2\",M850,\"\")","v":""},null,{"$f":"M850*100/M1603","v":3.2147350299070783},{"$f":"IF(J850-J849=0,\"\",J850-J849)","v":9},{"$f":"IF(K850-K849=0,\"\",K850-K849)","v":12},{"$f":"IF(L850-L849=0,\"\",L850-L849)","v":15},{"$f":"IF(M850-M849=0,\"\",M850-M849)","v":57},{"$f":"IF(N850-N849=0,\"\",N850-N849)","v":1308},{"$f":"IF(M850=0,0,H850/M850)","v":0.55132166151733608},{"$f":"IF(M850=0,0,K850/M850)","v":0.30758668039821491},{"$f":"IF(M850=0,0,L850/M850)","v":0.14109165808444901},{"$f":"L850*100/B$1537","v":29045.936395759716},0.14109165808444901]
["2020-04-21T17:00:00",11,"Marche",784,78,862,2356,3218,6,51,1825,834,5877,44332,29090,5211,{"$f":"IF(M851>P850*2,\"x2\",P850)","v":5211},{"$f":"IF(Q851=\"x2\",M851,\"\")","v":""},null,{"$f":"M851*100/M1604","v":3.1947683426018036},{"$f":"IF(J851-J850=0,\"\",J851-J850)","v":-6},{"$f":"IF(K851-K850=0,\"\",K851-K850)","v":33},{"$f":"IF(L851-L850=0,\"\",L851-L850)","v":12},{"$f":"IF(M851-M850=0,\"\",M851-M850)","v":51},{"$f":"IF(N851-N850=0,\"\",N851-N850)","v":1550},{"$f":"IF(M851=0,0,H851/M851)","v":0.54755827803301005},{"$f":"IF(M851=0,0,K851/M851)","v":0.31053258465203337},{"$f":"IF(M851=0,0,L851/M851)","v":0.14190913731495661},{"$f":"L851*100/B$1537","v":29469.964664310952},0.14190913731495661]
["2020-04-22T17:00:00",11,"Marche",735,76,811,2419,3230,12,47,1849,845,5924,46492,30543,5211,{"$f":"IF(M852>P851*2,\"x2\",P851)","v":5211},{"$f":"IF(Q852=\"x2\",M852,\"\")","v":""},null,{"$f":"M852*100/M1605","v":3.1623844934259342},{"$f":"IF(J852-J851=0,\"\",J852-J851)","v":-4},{"$f":"IF(K852-K851=0,\"\",K852-K851)","v":24},{"$f":"IF(L852-L851=0,\"\",L852-L851)","v":11},{"$f":"IF(M852-M851=0,\"\",M852-M851)","v":47},{"$f":"IF(N852-N851=0,\"\",N852-N851)","v":2160},{"$f":"IF(M852=0,0,H852/M852)","v":0.54523970290344359},{"$f":"IF(M852=0,0,K852/M852)","v":0.31212018906144495},{"$f":"IF(M852=0,0,L852/M852)","v":0.1426401080351114},{"$f":"L852*100/B$1537","v":29858.657243816255},0.1426401080351114]
["2020-04-23T17:00:00",11,"Marche",727,71,798,2432,3230,0,28,1865,857,5952,47662,31673,{"$f":"IF(Q853=\"x2\",M853,P852)","v":5211},{"$f":"IF(M853>P852*2,\"x2\",P852)","v":5211},{"$f":"IF(Q853=\"x2\",M853,\"\")","v":""},null,{"$f":"M853*100/M1606","v":3.1330768056513296},{"$f":"IF(J853-J852=0,\"\",J853-J852)","v":-19},{"$f":"IF(K853-K852=0,\"\",K853-K852)","v":16},{"$f":"IF(L853-L852=0,\"\",L853-L852)","v":12},{"$f":"IF(M853-M852=0,\"\",M853-M852)","v":28},{"$f":"IF(N853-N852=0,\"\",N853-N852)","v":1170},{"$f":"IF(M853=0,0,H853/M853)","v":0.54267473118279574},{"$f":"IF(M853=0,0,K853/M853)","v":0.31334005376344087},{"$f":"IF(M853=0,0,L853/M853)","v":0.14398521505376344},{"$f":"L853*100/B$1537","v":30282.68551236749},{"$f":"IF(M853=0,0,L853/M853)","v":0.14398521505376344}]
["2020-04-24T17:00:00",11,"Marche",705,61,766,2507,3273,43,76,1890,865,6028,49163,33113,{"$f":"IF(Q854=\"x2\",M854,P853)","v":5211},{"$f":"IF(M854>P853*2,\"x2\",P853)","v":5211},{"$f":"IF(Q854=\"x2\",M854,\"\")","v":""},null,{"$f":"M854*100/M1607","v":3.1234131631035162},{"$f":"IF(J854-J853=0,\"\",J854-J853)","v":48},{"$f":"IF(K854-K853=0,\"\",K854-K853)","v":25},{"$f":"IF(L854-L853=0,\"\",L854-L853)","v":8},{"$f":"IF(M854-M853=0,\"\",M854-M853)","v":76},{"$f":"IF(N854-N853=0,\"\",N854-N853)","v":1501},{"$f":"IF(M854=0,0,H854/M854)","v":0.54296615792966163},{"$f":"IF(M854=0,0,K854/M854)","v":0.31353682813536826},{"$f":"IF(M854=0,0,L854/M854)","v":0.14349701393497014},{"$f":"L854*100/B$1537","v":30565.371024734981},{"$f":"IF(M854=0,0,L854/M854)","v":0.14349701393497014}]
["2020-04-25T17:00:00",11,"Marche",689,58,747,2525,3272,-1,30,1912,874,6058,50996,34256,{"$f":"IF(Q855=\"x2\",M855,P854)","v":5211},{"$f":"IF(M855>P854*2,\"x2\",P854)","v":5211},{"$f":"IF(Q855=\"x2\",M855,\"\")","v":""},null,{"$f":"M855*100/M1608","v":3.1010847141811406},{"$f":"IF(J855-J854=0,\"\",J855-J854)","v":-46},{"$f":"IF(K855-K854=0,\"\",K855-K854)","v":22},{"$f":"IF(L855-L854=0,\"\",L855-L854)","v":9},{"$f":"IF(M855-M854=0,\"\",M855-M854)","v":30},{"$f":"IF(N855-N854=0,\"\",N855-N854)","v":1833},{"$f":"IF(M855=0,0,H855/M855)","v":0.54011224826675475},{"$f":"IF(M855=0,0,K855/M855)","v":0.31561571475734568},{"$f":"IF(M855=0,0,L855/M855)","v":0.14427203697589963},{"$f":"L855*100/B$1537","v":30883.392226148408},{"$f":"IF(M855=0,0,L855/M855)","v":0.14427203697589963}]
["2020-04-26T17:00:00",11,"Marche",668,58,726,2582,3308,36,53,1924,879,6111,52063,35107,{"$f":"IF(Q856=\"x2\",M856,P855)","v":5211},{"$f":"IF(M856>P855*2,\"x2\",P855)","v":5211},{"$f":"IF(Q856=\"x2\",M856,\"\")","v":""},null,{"$f":"M856*100/M1609","v":3.0914379663589227},{"$f":"IF(J856-J855=0,\"\",J856-J855)","v":23},{"$f":"IF(K856-K855=0,\"\",K856-K855)","v":12},{"$f":"IF(L856-L855=0,\"\",L856-L855)","v":5},{"$f":"IF(M856-M855=0,\"\",M856-M855)","v":53},{"$f":"IF(N856-N855=0,\"\",N856-N855)","v":1067},{"$f":"IF(M856=0,0,H856/M856)","v":0.54131893307151036},{"$f":"IF(M856=0,0,K856/M856)","v":0.31484208803796432},{"$f":"IF(M856=0,0,L856/M856)","v":0.14383897889052527},{"$f":"L856*100/B$1537","v":31060.070671378093},{"$f":"IF(M856=0,0,L856/M856)","v":0.14383897889052527}]
["2020-04-27T17:00:00",11,"Marche",667,58,725,2585,3310,2,16,1933,884,6127,52765,35617,{"$f":"IF(Q857=\"x2\",M857,P856)","v":5211},{"$f":"IF(M857>P856*2,\"x2\",P856)","v":5211},{"$f":"IF(Q857=\"x2\",M857,\"\")","v":""},null,{"$f":"M857*100/M1610","v":3.0725024321261296},{"$f":"IF(J857-J856=0,\"\",J857-J856)","v":-37},{"$f":"IF(K857-K856=0,\"\",K857-K856)","v":9},{"$f":"IF(L857-L856=0,\"\",L857-L856)","v":5},{"$f":"IF(M857-M856=0,\"\",M857-M856)","v":16},{"$f":"IF(N857-N856=0,\"\",N857-N856)","v":702},{"$f":"IF(M857=0,0,H857/M857)","v":0.54023176105761384},{"$f":"IF(M857=0,0,K857/M857)","v":0.31548881997715034},{"$f":"IF(M857=0,0,L857/M857)","v":0.14427941896523583},{"$f":"L857*100/B$1537","v":31236.749116607774},{"$f":"IF(M857=0,0,L857/M857)","v":0.14427941896523583}]
[{"$f":"A857 + 1","v":"2020-04-28T17:00:00"},null,null,null,null,null,null,null,null,null,null,null,null,null,null,null,"Media x2",{"$f":"COUNT(N794:N857) / COUNT(R794:R857)","v":5.333333333333333}]
[{"$f":"A858+1","v":"2020-04-29T17:00:00"}]
[{"$f":"A859+1","v":"2020-04-30T17:00:00"}]
[null,null,null,null,{"$f":"E857/$M857","v":9.4662967194385512E-3},null,null,{"$f":"H857/$M857","v":0.54023176105761384},null,null,{"$f":"K857/$M857","v":0.31548881997715034},{"$f":"L857/$M857","v":0.14427941896523583},null,{"$f":"N857/$M857","v":8.6118818345030199}]
[]
[]
[]
["Data","Codice","Regione","Ricoverati","Terap. Intens.","Ospedalizzati","Quarantena","Positivi","+ Positivi","Nuovi","Guariti","Deceduti","Totale","Tamponi","Testati",null,null,"x 2",null,"% su Tot.","+ Nuovi","+ Guariti","+ Deceduti","+ Totali","+ Tamponi","% Positivi","% Guariti","% Deceduti","P. Stimati","% Morti"]
["2020-02-24T18:00:00",12,"Lazio",1,1,2,0,2,0,2,1,0,3,124,null,{"$f":"M866","v":3},null,{"$f":"M866","v":3},null,{"$f":"M866*100/M1547","v":1.3100436681222707},null,null,null,null,null,{"$f":"IF(M866=0,0,H866/M866)","v":0.66666666666666663},{"$f":"IF(M866=0,0,K866/M866)","v":0.33333333333333331},{"$f":"IF(M866=0,0,L866/M866)","v":0},{"$f":"L866*100/B$1537","v":0},{"$f":"IF(M866=0,0,L866/M866)","v":0}]
["2020-02-25T18:00:00",12,"Lazio",1,1,2,0,2,0,0,1,0,3,124,null,{"$f":"IF(Q867=\"x2\",M867,P866)","v":3},{"$f":"IF(M867>P866*2,\"x2\",P866)","v":3},{"$f":"IF(Q867=\"x2\",M867,\"\")","v":""},null,{"$f":"M867*100/M1548","v":0.93167701863354035},{"$f":"IF(J867-J866=0,\"\",J867-J866)","v":-2},{"$f":"IF(K867-K866=0,\"\",K867-K866)","v":""},{"$f":"IF(L867-L866=0,\"\",L867-L866)","v":""},{"$f":"IF(M867-M866=0,\"\",M867-M866)","v":""},{"$f":"IF(N867-N866=0,\"\",N867-N866)","v":""},0.66666666666666663,0.33333333333333331,0,{"$f":"L867*100/B$1537","v":0},0]
["2020-02-26T18:00:00",12,"Lazio",0,0,0,0,0,-2,-2,3,0,3,124,null,3,3,"",null,{"$f":"M868*100/M1549","v":0.75},-2,2,"","","",0,1,0,{"$f":"L868*100/B$1537","v":0},0]
["2020-02-27T18:00:00",12,"Lazio",0,0,0,0,0,0,0,3,0,3,552,null,3,3,"",null,{"$f":"M869*100/M1550","v":0.46153846153846156},2,"","","",428,0,1,0,{"$f":"L869*100/B$1537","v":0},0]
["2020-02-28T18:00:00",12,"Lazio",0,0,0,0,0,0,0,3,0,3,611,null,3,3,"",null,{"$f":"M870*100/M1551","v":0.33783783783783783},"","","","",59,0,1,0,{"$f":"L870*100/B$1537","v":0},0]
["2020-02-29T17:00:00",12,"Lazio",3,0,3,0,3,3,3,3,0,6,679,null,3,3,"",null,{"$f":"M871*100/M1552","v":0.53191489361702127},3,"","",3,68,0.5,0.5,0,{"$f":"L871*100/B$1537","v":0},0]
["2020-03-01T17:00:00",12,"Lazio",3,0,3,0,3,0,0,3,0,6,724,null,3,3,"",null,{"$f":"M872*100/M1553","v":0.35419126328217237},-3,"","","",45,0.5,0.5,0,{"$f":"L872*100/B$1537","v":0},0]
["2020-03-02T18:00:00",12,"Lazio",3,0,3,1,4,1,1,3,0,7,773,null,7,"x2",7,null,{"$f":"M873*100/M1554","v":0.34381139489194501},1,"","",1,49,0.5714285714285714,0.42857142857142855,0,{"$f":"L873*100/B$1537","v":0},0]
["2020-03-03T18:00:00",12,"Lazio",10,0,10,1,11,7,7,3,0,14,877,null,7,7,"",null,{"$f":"M874*100/M1555","v":0.55955235811350923},6,"","",7,104,0.7857142857142857,0.21428571428571427,0,{"$f":"L874*100/B$1537","v":0},0]
["2020-03-04T17:00:00",12,"Lazio",15,3,18,9,27,16,16,3,0,30,995,null,30,"x2",30,null,{"$f":"M875*100/M1556","v":0.9711880867594691},9,"","",16,118,0.9,0.1,0,{"$f":"L875*100/B$1537","v":0},0]
["2020-03-05T17:00:00",12,"Lazio",20,7,27,14,41,14,14,3,0,44,1175,null,30,30,"",null,{"$f":"M876*100/M1557","v":1.1404872991187143},-2,"","",14,180,0.93181818181818177,6.8181818181818177E-2,0,{"$f":"L876*100/B$1537","v":0},0]
["2020-03-06T17:00:00",12,"Lazio",26,8,34,16,50,9,9,3,1,54,1373,null,30,30,"",null,{"$f":"M877*100/M1558","v":1.1647972389991372},-5,"",1,10,198,0.92592592592592593,5.5555555555555552E-2,1.8518518518518517E-2,{"$f":"L877*100/B$1537","v":35.335689045936398},1.8518518518518517E-2]
["2020-03-07T18:00:00",12,"Lazio",43,8,51,21,72,22,22,3,1,76,1582,null,76,"x2",76,null,{"$f":"M878*100/M1559","v":1.2918578956314806},13,"","",22,209,0.94736842105263153,3.9473684210526314E-2,1.3157894736842105E-2,{"$f":"L878*100/B$1537","v":35.335689045936398},1.3157894736842105E-2]
["2020-03-08T18:00:00",12,"Lazio",47,8,55,26,81,9,9,3,3,87,1929,null,76,76,"",null,{"$f":"M879*100/M1560","v":1.1796610169491526},-13,"",2,11,347,0.93103448275862066,3.4482758620689655E-2,3.4482758620689655E-2,{"$f":"L879*100/B$1537","v":106.00706713780919},3.4482758620689655E-2]
["2020-03-09T18:00:00",12,"Lazio",55,8,63,31,94,13,13,3,5,102,1929,null,76,76,"",null,{"$f":"M880*100/M1561","v":1.1120802442215438},4,"",2,15,"",0.92156862745098034,2.9411764705882353E-2,4.9019607843137254E-2,{"$f":"L880*100/B$1537","v":176.67844522968198},4.9019607843137254E-2]
["2020-03-10T18:00:00",12,"Lazio",50,15,65,34,99,5,5,11,6,116,3591,null,76,76,"",null,{"$f":"M881*100/M1562","v":1.1429697507143561},-8,8,1,14,1662,0.85344827586206895,9.4827586206896547E-2,5.1724137931034482E-2,{"$f":"L881*100/B$1537","v":212.01413427561837},5.1724137931034482E-2]
["2020-03-11T17:00:00",12,"Lazio",67,18,85,40,125,26,26,19,6,150,3591,null,76,76,"",null,{"$f":"M882*100/M1563","v":1.203659123736158},21,8,"",34,"",0.83333333333333337,0.12666666666666668,0.04,{"$f":"L882*100/B$1537","v":212.01413427561837},0.04]
["2020-03-12T17:00:00",12,"Lazio",85,20,105,67,172,47,47,19,9,200,5592,null,200,"x2",200,null,{"$f":"M883*100/M1564","v":1.3233639912657977},21,"",3,50,2001,0.86,9.5000000000000001E-2,4.4999999999999998E-2,{"$f":"L883*100/B$1537","v":318.02120141342755},4.4999999999999998E-2]
["2020-03-13T17:00:00",12,"Lazio",122,24,146,96,242,70,70,24,11,277,6491,null,200,200,"",null,{"$f":"M884*100/M1565","v":1.5685164212910532},23,5,2,77,899,0.87364620938628157,8.6642599277978335E-2,3.9711191335740074E-2,{"$f":"L884*100/B$1537","v":388.69257950530033},3.9711191335740074E-2]
["2020-03-14T17:00:00",12,"Lazio",181,25,206,114,320,78,78,24,13,357,7335,null,200,200,"",null,{"$f":"M885*100/M1566","v":1.6873847899040506},8,"",2,80,844,0.89635854341736698,6.7226890756302518E-2,3.6414565826330535E-2,{"$f":"L885*100/B$1537","v":459.36395759717311},3.6414565826330535E-2]
["2020-03-15T17:00:00",12,"Lazio",223,31,254,142,396,76,76,24,16,436,8345,null,436,"x2",436,null,{"$f":"M886*100/M1567","v":1.7618297167333414},-2,"",3,79,1010,0.90825688073394495,5.5045871559633031E-2,3.669724770642202E-2,{"$f":"L886*100/B$1537","v":565.37102473498237},3.669724770642202E-2]
["2020-03-16T17:00:00",12,"Lazio",267,31,298,174,472,76,76,32,19,523,9330,null,436,436,"",null,{"$f":"M887*100/M1568","v":1.8691922802001431},"",8,3,87,985,0.90248565965583172,6.1185468451242828E-2,3.6328871892925434E-2,{"$f":"L887*100/B$1537","v":671.37809187279152},3.6328871892925434E-2]
["2020-03-17T17:00:00",12,"Lazio",314,44,358,192,550,78,78,34,23,607,9436,null,436,436,"",null,{"$f":"M888*100/M1569","v":1.926617152288453},2,2,4,84,106,0.90609555189456348,5.6013179571663921E-2,3.789126853377265E-2,{"$f":"L888*100/B$1537","v":812.72084805653708},3.789126853377265E-2]
["2020-03-18T17:00:00",12,"Lazio",374,44,418,232,650,100,100,42,32,724,11145,null,436,436,"",null,{"$f":"M889*100/M1570","v":2.0272729818273456},22,8,9,117,1709,0.89779005524861877,5.8011049723756904E-2,4.4198895027624308E-2,{"$f":"L889*100/B$1537","v":1130.7420494699647},4.4198895027624308E-2]
["2020-03-19T17:00:00",12,"Lazio",426,45,471,270,741,91,91,44,38,823,11145,null,436,436,"",null,{"$f":"M890*100/M1571","v":2.0056049713659072},-9,2,6,99,"",0.90036452004860268,5.3462940461725394E-2,4.6172539489671933E-2,{"$f":"L890*100/B$1537","v":1342.756183745583},4.6172539489671933E-2]
["2020-03-20T17:00:00",12,"Lazio",537,47,584,328,912,171,171,53,43,1008,13889,null,1008,"x2",1008,null,{"$f":"M891*100/M1572","v":2.1437230173752155},80,9,5,185,2744,0.90476190476190477,5.257936507936508E-2,4.265873015873016E-2,{"$f":"L891*100/B$1537","v":1519.434628975265},4.265873015873016E-2]
["2020-03-21T17:00:00",12,"Lazio",591,70,661,425,1086,174,174,54,50,1190,13889,null,1008,1008,"",null,{"$f":"M892*100/M1573","v":2.2210608831983278},3,1,7,182,"",0.9126050420168067,4.53781512605042E-2,4.2016806722689079E-2,{"$f":"L892*100/B$1537","v":1766.7844522968198},4.2016806722689079E-2]
["2020-03-22T17:00:00",12,"Lazio",671,79,750,522,1272,186,186,58,53,1383,17845,null,1008,1008,"",null,{"$f":"M893*100/M1574","v":2.3385978558625586},12,4,3,193,3956,0.91973969631236441,4.1937816341287057E-2,3.8322487346348515E-2,{"$f":"L893*100/B$1537","v":1872.791519434629},3.8322487346348515E-2]
["2020-03-23T17:00:00",12,"Lazio",718,96,814,600,1414,142,142,63,63,1540,18371,null,1008,1008,"",null,{"$f":"M894*100/M1575","v":2.4089977630735055},-44,5,10,157,526,0.91818181818181821,4.0909090909090909E-2,4.0909090909090909E-2,{"$f":"L894*100/B$1537","v":2226.1484098939927},4.0909090909090909E-2]
["2020-03-24T17:00:00",12,"Lazio",747,94,841,704,1545,131,131,103,80,1728,18371,null,1008,1008,"",null,{"$f":"M895*100/M1576","v":2.497976176708685},-11,40,17,188,"",0.89409722222222221,5.9606481481481483E-2,4.6296296296296294E-2,{"$f":"L895*100/B$1537","v":2826.8551236749117},4.6296296296296294E-2]
["2020-03-25T17:00:00",12,"Lazio",805,101,906,769,1675,130,130,131,95,1901,20669,null,1008,1008,"",null,{"$f":"M896*100/M1577","v":2.555588417175275},-1,28,15,173,2298,0.88111520252498687,6.8911099421357175E-2,4.9973698053655972E-2,{"$f":"L896*100/B$1537","v":3356.8904593639577},4.9973698053655972E-2]
["2020-03-26T17:00:00",12,"Lazio",878,113,991,844,1835,160,160,155,106,2096,22771,null,2096,"x2",2096,null,{"$f":"M897*100/M1578","v":2.6024658860924519},30,24,11,195,2102,0.87547709923664119,7.3950381679389318E-2,5.0572519083969467E-2,{"$f":"L897*100/B$1537","v":3745.583038869258},5.0572519083969467E-2]
["2020-03-27T17:00:00",12,"Lazio",992,126,1118,895,2013,178,199,164,118,2295,24106,null,2096,2096,"",null,{"$f":"M898*100/M1579","v":2.6532405373534647},39,9,12,199,1335,{"$f":"IF(M898=0,0,H898/M898)","v":0.87712418300653594},{"$f":"IF(M898=0,0,K898/M898)","v":7.1459694989106759E-2},{"$f":"IF(M898=0,0,L898/M898)","v":5.1416122004357301E-2},{"$f":"L898*100/B$1537","v":4169.611307420495},5.1416122004357301E-2]
["2020-03-28T17:00:00",12,"Lazio",985,133,1118,1063,2181,168,210,200,124,2505,27179,null,{"$f":"IF(Q899=\"x2\",M899,P898)","v":2096},{"$f":"IF(M899>P898*2,\"x2\",P898)","v":2096},{"$f":"IF(Q899=\"x2\",M899,\"\")","v":""},null,{"$f":"M899*100/M1580","v":2.7089281079678171},{"$f":"IF(J899-J898=0,\"\",J899-J898)","v":11},{"$f":"IF(K899-K898=0,\"\",K899-K898)","v":36},{"$f":"IF(L899-L898=0,\"\",L899-L898)","v":6},{"$f":"IF(M899-M898=0,\"\",M899-M898)","v":210},{"$f":"IF(N899-N898=0,\"\",N899-N898)","v":3073},0.87065868263473056,7.9840319361277445E-2,4.9500998003992019E-2,{"$f":"L899*100/B$1537","v":4381.6254416961128},4.9500998003992019E-2]
["2020-03-29T17:00:00",12,"Lazio",1062,133,1195,1167,2362,181,201,208,136,2706,27744,null,2096,2096,"",null,{"$f":"M900*100/M1581","v":2.7700150477535854},-9,8,12,201,565,0.87287509238728755,7.6866223207686629E-2,5.0258684405025872E-2,{"$f":"L900*100/B$1537","v":4805.6537102473494},5.0258684405025872E-2]
["2020-03-30T17:00:00",12,"Lazio",1079,154,1233,1264,2497,135,208,267,150,2914,32846,null,2096,2096,"",null,{"$f":"M901*100/M1582","v":2.864191706228683},7,59,14,208,5102,0.8568977350720659,9.1626630061770756E-2,5.1475634866163349E-2,{"$f":"L901*100/B$1537","v":5300.3533568904595},5.1475634866163349E-2]
["2020-03-31T17:00:00",12,"Lazio",1127,173,1300,1342,2642,145,181,291,162,3095,34677,null,2096,2096,"",null,{"$f":"M902*100/M1583","v":2.92555202661827},-27,24,12,181,1831,0.85363489499192247,9.4022617124394178E-2,5.2342487883683363E-2,{"$f":"L902*100/B$1537","v":5724.3816254416961},5.2342487883683363E-2]
["2020-04-01T17:00:00",12,"Lazio",1131,177,1308,1450,2758,116,169,337,169,3264,35810,null,2096,2096,"",null,{"$f":"M903*100/M1584","v":2.9518693363720225},-12,46,7,169,1133,0.84497549019607843,0.10324754901960784,5.1776960784313729E-2,{"$f":"L903*100/B$1537","v":5971.7314487632511},5.1776960784313729E-2]
["2020-04-02T17:00:00",12,"Lazio",1169,181,1350,1529,2879,121,169,369,185,3433,41575,null,2096,2096,"",null,{"$f":"M904*100/M1585","v":2.9789486471945992},"",32,16,169,5765,0.83862510923390621,0.10748616370521411,5.3888727060879694E-2,{"$f":"L904*100/B$1537","v":6537.1024734982329},5.3888727060879694E-2]
["2020-04-03T17:00:00",12,"Lazio",1194,188,1382,1627,3009,130,167,392,199,3600,43776,null,2096,2096,"",null,{"$f":"M905*100/M1586","v":3.0043312442104035},-2,23,14,167,2201,0.83583333333333332,0.10888888888888888,5.527777777777778E-2,{"$f":"L905*100/B$1537","v":7031.8021201413421},5.527777777777778E-2]
["2020-04-04T17:00:00",12,"Lazio",1236,193,1429,1677,3106,97,157,439,212,3757,44624,null,2096,2096,"",null,{"$f":"M906*100/M1587","v":3.0144746132614415},-10,47,13,157,848,0.82672344956081978,0.11684854937450093,5.6428001064679267E-2,{"$f":"L906*100/B$1537","v":7491.1660777385159},5.6428001064679267E-2]
["2020-04-05T17:00:00",12,"Lazio",1235,197,1432,1754,3186,80,123,475,219,3880,44658,null,2096,2096,"",null,{"$f":"M907*100/M1588","v":3.0089648540496943},-34,36,7,123,34,0.82113402061855667,0.12242268041237113,5.6443298969072166E-2,{"$f":"L907*100/B$1537","v":7738.5159010600701},5.6443298969072166E-2]
["2020-04-06T17:00:00",12,"Lazio",1235,197,1432,1868,3300,114,151,502,229,4031,47470,null,2096,2096,"",null,{"$f":"M908*100/M1589","v":3.0411853908424935},28,27,10,151,2812,0.81865542049119322,0.12453485487472091,5.6809724634085831E-2,{"$f":"L908*100/B$1537","v":8091.872791519434},5.6809724634085831E-2]
["2020-04-07T17:00:00",12,"Lazio",1229,192,1421,1944,3365,65,118,546,238,4149,48874,null,2096,2096,"",null,{"$f":"M909*100/M1590","v":3.0600504476863395},-33,44,9,118,1404,0.81103880453121235,0.13159797541576285,5.7363220053024827E-2,{"$f":"L909*100/B$1537","v":8409.8939929328626},5.7363220053024827E-2]
["2020-04-08T17:00:00",12,"Lazio",1241,196,1437,2011,3448,83,117,574,244,4266,55113,null,4266,"x2",4266,null,{"$f":"M910*100/M1591","v":3.0597753582648362},-1,28,6,117,6239,0.80825128926394751,0.13455227379278012,5.7196436943272387E-2,{"$f":"L910*100/B$1537","v":8621.9081272084804},5.7196436943272387E-2]
["2020-04-09T17:00:00",12,"Lazio",1244,198,1442,2090,3532,84,163,644,253,4429,58107,null,4266,4266,"",null,{"$f":"M911*100/M1592","v":3.083703507721443},46,70,9,163,2994,0.79747121246330999,0.14540528335967487,5.712350417701513E-2,{"$f":"L911*100/B$1537","v":8939.9293286219072},5.712350417701513E-2]
["2020-04-10T17:00:00",12,"Lazio",1236,201,1437,2196,3633,101,154,687,263,4583,61769,null,4266,4266,"",null,{"$f":"M912*100/M1593","v":3.1054974691178163},-9,43,10,154,3662,0.79271219725070918,0.14990181104080297,5.7385991708487891E-2,{"$f":"L912*100/B$1537","v":9293.2862190812721},5.7385991708487891E-2]
["2020-04-11T17:00:00",12,"Lazio",1264,203,1467,2263,3730,97,140,720,273,4723,65241,null,4266,4266,"",null,{"$f":"M913*100/M1594","v":3.1017068253311528},-14,33,10,140,3472,0.78975227609570187,0.15244547956807114,5.7802244336226972E-2,{"$f":"L913*100/B$1537","v":9646.6431095406351},5.7802244336226972E-2]
["2020-04-12T17:00:00",12,"Lazio",1268,201,1469,2348,3817,87,122,749,279,4845,68954,null,4266,4266,"",null,{"$f":"M914*100/M1595","v":3.0985591220429387},-18,29,6,122,3713,0.78782249742002064,0.15459236326109391,5.7585139318885446E-2,{"$f":"L914*100/B$1537","v":9858.6572438162548},5.7585139318885446E-2]
["2020-04-13T17:00:00",12,"Lazio",1314,200,1514,2406,3920,103,123,764,284,4968,72746,null,4266,4266,"",null,{"$f":"M915*100/M1596","v":3.1144211238997968},1,15,5,123,3792,0.78904991948470204,0.1537842190016103,5.7165861513687598E-2,{"$f":"L915*100/B$1537","v":10035.335689045936},5.7165861513687598E-2]
["2020-04-14T17:00:00",12,"Lazio",1344,199,1543,2479,4022,102,143,789,300,5111,74650,null,4266,4266,"",null,{"$f":"M916*100/M1597","v":3.1454630495790457},20,25,16,143,1904,0.78693015065544902,0.15437292115045978,5.8696928194091176E-2,{"$f":"L916*100/B$1537","v":10600.706713780919},5.8696928194091176E-2]
["2020-04-15T17:00:00",12,"Lazio",1342,196,1538,2509,4047,25,121,874,311,5232,75584,null,4266,4266,"",null,{"$f":"M917*100/M1598","v":3.1679331537040962},-22,85,11,121,934,0.77350917431192656,0.16704892966360857,5.9441896024464834E-2,{"$f":"L917*100/B$1537","v":10989.399293286218},5.9441896024464834E-2]
["2020-04-16T17:00:00",12,"Lazio",1347,197,1544,2600,4144,97,148,920,316,5380,81993,null,4266,4266,"",null,{"$f":"M918*100/M1599","v":3.1845437164453863},27,46,5,148,6409,0.77026022304832709,0.17100371747211895,5.8736059479553904E-2,{"$f":"L918*100/B$1537","v":11166.0777385159},5.8736059479553904E-2]
["2020-04-17T17:00:00",12,"Lazio",1332,187,1519,2695,4214,70,144,978,332,5524,84755,null,{"$f":"IF(Q919=\"x2\",M919,P918)","v":4266},{"$f":"IF(M919>P918*2,\"x2\",P918)","v":4266},{"$f":"IF(Q919=\"x2\",M919,\"\")","v":""},null,{"$f":"M919*100/M1600","v":3.2035445445793753},{"$f":"IF(J919-J918=0,\"\",J919-J918)","v":-4},{"$f":"IF(K919-K918=0,\"\",K919-K918)","v":58},{"$f":"IF(L919-L918=0,\"\",L919-L918)","v":16},{"$f":"IF(M919-M918=0,\"\",M919-M918)","v":144},{"$f":"IF(N919-N918=0,\"\",N919-N918)","v":2762},{"$f":"IF(M919=0,0,H919/M919)","v":0.76285300506879072},{"$f":"IF(M919=0,0,K919/M919)","v":0.17704561911658218},{"$f":"IF(M919=0,0,L919/M919)","v":6.010137581462708E-2},{"$f":"L919*100/B$1537","v":11731.448763250883},6.010137581462708E-2]
["2020-04-18T17:00:00",12,"Lazio",1376,186,1562,2720,4282,68,144,1046,340,5668,89553,null,{"$f":"IF(Q920=\"x2\",M920,P919)","v":4266},{"$f":"IF(M920>P919*2,\"x2\",P919)","v":4266},{"$f":"IF(Q920=\"x2\",M920,\"\")","v":""},null,{"$f":"M920*100/M1601","v":3.2218274833025435},{"$f":"IF(J920-J919=0,\"\",J920-J919)","v":""},{"$f":"IF(K920-K919=0,\"\",K920-K919)","v":68},{"$f":"IF(L920-L919=0,\"\",L920-L919)","v":8},{"$f":"IF(M920-M919=0,\"\",M920-M919)","v":144},{"$f":"IF(N920-N919=0,\"\",N920-N919)","v":4798},{"$f":"IF(M920=0,0,H920/M920)","v":0.75546930134086099},{"$f":"IF(M920=0,0,K920/M920)","v":0.18454481298517997},{"$f":"IF(M920=0,0,L920/M920)","v":5.9985885673959072E-2},{"$f":"L920*100/B$1537","v":12014.134275618375},5.9985885673959072E-2]
["2020-04-19T17:00:00",12,"Lazio",1370,185,1555,2766,4321,39,87,1093,341,5755,91807,22702,{"$f":"IF(Q921=\"x2\",M921,P920)","v":4266},{"$f":"IF(M921>P920*2,\"x2\",P920)","v":4266},{"$f":"IF(Q921=\"x2\",M921,\"\")","v":""},null,{"$f":"M921*100/M1602","v":3.215586795699886},{"$f":"IF(J921-J920=0,\"\",J921-J920)","v":-57},{"$f":"IF(K921-K920=0,\"\",K921-K920)","v":47},{"$f":"IF(L921-L920=0,\"\",L921-L920)","v":1},{"$f":"IF(M921-M920=0,\"\",M921-M920)","v":87},{"$f":"IF(N921-N920=0,\"\",N921-N920)","v":2254},{"$f":"IF(M921=0,0,H921/M921)","v":0.75082536924413557},{"$f":"IF(M921=0,0,K921/M921)","v":0.18992180712423978},{"$f":"IF(M921=0,0,L921/M921)","v":5.9252823631624672E-2},{"$f":"L921*100/B$1537","v":12049.469964664311},5.9252823631624672E-2]
["2020-04-20T17:00:00",12,"Lazio",1388,185,1573,2792,4365,44,60,1101,349,5815,97823,23067,{"$f":"IF(Q922=\"x2\",M922,P921)","v":4266},{"$f":"IF(M922>P921*2,\"x2\",P921)","v":4266},{"$f":"IF(Q922=\"x2\",M922,\"\")","v":""},null,{"$f":"M922*100/M1603","v":3.2086653276535633},{"$f":"IF(J922-J921=0,\"\",J922-J921)","v":-27},{"$f":"IF(K922-K921=0,\"\",K922-K921)","v":8},{"$f":"IF(L922-L921=0,\"\",L922-L921)","v":8},{"$f":"IF(M922-M921=0,\"\",M922-M921)","v":60},{"$f":"IF(N922-N921=0,\"\",N922-N921)","v":6016},{"$f":"IF(M922=0,0,H922/M922)","v":0.75064488392089423},{"$f":"IF(M922=0,0,K922/M922)","v":0.18933791917454859},{"$f":"IF(M922=0,0,L922/M922)","v":6.0017196904557181E-2},{"$f":"L922*100/B$1537","v":12332.155477031802},6.0017196904557181E-2]
["2020-04-21T17:00:00",12,"Lazio",1380,184,1564,2838,4402,37,80,1130,363,5895,100031,24046,4266,{"$f":"IF(M923>P922*2,\"x2\",P922)","v":4266},{"$f":"IF(Q923=\"x2\",M923,\"\")","v":""},null,{"$f":"M923*100/M1604","v":3.2045532379849639},{"$f":"IF(J923-J922=0,\"\",J923-J922)","v":20},{"$f":"IF(K923-K922=0,\"\",K923-K922)","v":29},{"$f":"IF(L923-L922=0,\"\",L923-L922)","v":14},{"$f":"IF(M923-M922=0,\"\",M923-M922)","v":80},{"$f":"IF(N923-N922=0,\"\",N923-N922)","v":2208},{"$f":"IF(M923=0,0,H923/M923)","v":0.74673452078032232},{"$f":"IF(M923=0,0,K923/M923)","v":0.19168787107718405},{"$f":"IF(M923=0,0,L923/M923)","v":6.1577608142493641E-2},{"$f":"L923*100/B$1537","v":12826.855123674912},6.1577608142493641E-2]
["2020-04-22T17:00:00",12,"Lazio",1384,187,1571,2892,4463,61,80,1142,370,5975,104062,25244,4266,{"$f":"IF(M924>P923*2,\"x2\",P923)","v":4266},{"$f":"IF(Q924=\"x2\",M924,\"\")","v":""},null,{"$f":"M924*100/M1605","v":3.1896096131363874},{"$f":"IF(J924-J923=0,\"\",J924-J923)","v":""},{"$f":"IF(K924-K923=0,\"\",K924-K923)","v":12},{"$f":"IF(L924-L923=0,\"\",L924-L923)","v":7},{"$f":"IF(M924-M923=0,\"\",M924-M923)","v":80},{"$f":"IF(N924-N923=0,\"\",N924-N923)","v":4031},{"$f":"IF(M924=0,0,H924/M924)","v":0.74694560669456067},{"$f":"IF(M924=0,0,K924/M924)","v":0.1911297071129707},{"$f":"IF(M924=0,0,L924/M924)","v":6.1924686192468617E-2},{"$f":"L924*100/B$1537","v":13074.204946996466},6.1924686192468617E-2]
["2020-04-23T17:00:00",12,"Lazio",1385,186,1571,2915,4486,23,79,1193,375,6054,111073,26298,{"$f":"IF(Q925=\"x2\",M925,P924)","v":4266},{"$f":"IF(M925>P924*2,\"x2\",P924)","v":4266},{"$f":"IF(Q925=\"x2\",M925,\"\")","v":""},null,{"$f":"M925*100/M1606","v":3.1867686460707576},{"$f":"IF(J925-J924=0,\"\",J925-J924)","v":-1},{"$f":"IF(K925-K924=0,\"\",K925-K924)","v":51},{"$f":"IF(L925-L924=0,\"\",L925-L924)","v":5},{"$f":"IF(M925-M924=0,\"\",M925-M924)","v":79},{"$f":"IF(N925-N924=0,\"\",N925-N924)","v":7011},{"$f":"IF(M925=0,0,H925/M925)","v":0.74099768747935246},{"$f":"IF(M925=0,0,K925/M925)","v":0.19705979517674266},{"$f":"IF(M925=0,0,L925/M925)","v":6.1942517343904858E-2},{"$f":"L925*100/B$1537","v":13250.883392226147},{"$f":"IF(M925=0,0,L925/M925)","v":6.1942517343904858E-2}]
["2020-04-24T17:00:00",12,"Lazio",1396,184,1580,2912,4492,6,78,1256,384,6132,114317,86545,{"$f":"IF(Q926=\"x2\",M926,P925)","v":4266},{"$f":"IF(M926>P925*2,\"x2\",P925)","v":4266},{"$f":"IF(Q926=\"x2\",M926,\"\")","v":""},null,{"$f":"M926*100/M1607","v":3.1773008487310488},{"$f":"IF(J926-J925=0,\"\",J926-J925)","v":-1},{"$f":"IF(K926-K925=0,\"\",K926-K925)","v":63},{"$f":"IF(L926-L925=0,\"\",L926-L925)","v":9},{"$f":"IF(M926-M925=0,\"\",M926-M925)","v":78},{"$f":"IF(N926-N925=0,\"\",N926-N925)","v":3244},{"$f":"IF(M926=0,0,H926/M926)","v":0.7325505544683627},{"$f":"IF(M926=0,0,K926/M926)","v":0.20482713633398564},{"$f":"IF(M926=0,0,L926/M926)","v":6.262230919765166E-2},{"$f":"L926*100/B$1537","v":13568.904593639576},{"$f":"IF(M926=0,0,L926/M926)","v":6.262230919765166E-2}]
["2020-04-25T17:00:00",12,"Lazio",1421,183,1604,2957,4561,69,92,1276,387,6224,118354,90582,{"$f":"IF(Q927=\"x2\",M927,P926)","v":4266},{"$f":"IF(M927>P926*2,\"x2\",P926)","v":4266},{"$f":"IF(Q927=\"x2\",M927,\"\")","v":""},null,{"$f":"M927*100/M1608","v":3.1860599638599241},{"$f":"IF(J927-J926=0,\"\",J927-J926)","v":14},{"$f":"IF(K927-K926=0,\"\",K927-K926)","v":20},{"$f":"IF(L927-L926=0,\"\",L927-L926)","v":3},{"$f":"IF(M927-M926=0,\"\",M927-M926)","v":92},{"$f":"IF(N927-N926=0,\"\",N927-N926)","v":4037},{"$f":"IF(M927=0,0,H927/M927)","v":0.73280848329048842},{"$f":"IF(M927=0,0,K927/M927)","v":0.20501285347043702},{"$f":"IF(M927=0,0,L927/M927)","v":6.2178663239074547E-2},{"$f":"L927*100/B$1537","v":13674.911660777385},{"$f":"IF(M927=0,0,L927/M927)","v":6.2178663239074547E-2}]
["2020-04-26T17:00:00",12,"Lazio",1442,161,1603,2970,4573,12,85,1347,389,6309,121677,93811,{"$f":"IF(Q928=\"x2\",M928,P927)","v":4266},{"$f":"IF(M928>P927*2,\"x2\",P927)","v":4266},{"$f":"IF(Q928=\"x2\",M928,\"\")","v":""},null,{"$f":"M928*100/M1609","v":3.1916023776400659},{"$f":"IF(J928-J927=0,\"\",J928-J927)","v":-7},{"$f":"IF(K928-K927=0,\"\",K928-K927)","v":71},{"$f":"IF(L928-L927=0,\"\",L928-L927)","v":2},{"$f":"IF(M928-M927=0,\"\",M928-M927)","v":85},{"$f":"IF(N928-N927=0,\"\",N928-N927)","v":3323},{"$f":"IF(M928=0,0,H928/M928)","v":0.72483753368204151},{"$f":"IF(M928=0,0,K928/M928)","v":0.21350451735615786},{"$f":"IF(M928=0,0,L928/M928)","v":6.1657948961800602E-2},{"$f":"L928*100/B$1537","v":13745.583038869258},{"$f":"IF(M928=0,0,L928/M928)","v":6.1657948961800602E-2}]
["2020-04-27T17:00:00",12,"Lazio",1464,143,1607,2955,4562,-11,83,1433,397,6392,124769,95719,{"$f":"IF(Q929=\"x2\",M929,P928)","v":4266},{"$f":"IF(M929>P928*2,\"x2\",P928)","v":4266},{"$f":"IF(Q929=\"x2\",M929,\"\")","v":""},null,{"$f":"M929*100/M1610","v":3.2053917979680464},{"$f":"IF(J929-J928=0,\"\",J929-J928)","v":-2},{"$f":"IF(K929-K928=0,\"\",K929-K928)","v":86},{"$f":"IF(L929-L928=0,\"\",L929-L928)","v":8},{"$f":"IF(M929-M928=0,\"\",M929-M928)","v":83},{"$f":"IF(N929-N928=0,\"\",N929-N928)","v":3092},{"$f":"IF(M929=0,0,H929/M929)","v":0.71370463078848556},{"$f":"IF(M929=0,0,K929/M929)","v":0.22418648310387984},{"$f":"IF(M929=0,0,L929/M929)","v":6.2108886107634542E-2},{"$f":"L929*100/B$1537","v":14028.268551236748},{"$f":"IF(M929=0,0,L929/M929)","v":6.2108886107634542E-2}]
[{"$f":"A929 + 1","v":"2020-04-28T17:00:00"},null,null,null,null,null,null,null,null,null,null,null,null,null,null,null,"Media x2",{"$f":"COUNT(N866:N929) / COUNT(R866:R929)","v":7.1111111111111107}]
[{"$f":"A930+1","v":"2020-04-29T17:00:00"}]
[{"$f":"A931+1","v":"2020-04-30T17:00:00"}]
[null,null,null,null,{"$f":"E929/$M929","v":2.237171464330413E-2},null,null,{"$f":"H929/$M929","v":0.71370463078848556},null,null,{"$f":"K929/$M929","v":0.22418648310387984},{"$f":"L929/$M929","v":6.2108886107634542E-2},null,{"$f":"N929/$M929","v":19.519555694618273}]
[]
[]
[]
["Data","Codice","Regione","Ricoverati","Terap. Intens.","Ospedalizzati","Quarantena","Positivi","+ Positivi","Nuovi","Guariti","Deceduti","Totale","Tamponi",null,null,null,"x 2",null,"% su Tot.","+ Nuovi","+ Guariti","+ Deceduti","+ Totali","+ Tamponi","% Positivi","% Guariti","% Deceduti","P. Stimati","% Morti"]
["2020-02-24T18:00:00",13,"Abruzzo",0,0,0,0,0,0,0,0,0,0,5,null,{"$f":"M938","v":0},null,{"$f":"M938","v":0},null,{"$f":"M938*100/M1547","v":0},null,null,null,null,null,{"$f":"IF(M938=0,0,H938/M938)","v":0},{"$f":"IF(M938=0,0,K938/M938)","v":0},{"$f":"IF(M938=0,0,L938/M938)","v":0},{"$f":"L938*100/B$1537","v":0},{"$f":"IF(M938=0,0,L938/M938)","v":0}]
["2020-02-25T18:00:00",13,"Abruzzo",0,0,0,0,0,0,0,0,0,0,5,null,{"$f":"IF(Q939=\"x2\",M939,P938)","v":0},{"$f":"IF(M939>P938*2,\"x2\",P938)","v":0},{"$f":"IF(Q939=\"x2\",M939,\"\")","v":""},null,{"$f":"M939*100/M1548","v":0},{"$f":"IF(J939-J938=0,\"\",J939-J938)","v":""},{"$f":"IF(K939-K938=0,\"\",K939-K938)","v":""},{"$f":"IF(L939-L938=0,\"\",L939-L938)","v":""},{"$f":"IF(M939-M938=0,\"\",M939-M938)","v":""},{"$f":"IF(N939-N938=0,\"\",N939-N938)","v":""},0,0,0,{"$f":"L939*100/B$1537","v":0},0]
["2020-02-26T18:00:00",13,"Abruzzo",0,0,0,0,0,0,0,0,0,0,13,null,0,0,"",null,{"$f":"M940*100/M1549","v":0},"","","","",8,0,0,0,{"$f":"L940*100/B$1537","v":0},0]
["2020-02-27T18:00:00",13,"Abruzzo",1,0,1,0,1,1,1,0,0,1,33,null,1,"x2",1,null,{"$f":"M941*100/M1550","v":0.15384615384615385},1,"","",1,20,1,0,0,{"$f":"L941*100/B$1537","v":0},0]
["2020-02-28T18:00:00",13,"Abruzzo",1,0,1,0,1,0,0,0,0,1,33,null,1,1,"",null,{"$f":"M942*100/M1551","v":0.11261261261261261},-1,"","","","",1,0,0,{"$f":"L942*100/B$1537","v":0},0]
["2020-02-29T17:00:00",13,"Abruzzo",2,0,2,0,2,1,1,0,0,2,43,null,1,1,"",null,{"$f":"M943*100/M1552","v":0.1773049645390071},1,"","",1,10,1,0,0,{"$f":"L943*100/B$1537","v":0},0]
["2020-03-01T17:00:00",13,"Abruzzo",3,0,3,2,5,3,3,0,0,5,52,null,5,"x2",5,null,{"$f":"M944*100/M1553","v":0.29515938606847697},2,"","",3,9,1,0,0,{"$f":"L944*100/B$1537","v":0},0]
["2020-03-02T18:00:00",13,"Abruzzo",3,0,3,2,5,0,0,0,0,5,52,null,5,5,"",null,{"$f":"M945*100/M1554","v":0.24557956777996071},-3,"","","","",1,0,0,{"$f":"L945*100/B$1537","v":0},0]
["2020-03-03T18:00:00",13,"Abruzzo",5,0,5,1,6,1,1,0,0,6,52,null,5,5,"",null,{"$f":"M946*100/M1555","v":0.23980815347721823},1,"","",1,"",1,0,0,{"$f":"L946*100/B$1537","v":0},0]
["2020-03-04T17:00:00",13,"Abruzzo",7,0,7,0,7,1,1,0,0,7,85,null,5,5,"",null,{"$f":"M947*100/M1556","v":0.22661055357720944},"","","",1,33,1,0,0,{"$f":"L947*100/B$1537","v":0},0]
["2020-03-05T17:00:00",13,"Abruzzo",8,0,8,0,8,1,1,0,0,8,96,null,5,5,"",null,{"$f":"M948*100/M1557","v":0.20736132711249353},"","","",1,11,1,0,0,{"$f":"L948*100/B$1537","v":0},0]
["2020-03-06T17:00:00",13,"Abruzzo",9,0,9,0,9,1,1,0,0,9,96,null,5,5,"",null,{"$f":"M949*100/M1558","v":0.19413287316652286},"","","",1,"",1,0,0,{"$f":"L949*100/B$1537","v":0},0]
["2020-03-07T18:00:00",13,"Abruzzo",11,0,11,0,11,2,2,0,0,11,123,null,11,"x2",11,null,{"$f":"M950*100/M1559","v":0.18697943226245112},1,"","",2,27,1,0,0,{"$f":"L950*100/B$1537","v":0},0]
["2020-03-08T18:00:00",13,"Abruzzo",14,0,14,3,17,6,6,0,0,17,163,null,11,11,"",null,{"$f":"M951*100/M1560","v":0.23050847457627119},4,"","",6,40,1,0,0,{"$f":"L951*100/B$1537","v":0},0]
["2020-03-09T18:00:00",13,"Abruzzo",25,0,25,5,30,13,13,0,0,30,237,null,30,"x2",30,null,{"$f":"M952*100/M1561","v":0.32708242477104232},7,"","",13,74,1,0,0,{"$f":"L952*100/B$1537","v":0},0]
["2020-03-10T18:00:00",13,"Abruzzo",17,9,26,11,37,7,7,0,1,38,310,null,30,30,"",null,{"$f":"M953*100/M1562","v":0.37442112523401322},-6,"",1,8,73,0.97368421052631582,0,2.6315789473684209E-2,{"$f":"L953*100/B$1537","v":35.335689045936398},2.6315789473684209E-2]
["2020-03-11T17:00:00",13,"Abruzzo",17,9,26,11,37,0,0,0,1,38,310,null,30,30,"",null,{"$f":"M954*100/M1563","v":0.30492697801315999},-7,"","","","",0.97368421052631582,0,2.6315789473684209E-2,{"$f":"L954*100/B$1537","v":35.335689045936398},2.6315789473684209E-2]
["2020-03-12T17:00:00",13,"Abruzzo",47,12,59,19,78,41,41,4,2,84,867,null,84,"x2",84,null,{"$f":"M955*100/M1564","v":0.55581287633163501},41,4,1,46,557,0.9285714285714286,4.7619047619047616E-2,2.3809523809523808E-2,{"$f":"L955*100/B$1537","v":70.671378091872796},2.3809523809523808E-2]
["2020-03-13T17:00:00",13,"Abruzzo",42,14,56,27,83,5,5,4,2,89,958,null,84,84,"",null,{"$f":"M956*100/M1565","v":0.50396375990939979},-36,"","",5,91,0.93258426966292129,4.49438202247191E-2,2.247191011235955E-2,{"$f":"L956*100/B$1537","v":70.671378091872796},2.247191011235955E-2]
["2020-03-14T17:00:00",13,"Abruzzo",51,14,65,41,106,23,23,4,2,112,1232,null,84,84,"",null,{"$f":"M957*100/M1566","v":0.5293756203620551},18,"","",23,274,0.9464285714285714,3.5714285714285712E-2,1.7857142857142856E-2,{"$f":"L957*100/B$1537","v":70.671378091872796},1.7857142857142856E-2]
["2020-03-15T17:00:00",13,"Abruzzo",72,28,100,28,128,22,22,6,3,137,1419,null,84,84,"",null,{"$f":"M958*100/M1567","v":0.55360245686345821},-1,2,1,25,187,0.93430656934306566,4.3795620437956206E-2,2.1897810218978103E-2,{"$f":"L958*100/B$1537","v":106.00706713780919},2.1897810218978103E-2]
["2020-03-16T17:00:00",13,"Abruzzo",71,37,108,57,165,37,37,7,4,176,1533,null,176,"x2",176,null,{"$f":"M959*100/M1568","v":0.62902072909220874},15,1,1,39,114,0.9375,3.9772727272727272E-2,2.2727272727272728E-2,{"$f":"L959*100/B$1537","v":141.34275618374559},2.2727272727272728E-2]
["2020-03-17T17:00:00",13,"Abruzzo",94,32,126,90,216,51,51,7,6,229,1688,null,176,176,"",null,{"$f":"M960*100/M1569","v":0.72684568018790074},14,"",2,53,155,0.94323144104803491,3.0567685589519649E-2,2.6200873362445413E-2,{"$f":"L960*100/B$1537","v":212.01413427561837},2.6200873362445413E-2]
["2020-03-18T17:00:00",13,"Abruzzo",99,41,140,109,249,33,33,7,7,263,2054,null,176,176,"",null,{"$f":"M961*100/M1570","v":0.73642651135440873},-18,"",1,34,366,0.94676806083650189,2.6615969581749048E-2,2.6615969581749048E-2,{"$f":"L961*100/B$1537","v":247.34982332155477},2.6615969581749048E-2]
["2020-03-19T17:00:00",13,"Abruzzo",181,47,228,138,366,117,117,8,11,385,2409,null,385,"x2",385,null,{"$f":"M962*100/M1571","v":0.93822346777141463},84,1,4,122,355,0.95064935064935063,2.0779220779220779E-2,2.8571428571428571E-2,{"$f":"L962*100/B$1537","v":388.69257950530033},2.8571428571428571E-2]
["2020-03-20T17:00:00",13,"Abruzzo",190,48,238,184,422,56,56,10,17,449,2695,null,385,385,"",null,{"$f":"M963*100/M1572","v":0.95489249484272987},-61,2,6,64,286,0.93986636971046766,2.2271714922048998E-2,3.7861915367483297E-2,{"$f":"L963*100/B$1537","v":600.70671378091868},3.7861915367483297E-2]
["2020-03-21T17:00:00",13,"Abruzzo",185,44,229,265,494,72,72,13,22,529,3035,null,385,385,"",null,{"$f":"M964*100/M1573","v":0.9873455522789204},16,3,5,80,340,0.93383742911153123,2.4574669187145556E-2,4.1587901701323253E-2,{"$f":"L964*100/B$1537","v":777.38515901060066},4.1587901701323253E-2]
["2020-03-22T17:00:00",13,"Abruzzo",218,49,267,272,539,45,45,15,33,587,3375,null,385,385,"",null,{"$f":"M965*100/M1574","v":0.99259359464303831},-27,2,11,58,340,0.91822827938671214,2.5553662691652469E-2,5.6218057921635436E-2,{"$f":"L965*100/B$1537","v":1166.077738515901},5.6218057921635436E-2]
["2020-03-23T17:00:00",13,"Abruzzo",228,52,280,325,605,66,66,20,38,663,3674,null,385,385,"",null,{"$f":"M966*100/M1575","v":1.0371204655309962},21,5,5,76,299,0.91251885369532426,3.0165912518853696E-2,5.7315233785822019E-2,{"$f":"L966*100/B$1537","v":1342.756183745583},5.7315233785822019E-2]
["2020-03-24T17:00:00",13,"Abruzzo",234,57,291,331,622,17,17,21,46,689,4294,null,385,385,"",null,{"$f":"M967*100/M1576","v":0.99601017693997917},-49,1,8,26,620,0.90275761973875179,3.0478955007256895E-2,6.6763425253991288E-2,{"$f":"L967*100/B$1537","v":1625.4416961130742},6.6763425253991288E-2]
["2020-03-25T17:00:00",13,"Abruzzo",248,59,307,431,738,116,116,23,52,813,4982,null,813,"x2",813,null,{"$f":"M968*100/M1577","v":1.0929475976662275},99,2,6,124,688,0.90774907749077494,2.8290282902829027E-2,6.3960639606396058E-2,{"$f":"L968*100/B$1537","v":1837.4558303886924},6.3960639606396058E-2]
["2020-03-26T17:00:00",13,"Abruzzo",280,64,344,516,860,122,122,23,63,946,5488,null,813,813,"",null,{"$f":"M969*100/M1578","v":1.1745862253069941},6,"",11,133,506,0.90909090909090906,2.4312896405919663E-2,6.6596194503171252E-2,{"$f":"L969*100/B$1537","v":2226.1484098939927},6.6596194503171252E-2]
["2020-03-27T17:00:00",13,"Abruzzo",289,71,360,565,925,65,71,24,68,1017,6109,null,813,813,"",null,{"$f":"M970*100/M1579","v":1.1757497283174176},-51,1,5,71,621,{"$f":"IF(M970=0,0,H970/M970)","v":0.90953785644051133},{"$f":"IF(M970=0,0,K970/M970)","v":2.359882005899705E-2},{"$f":"IF(M970=0,0,L970/M970)","v":6.6863323500491637E-2},{"$f":"L970*100/B$1537","v":2402.8268551236747},6.6863323500491637E-2]
["2020-03-28T17:00:00",13,"Abruzzo",311,70,381,646,1027,102,116,30,76,1133,7003,null,{"$f":"IF(Q971=\"x2\",M971,P970)","v":813},{"$f":"IF(M971>P970*2,\"x2\",P970)","v":813},{"$f":"IF(Q971=\"x2\",M971,\"\")","v":""},null,{"$f":"M971*100/M1580","v":1.2252357470369408},{"$f":"IF(J971-J970=0,\"\",J971-J970)","v":45},{"$f":"IF(K971-K970=0,\"\",K971-K970)","v":6},{"$f":"IF(L971-L970=0,\"\",L971-L970)","v":8},{"$f":"IF(M971-M970=0,\"\",M971-M970)","v":116},{"$f":"IF(N971-N970=0,\"\",N971-N970)","v":894},0.90644307149161518,2.6478375992939101E-2,6.7078552515445714E-2,{"$f":"L971*100/B$1537","v":2685.5123674911661},6.7078552515445714E-2]
["2020-03-29T17:00:00",13,"Abruzzo",329,68,397,772,1169,142,160,36,88,1293,7730,null,813,813,"",null,{"$f":"M972*100/M1581","v":1.323588121487578},44,6,12,160,727,0.90409899458623355,2.7842227378190254E-2,6.8058778035576181E-2,{"$f":"L972*100/B$1537","v":3109.5406360424026},6.8058778035576181E-2]
["2020-03-30T17:00:00",13,"Abruzzo",322,69,391,778,1169,0,52,74,102,1345,7948,null,813,813,"",null,{"$f":"M973*100/M1582","v":1.3220102418934725},-108,38,14,52,218,0.86914498141263941,5.5018587360594798E-2,7.5836431226765796E-2,{"$f":"L973*100/B$1537","v":3604.2402826855123},7.5836431226765796E-2]
["2020-03-31T17:00:00",13,"Abruzzo",335,73,408,783,1191,22,56,95,115,1401,8758,null,813,813,"",null,{"$f":"M974*100/M1583","v":1.3242967332123412},4,21,13,56,810,0.8501070663811563,6.7808708065667384E-2,8.2084225553176307E-2,{"$f":"L974*100/B$1537","v":4063.6042402826856},8.2084225553176307E-2]
["2020-04-01T17:00:00",13,"Abruzzo",342,71,413,798,1211,20,35,102,123,1436,9610,null,813,813,"",null,{"$f":"M975*100/M1584","v":1.2986778085264168},-21,7,8,35,852,0.84331476323119781,7.1030640668523673E-2,8.5654596100278549E-2,{"$f":"L975*100/B$1537","v":4346.2897526501765},8.5654596100278549E-2]
["2020-04-02T17:00:00",13,"Abruzzo",341,75,416,835,1251,40,61,113,133,1497,10647,null,813,813,"",null,{"$f":"M976*100/M1585","v":1.2990055708856145},26,11,10,61,1037,0.83567134268537069,7.5484301937207746E-2,8.8844355377421511E-2,{"$f":"L976*100/B$1537","v":4699.6466431095405},8.8844355377421511E-2]
["2020-04-03T17:00:00",13,"Abruzzo",361,76,437,864,1301,50,66,116,146,1563,11890,null,813,813,"",null,{"$f":"M977*100/M1586","v":1.30438048186135},5,3,13,66,1243,0.83237364043506079,7.4216250799744088E-2,9.3410108765195135E-2,{"$f":"L977*100/B$1537","v":5159.0106007067134},9.3410108765195135E-2]
["2020-04-04T17:00:00",13,"Abruzzo",354,71,425,931,1356,55,65,119,153,1628,12837,null,1628,"x2",1628,null,{"$f":"M978*100/M1587","v":1.306245587008152},-1,3,7,65,947,0.83292383292383287,7.309582309582309E-2,9.3980343980343981E-2,{"$f":"L978*100/B$1537","v":5406.3604240282684},9.3980343980343981E-2]
["2020-04-05T17:00:00",13,"Abruzzo",347,67,414,1006,1420,64,75,125,158,1703,13598,null,1628,1628,"",null,{"$f":"M979*100/M1588","v":1.3206874088779974},10,6,5,75,761,0.83382266588373455,7.339988256018791E-2,9.2777451556077514E-2,{"$f":"L979*100/B$1537","v":5583.03886925795},9.2777451556077514E-2]
["2020-04-06T17:00:00",13,"Abruzzo",340,66,406,1019,1425,5,18,127,169,1721,14198,null,1628,1628,"",null,{"$f":"M980*100/M1589","v":1.2984073573902088},-57,2,11,18,600,0.82800697269029633,7.3794305636257995E-2,9.8198721673445677E-2,{"$f":"L980*100/B$1537","v":5971.7314487632511},9.8198721673445677E-2]
["2020-04-07T17:00:00",13,"Abruzzo",337,67,404,1087,1491,66,78,136,172,1799,14904,null,1628,1628,"",null,{"$f":"M981*100/M1590","v":1.3268331538654434},60,9,3,78,706,0.8287937743190662,7.5597554196775982E-2,9.5608671484157859E-2,{"$f":"L981*100/B$1537","v":6077.7385159010601},9.5608671484157859E-2]
["2020-04-08T17:00:00",13,"Abruzzo",331,62,393,1141,1534,43,60,146,179,1859,15846,null,1628,1628,"",null,{"$f":"M982*100/M1591","v":1.3333620232101102},-18,10,7,60,942,0.82517482517482521,7.8536847767617005E-2,9.6288327057557827E-2,{"$f":"L982*100/B$1537","v":6325.0883392226151},9.6288327057557827E-2]
["2020-04-09T17:00:00",13,"Abruzzo",306,57,363,1203,1566,32,72,171,194,1931,16847,null,1628,1628,"",null,{"$f":"M983*100/M1592","v":1.3444640942447745},12,25,15,72,1001,0.81097876747799069,8.8555152770585191E-2,0.10046607975142413,{"$f":"L983*100/B$1537","v":6855.1236749116606},0.10046607975142413]
["2020-04-10T17:00:00",13,"Abruzzo",305,53,358,1277,1635,69,83,181,198,2014,18088,null,1628,1628,"",null,{"$f":"M984*100/M1593","v":1.3647113032518616},11,10,4,83,1241,0.81181727904667333,8.9870903674280037E-2,9.831181727904667E-2,{"$f":"L984*100/B$1537","v":6996.4664310954058},9.831181727904667E-2]
["2020-04-11T17:00:00",13,"Abruzzo",315,54,369,1355,1724,89,106,190,206,2120,19441,null,1628,1628,"",null,{"$f":"M985*100/M1594","v":1.3922545987088808},23,9,8,106,1353,0.81320754716981136,8.9622641509433956E-2,9.7169811320754723E-2,{"$f":"L985*100/B$1537","v":7279.1519434628972},9.7169811320754723E-2]
["2020-04-12T17:00:00",13,"Abruzzo",346,54,400,1342,1742,18,40,206,212,2160,20594,null,1628,1628,"",null,{"$f":"M986*100/M1595","v":1.3814009708179045},-66,16,6,40,1153,0.80648148148148147,9.5370370370370369E-2,9.8148148148148151E-2,{"$f":"L986*100/B$1537","v":7491.1660777385159},9.8148148148148151E-2]
["2020-04-13T17:00:00",13,"Abruzzo",351,54,405,1373,1778,36,53,211,224,2213,20667,null,1628,1628,"",null,{"$f":"M987*100/M1596","v":1.3873216479851551},13,5,12,53,73,0.80343425214640762,9.5345684591052873E-2,0.10122006326253954,{"$f":"L987*100/B$1537","v":7915.1943462897525},0.10122006326253954]
["2020-04-14T17:00:00",13,"Abruzzo",345,52,397,1403,1800,22,32,213,232,2245,20935,null,1628,1628,"",null,{"$f":"M988*100/M1597","v":1.3816404903746737},-21,2,8,32,268,0.80178173719376389,9.4877505567928733E-2,0.10334075723830735,{"$f":"L988*100/B$1537","v":8197.8798586572429},0.10334075723830735]
["2020-04-15T17:00:00",13,"Abruzzo",341,44,385,1425,1810,10,29,224,240,2274,22500,null,1628,1628,"",null,{"$f":"M989*100/M1598","v":1.3768883775846932},-3,11,8,29,1565,0.79595426561125771,9.8504837291116976E-2,0.10554089709762533,{"$f":"L989*100/B$1537","v":8480.5653710247352},0.10554089709762533]
["2020-04-16T17:00:00",13,"Abruzzo",324,42,366,1484,1850,40,72,253,243,2346,23786,null,1628,1628,"",null,{"$f":"M990*100/M1599","v":1.3886504756098283},43,29,3,72,1286,0.78857630008525148,0.10784313725490197,0.10358056265984655,{"$f":"L990*100/B$1537","v":8586.5724381625441},0.10358056265984655]
["2020-04-17T17:00:00",13,"Abruzzo",319,43,362,1580,1942,92,97,255,246,2443,25436,null,{"$f":"IF(Q991=\"x2\",M991,P990)","v":1628},{"$f":"IF(M991>P990*2,\"x2\",P990)","v":1628},{"$f":"IF(Q991=\"x2\",M991,\"\")","v":""},null,{"$f":"M991*100/M1600","v":1.4167739540925803},{"$f":"IF(J991-J990=0,\"\",J991-J990)","v":25},{"$f":"IF(K991-K990=0,\"\",K991-K990)","v":2},{"$f":"IF(L991-L990=0,\"\",L991-L990)","v":3},{"$f":"IF(M991-M990=0,\"\",M991-M990)","v":97},{"$f":"IF(N991-N990=0,\"\",N991-N990)","v":1650},{"$f":"IF(M991=0,0,H991/M991)","v":0.79492427343430205},{"$f":"IF(M991=0,0,K991/M991)","v":0.10437986082685223},{"$f":"IF(M991=0,0,L991/M991)","v":0.10069586573884567},{"$f":"L991*100/B$1537","v":8692.579505300353},0.10069586573884567]
["2020-04-18T17:00:00",13,"Abruzzo",321,41,362,1609,1971,29,44,263,253,2487,27016,null,{"$f":"IF(Q992=\"x2\",M992,P991)","v":1628},{"$f":"IF(M992>P991*2,\"x2\",P991)","v":1628},{"$f":"IF(Q992=\"x2\",M992,\"\")","v":""},null,{"$f":"M992*100/M1601","v":1.4136705982663067},{"$f":"IF(J992-J991=0,\"\",J992-J991)","v":-53},{"$f":"IF(K992-K991=0,\"\",K992-K991)","v":8},{"$f":"IF(L992-L991=0,\"\",L992-L991)","v":7},{"$f":"IF(M992-M991=0,\"\",M992-M991)","v":44},{"$f":"IF(N992-N991=0,\"\",N992-N991)","v":1580},{"$f":"IF(M992=0,0,H992/M992)","v":0.79252110977080825},{"$f":"IF(M992=0,0,K992/M992)","v":0.10574989947728186},{"$f":"IF(M992=0,0,L992/M992)","v":0.10172899075190993},{"$f":"L992*100/B$1537","v":8939.9293286219072},0.10172899075190993]
["2020-04-19T17:00:00",13,"Abruzzo",317,40,357,1630,1987,16,34,276,258,2521,27791,22424,{"$f":"IF(Q993=\"x2\",M993,P992)","v":1628},{"$f":"IF(M993>P992*2,\"x2\",P992)","v":1628},{"$f":"IF(Q993=\"x2\",M993,\"\")","v":""},null,{"$f":"M993*100/M1602","v":1.4086002279686207},{"$f":"IF(J993-J992=0,\"\",J993-J992)","v":-10},{"$f":"IF(K993-K992=0,\"\",K993-K992)","v":13},{"$f":"IF(L993-L992=0,\"\",L993-L992)","v":5},{"$f":"IF(M993-M992=0,\"\",M993-M992)","v":34},{"$f":"IF(N993-N992=0,\"\",N993-N992)","v":775},{"$f":"IF(M993=0,0,H993/M993)","v":0.78817929393097974},{"$f":"IF(M993=0,0,K993/M993)","v":0.10948036493454978},{"$f":"IF(M993=0,0,L993/M993)","v":0.10234034113447045},{"$f":"L993*100/B$1537","v":9116.6077738515905},0.10234034113447045]
["2020-04-20T17:00:00",13,"Abruzzo",320,38,358,1704,2062,75,91,287,263,2612,27942,22552,{"$f":"IF(Q994=\"x2\",M994,P993)","v":1628},{"$f":"IF(M994>P993*2,\"x2\",P993)","v":1628},{"$f":"IF(Q994=\"x2\",M994,\"\")","v":""},null,{"$f":"M994*100/M1603","v":1.441278389652813},{"$f":"IF(J994-J993=0,\"\",J994-J993)","v":57},{"$f":"IF(K994-K993=0,\"\",K994-K993)","v":11},{"$f":"IF(L994-L993=0,\"\",L994-L993)","v":5},{"$f":"IF(M994-M993=0,\"\",M994-M993)","v":91},{"$f":"IF(N994-N993=0,\"\",N994-N993)","v":151},{"$f":"IF(M994=0,0,H994/M994)","v":0.78943338437978561},{"$f":"IF(M994=0,0,K994/M994)","v":0.10987748851454823},{"$f":"IF(M994=0,0,L994/M994)","v":0.10068912710566616},{"$f":"L994*100/B$1537","v":9293.2862190812721},0.10068912710566616]
["2020-04-21T17:00:00",13,"Abruzzo",318,35,353,1714,2067,5,55,329,271,2667,29906,23901,1628,{"$f":"IF(M995>P994*2,\"x2\",P994)","v":1628},{"$f":"IF(Q995=\"x2\",M995,\"\")","v":""},null,{"$f":"M995*100/M1604","v":1.4497953326049022},{"$f":"IF(J995-J994=0,\"\",J995-J994)","v":-36},{"$f":"IF(K995-K994=0,\"\",K995-K994)","v":42},{"$f":"IF(L995-L994=0,\"\",L995-L994)","v":8},{"$f":"IF(M995-M994=0,\"\",M995-M994)","v":55},{"$f":"IF(N995-N994=0,\"\",N995-N994)","v":1964},{"$f":"IF(M995=0,0,H995/M995)","v":0.77502812148481437},{"$f":"IF(M995=0,0,K995/M995)","v":0.12335958005249344},{"$f":"IF(M995=0,0,L995/M995)","v":0.10161229846269217},{"$f":"L995*100/B$1537","v":9575.9717314487625},0.10161229846269217]
["2020-04-22T17:00:00",13,"Abruzzo",309,35,344,1764,2108,41,66,349,276,2733,30348,24317,1628,{"$f":"IF(M996>P995*2,\"x2\",P995)","v":1628},{"$f":"IF(Q996=\"x2\",M996,\"\")","v":""},null,{"$f":"M996*100/M1605","v":1.4589461209542671},{"$f":"IF(J996-J995=0,\"\",J996-J995)","v":11},{"$f":"IF(K996-K995=0,\"\",K996-K995)","v":20},{"$f":"IF(L996-L995=0,\"\",L996-L995)","v":5},{"$f":"IF(M996-M995=0,\"\",M996-M995)","v":66},{"$f":"IF(N996-N995=0,\"\",N996-N995)","v":442},{"$f":"IF(M996=0,0,H996/M996)","v":0.77131357482619833},{"$f":"IF(M996=0,0,K996/M996)","v":0.12769849981705086},{"$f":"IF(M996=0,0,L996/M996)","v":0.10098792535675083},{"$f":"L996*100/B$1537","v":9752.6501766784459},0.10098792535675083]
["2020-04-23T17:00:00",13,"Abruzzo",322,31,353,1747,2100,-8,52,405,280,2785,31187,24751,{"$f":"IF(Q997=\"x2\",M997,P996)","v":1628},{"$f":"IF(M997>P996*2,\"x2\",P996)","v":1628},{"$f":"IF(Q997=\"x2\",M997,\"\")","v":""},null,{"$f":"M997*100/M1606","v":1.4659977996873239},{"$f":"IF(J997-J996=0,\"\",J997-J996)","v":-14},{"$f":"IF(K997-K996=0,\"\",K997-K996)","v":56},{"$f":"IF(L997-L996=0,\"\",L997-L996)","v":4},{"$f":"IF(M997-M996=0,\"\",M997-M996)","v":52},{"$f":"IF(N997-N996=0,\"\",N997-N996)","v":839},{"$f":"IF(M997=0,0,H997/M997)","v":0.75403949730700182},{"$f":"IF(M997=0,0,K997/M997)","v":0.14542190305206462},{"$f":"IF(M997=0,0,L997/M997)","v":0.10053859964093358},{"$f":"L997*100/B$1537","v":9893.9929328621911},{"$f":"IF(M997=0,0,L997/M997)","v":0.10053859964093358}]
["2020-04-24T17:00:00",13,"Abruzzo",327,28,355,1724,2079,-21,18,438,286,2803,32397,25397,{"$f":"IF(Q998=\"x2\",M998,P997)","v":1628},{"$f":"IF(M998>P997*2,\"x2\",P997)","v":1628},{"$f":"IF(Q998=\"x2\",M998,\"\")","v":""},null,{"$f":"M998*100/M1607","v":1.4523767578266682},{"$f":"IF(J998-J997=0,\"\",J998-J997)","v":-34},{"$f":"IF(K998-K997=0,\"\",K998-K997)","v":33},{"$f":"IF(L998-L997=0,\"\",L998-L997)","v":6},{"$f":"IF(M998-M997=0,\"\",M998-M997)","v":18},{"$f":"IF(N998-N997=0,\"\",N998-N997)","v":1210},{"$f":"IF(M998=0,0,H998/M998)","v":0.74170531573314302},{"$f":"IF(M998=0,0,K998/M998)","v":0.15626114876917588},{"$f":"IF(M998=0,0,L998/M998)","v":0.10203353549768106},{"$f":"L998*100/B$1537","v":10106.007067137809},{"$f":"IF(M998=0,0,L998/M998)","v":0.10203353549768106}]
["2020-04-25T17:00:00",13,"Abruzzo",323,26,349,1712,2061,-18,29,478,293,2832,33624,25959,{"$f":"IF(Q999=\"x2\",M999,P998)","v":1628},{"$f":"IF(M999>P998*2,\"x2\",P998)","v":1628},{"$f":"IF(Q999=\"x2\",M999,\"\")","v":""},null,{"$f":"M999*100/M1608","v":1.4496982354838215},{"$f":"IF(J999-J998=0,\"\",J999-J998)","v":11},{"$f":"IF(K999-K998=0,\"\",K999-K998)","v":40},{"$f":"IF(L999-L998=0,\"\",L999-L998)","v":7},{"$f":"IF(M999-M998=0,\"\",M999-M998)","v":29},{"$f":"IF(N999-N998=0,\"\",N999-N998)","v":1227},{"$f":"IF(M999=0,0,H999/M999)","v":0.7277542372881356},{"$f":"IF(M999=0,0,K999/M999)","v":0.16878531073446329},{"$f":"IF(M999=0,0,L999/M999)","v":0.10346045197740113},{"$f":"L999*100/B$1537","v":10353.356890459363},{"$f":"IF(M999=0,0,L999/M999)","v":0.10346045197740113}]
["2020-04-26T17:00:00",13,"Abruzzo",324,24,348,1720,2068,7,27,496,295,2859,33820,26184,{"$f":"IF(Q1000=\"x2\",M1000,P999)","v":1628},{"$f":"IF(M1000>P999*2,\"x2\",P999)","v":1628},{"$f":"IF(Q1000=\"x2\",M1000,\"\")","v":""},null,{"$f":"M1000*100/M1609","v":1.4463133931959025},{"$f":"IF(J1000-J999=0,\"\",J1000-J999)","v":-2},{"$f":"IF(K1000-K999=0,\"\",K1000-K999)","v":18},{"$f":"IF(L1000-L999=0,\"\",L1000-L999)","v":2},{"$f":"IF(M1000-M999=0,\"\",M1000-M999)","v":27},{"$f":"IF(N1000-N999=0,\"\",N1000-N999)","v":196},{"$f":"IF(M1000=0,0,H1000/M1000)","v":0.7233298356068556},{"$f":"IF(M1000=0,0,K1000/M1000)","v":0.17348723329835608},{"$f":"IF(M1000=0,0,L1000/M1000)","v":0.10318293109478839},{"$f":"L1000*100/B$1537","v":10424.028268551236},{"$f":"IF(M1000=0,0,L1000/M1000)","v":0.10318293109478839}]
["2020-04-27T17:00:00",13,"Abruzzo",328,23,351,1679,2030,-38,15,545,299,2874,34176,26443,{"$f":"IF(Q1001=\"x2\",M1001,P1000)","v":1628},{"$f":"IF(M1001>P1000*2,\"x2\",P1000)","v":1628},{"$f":"IF(Q1001=\"x2\",M1001,\"\")","v":""},null,{"$f":"M1001*100/M1610","v":1.4412227827534676},{"$f":"IF(J1001-J1000=0,\"\",J1001-J1000)","v":-12},{"$f":"IF(K1001-K1000=0,\"\",K1001-K1000)","v":49},{"$f":"IF(L1001-L1000=0,\"\",L1001-L1000)","v":4},{"$f":"IF(M1001-M1000=0,\"\",M1001-M1000)","v":15},{"$f":"IF(N1001-N1000=0,\"\",N1001-N1000)","v":356},{"$f":"IF(M1001=0,0,H1001/M1001)","v":0.70633263743910923},{"$f":"IF(M1001=0,0,K1001/M1001)","v":0.18963117606123869},{"$f":"IF(M1001=0,0,L1001/M1001)","v":0.10403618649965206},{"$f":"L1001*100/B$1537","v":10565.371024734983},{"$f":"IF(M1001=0,0,L1001/M1001)","v":0.10403618649965206}]
[{"$f":"A1001 + 1","v":"2020-04-28T17:00:00"},null,null,null,null,null,null,null,null,null,null,null,null,null,null,null,"Media x2",{"$f":"COUNT(N938:N1001) / COUNT(R938:R1001)","v":6.4}]
[{"$f":"A1002+1","v":"2020-04-29T17:00:00"}]
[{"$f":"A1003+1","v":"2020-04-30T17:00:00"}]
[null,null,null,null,{"$f":"E1001/$M1001","v":8.0027835768963114E-3},null,null,{"$f":"H1001/$M1001","v":0.70633263743910923},null,null,{"$f":"K1001/$M1001","v":0.18963117606123869},{"$f":"L1001/$M1001","v":0.10403618649965206},null,{"$f":"N1001/$M1001","v":11.891440501043842}]
[]
[]
[]
["Data","Codice","Regione","Ricoverati","Terap. Intens.","Ospedalizzati","Quarantena","Positivi","+ Positivi","Nuovi","Guariti","Deceduti","Totale","Tamponi",null,null,null,"x 2",null,"% su Tot.","+ Nuovi","+ Guariti","+ Deceduti","+ Totali","+ Tamponi","% Positivi","% Guariti","% Deceduti","P. Stimati","% Morti"]
["2020-02-24T18:00:00",14,"Molise",0,0,0,0,0,0,0,0,0,0,0,null,{"$f":"M1010","v":0},null,{"$f":"M1010","v":0},null,{"$f":"M1010*100/M1547","v":0},null,null,null,null,null,{"$f":"IF(M1010=0,0,H1010/M1010)","v":0},{"$f":"IF(M1010=0,0,K1010/M1010)","v":0},{"$f":"IF(M1010=0,0,L1010/M1010)","v":0},{"$f":"L1010*100/B$1537","v":0},{"$f":"IF(M1010=0,0,L1010/M1010)","v":0}]
["2020-02-25T18:00:00",14,"Molise",0,0,0,0,0,0,0,0,0,0,0,null,{"$f":"IF(Q1011=\"x2\",M1011,P1010)","v":0},{"$f":"IF(M1011>P1010*2,\"x2\",P1010)","v":0},{"$f":"IF(Q1011=\"x2\",M1011,\"\")","v":""},null,{"$f":"M1011*100/M1548","v":0},{"$f":"IF(J1011-J1010=0,\"\",J1011-J1010)","v":""},{"$f":"IF(K1011-K1010=0,\"\",K1011-K1010)","v":""},{"$f":"IF(L1011-L1010=0,\"\",L1011-L1010)","v":""},{"$f":"IF(M1011-M1010=0,\"\",M1011-M1010)","v":""},{"$f":"IF(N1011-N1010=0,\"\",N1011-N1010)","v":""},0,0,0,{"$f":"L1011*100/B$1537","v":0},0]
["2020-02-26T18:00:00",14,"Molise",0,0,0,0,0,0,0,0,0,0,0,null,0,0,"",null,{"$f":"M1012*100/M1549","v":0},"","","","","",0,0,0,{"$f":"L1012*100/B$1537","v":0},0]
["2020-02-27T18:00:00",14,"Molise",0,0,0,0,0,0,0,0,0,0,0,null,0,0,"",null,{"$f":"M1013*100/M1550","v":0},"","","","","",0,0,0,{"$f":"L1013*100/B$1537","v":0},0]
["2020-02-28T18:00:00",14,"Molise",0,0,0,0,0,0,0,0,0,0,0,null,0,0,"",null,{"$f":"M1014*100/M1551","v":0},"","","","","",0,0,0,{"$f":"L1014*100/B$1537","v":0},0]
["2020-02-29T17:00:00",14,"Molise",0,0,0,0,0,0,0,0,0,0,0,null,0,0,"",null,{"$f":"M1015*100/M1552","v":0},"","","","","",0,0,0,{"$f":"L1015*100/B$1537","v":0},0]
["2020-03-01T17:00:00",14,"Molise",0,0,0,0,0,0,0,0,0,0,6,null,0,0,"",null,{"$f":"M1016*100/M1553","v":0},"","","","",6,0,0,0,{"$f":"L1016*100/B$1537","v":0},0]
["2020-03-02T18:00:00",14,"Molise",0,0,0,0,0,0,0,0,0,0,13,null,0,0,"",null,{"$f":"M1017*100/M1554","v":0},"","","","",7,0,0,0,{"$f":"L1017*100/B$1537","v":0},0]
["2020-03-03T18:00:00",14,"Molise",3,0,3,0,3,3,3,0,0,3,13,null,3,"x2",3,null,{"$f":"M1018*100/M1555","v":0.11990407673860912},3,"","",3,"",1,0,0,{"$f":"L1018*100/B$1537","v":0},0]
["2020-03-04T17:00:00",14,"Molise",3,0,3,0,3,0,0,0,0,3,19,null,3,3,"",null,{"$f":"M1019*100/M1556","v":9.711880867594691E-2},-3,"","","",6,1,0,0,{"$f":"L1019*100/B$1537","v":0},0]
["2020-03-05T17:00:00",14,"Molise",4,0,4,3,7,4,4,0,0,7,24,null,7,"x2",7,null,{"$f":"M1020*100/M1557","v":0.18144116122343182},4,"","",4,5,1,0,0,{"$f":"L1020*100/B$1537","v":0},0]
["2020-03-06T17:00:00",14,"Molise",3,2,5,7,12,5,5,0,0,12,104,null,7,7,"",null,{"$f":"M1021*100/M1558","v":0.25884383088869717},1,"","",5,80,1,0,0,{"$f":"L1021*100/B$1537","v":0},0]
["2020-03-07T18:00:00",14,"Molise",3,2,5,9,14,2,2,0,0,14,112,null,7,7,"",null,{"$f":"M1022*100/M1559","v":0.23797382287948327},-3,"","",2,8,1,0,0,{"$f":"L1022*100/B$1537","v":0},0]
["2020-03-08T18:00:00",14,"Molise",4,2,6,8,14,0,0,0,0,14,116,null,7,7,"",null,{"$f":"M1023*100/M1560","v":0.18983050847457628},-2,"","","",4,1,0,0,{"$f":"L1023*100/B$1537","v":0},0]
["2020-03-09T18:00:00",14,"Molise",4,2,6,8,14,0,0,0,0,14,212,null,7,7,"",null,{"$f":"M1024*100/M1561","v":0.15263846489315308},"","","","",96,1,0,0,{"$f":"L1024*100/B$1537","v":0},0]
["2020-03-10T18:00:00",14,"Molise",3,3,6,9,15,1,1,0,0,15,225,null,15,"x2",15,null,{"$f":"M1025*100/M1562","v":0.14779781259237362},1,"","",1,13,1,0,0,{"$f":"L1025*100/B$1537","v":0},0]
["2020-03-11T17:00:00",14,"Molise",4,3,7,9,16,1,1,0,0,16,233,null,15,15,"",null,{"$f":"M1026*100/M1563","v":0.12839030653185685},"","","",1,8,1,0,0,{"$f":"L1026*100/B$1537","v":0},0]
["2020-03-12T17:00:00",14,"Molise",4,3,7,9,16,0,0,0,0,16,238,null,15,15,"",null,{"$f":"M1027*100/M1564","v":0.10586911930126382},-1,"","","",5,1,0,0,{"$f":"L1027*100/B$1537","v":0},0]
["2020-03-13T17:00:00",14,"Molise",5,3,8,9,17,1,1,0,0,17,243,null,15,15,"",null,{"$f":"M1028*100/M1565","v":9.6262740656851642E-2},1,"","",1,5,1,0,0,{"$f":"L1028*100/B$1537","v":0},0]
["2020-03-14T17:00:00",14,"Molise",5,3,8,9,17,0,0,0,0,17,247,null,15,15,"",null,{"$f":"M1029*100/M1566","v":8.0351656662097648E-2},-1,"","","",4,1,0,0,{"$f":"L1029*100/B$1537","v":0},0]
["2020-03-15T17:00:00",14,"Molise",3,4,7,10,17,0,0,0,0,17,248,null,15,15,"",null,{"$f":"M1030*100/M1567","v":6.8695195377217438E-2},"","","","",1,1,0,0,{"$f":"L1030*100/B$1537","v":0},0]
["2020-03-16T17:00:00",14,"Molise",3,5,8,7,15,-2,-2,5,1,21,253,null,15,15,"",null,{"$f":"M1031*100/M1568","v":7.5053609721229445E-2},-2,5,1,4,5,0.7142857142857143,0.23809523809523808,4.7619047619047616E-2,{"$f":"L1031*100/B$1537","v":35.335689045936398},4.7619047619047616E-2]
["2020-03-17T17:00:00",14,"Molise",7,5,12,7,19,4,4,5,1,25,301,null,15,15,"",null,{"$f":"M1032*100/M1569","v":7.9349965086015356E-2},6,"","",4,48,0.76,0.2,0.04,{"$f":"L1032*100/B$1537","v":35.335689045936398},0.04]
["2020-03-18T17:00:00",14,"Molise",7,6,13,8,21,2,2,6,1,28,361,null,15,15,"",null,{"$f":"M1033*100/M1570","v":7.8402822501610056E-2},-2,1,"",3,60,0.75,0.21428571428571427,3.5714285714285712E-2,{"$f":"L1033*100/B$1537","v":35.335689045936398},3.5714285714285712E-2]
["2020-03-19T17:00:00",14,"Molise",19,6,25,13,38,17,17,6,2,46,426,null,46,"x2",46,null,{"$f":"M1034*100/M1571","v":0.11209942731814306},15,"",1,18,65,0.82608695652173914,0.13043478260869565,4.3478260869565216E-2,{"$f":"L1034*100/B$1537","v":70.671378091872796},4.3478260869565216E-2]
["2020-03-20T17:00:00",14,"Molise",20,6,26,13,39,1,1,6,5,50,426,null,46,46,"",null,{"$f":"M1035*100/M1572","v":0.10633546713170711},{"$f":"IF(J1035-J1034=0,\"\",J1035-J1034)","v":-16},{"$f":"IF(K1035-K1034=0,\"\",K1035-K1034)","v":""},{"$f":"IF(L1035-L1034=0,\"\",L1035-L1034)","v":3},{"$f":"IF(M1035-M1034=0,\"\",M1035-M1034)","v":4},{"$f":"IF(N1035-N1034=0,\"\",N1035-N1034)","v":""},0.78,0.12,0.1,{"$f":"L1035*100/B$1537","v":176.67844522968198},0.1]
["2020-03-21T17:00:00",14,"Molise",21,6,27,20,47,8,8,7,7,61,449,null,46,46,"",null,{"$f":"M1036*100/M1573","v":0.11385270073537646},{"$f":"IF(J1036-J1035=0,\"\",J1036-J1035)","v":7},{"$f":"IF(K1036-K1035=0,\"\",K1036-K1035)","v":1},{"$f":"IF(L1036-L1035=0,\"\",L1036-L1035)","v":2},{"$f":"IF(M1036-M1035=0,\"\",M1036-M1035)","v":11},23,0.77049180327868849,0.11475409836065574,0.11475409836065574,{"$f":"L1036*100/B$1537","v":247.34982332155477},0.11475409836065574]
["2020-03-22T17:00:00",14,"Molise",24,7,31,21,52,5,5,7,7,66,532,null,46,46,"",null,{"$f":"M1037*100/M1574","v":0.1116033683925733},-3,"","",5,83,0.78787878787878785,0.10606060606060606,0.10606060606060606,{"$f":"L1037*100/B$1537","v":247.34982332155477},0.10606060606060606]
["2020-03-23T17:00:00",14,"Molise",25,7,32,18,50,-2,-2,10,7,67,532,null,46,46,"",null,{"$f":"M1038*100/M1575","v":0.10480704553631486},-7,3,"",1,"",0.74626865671641796,0.14925373134328357,0.1044776119402985,{"$f":"L1038*100/B$1537","v":247.34982332155477},0.1044776119402985]
["2020-03-24T17:00:00",14,"Molise",27,7,34,21,55,5,5,10,8,73,572,null,46,46,"",null,{"$f":"M1039*100/M1576","v":0.10552792876142014},7,"",1,6,40,0.75342465753424659,0.13698630136986301,0.1095890410958904,{"$f":"L1039*100/B$1537","v":282.68551236749119},0.1095890410958904]
["2020-03-25T17:00:00",14,"Molise",26,7,33,20,53,-2,-2,12,8,73,580,null,46,46,"",null,{"$f":"M1040*100/M1577","v":9.8136746161912189E-2},-7,2,"","",8,0.72602739726027399,0.16438356164383561,0.1095890410958904,{"$f":"L1040*100/B$1537","v":282.68551236749119},0.1095890410958904]
["2020-03-26T17:00:00",14,"Molise",27,8,35,46,81,28,28,14,8,103,670,null,103,"x2",103,null,{"$f":"M1041*100/M1578","v":0.12788835222687145},30,2,"",30,{"$f":"IF(N1041-N1040=0,\"\",N1041-N1040)","v":90},0.78640776699029125,0.13592233009708737,7.7669902912621352E-2,{"$f":"L1041*100/B$1537","v":282.68551236749119},7.7669902912621352E-2]
["2020-03-27T17:00:00",14,"Molise",26,9,35,51,86,5,6,14,9,109,710,null,{"$f":"IF(Q1042=\"x2\",M1042,P1041)","v":103},{"$f":"IF(M1042>P1041*2,\"x2\",P1041)","v":103},{"$f":"IF(Q1042=\"x2\",M1042,\"\")","v":""},null,{"$f":"M1042*100/M1579","v":0.12601447432310572},-22,"",1,{"$f":"IF(M1042-M1041=0,\"\",M1042-M1041)","v":6},40,0.78899082568807344,0.12844036697247707,8.2568807339449546E-2,{"$f":"L1042*100/B$1537","v":318.02120141342755},8.2568807339449546E-2]
["2020-03-28T17:00:00",14,"Molise",26,9,35,63,98,12,14,16,9,123,807,null,103,103,"",null,{"$f":"M1043*100/M1580","v":0.13301323643913834},8,2,"",14,97,0.7967479674796748,0.13008130081300814,7.3170731707317069E-2,{"$f":"L1043*100/B$1537","v":318.02120141342755},7.3170731707317069E-2]
["2020-03-29T17:00:00",14,"Molise",25,9,34,66,100,2,4,18,9,127,918,null,103,103,"",null,{"$f":"M1044*100/M1581","v":0.1300044017238379},-10,2,"",4,111,0.78740157480314965,0.14173228346456693,7.0866141732283464E-2,{"$f":"L1044*100/B$1537","v":318.02120141342755},7.0866141732283464E-2]
["2020-03-30T17:00:00",14,"Molise",27,8,35,72,107,7,7,18,9,134,955,null,103,103,"",null,{"$f":"M1045*100/M1582","v":0.13170957056782551},3,"","",7,37,0.79850746268656714,0.13432835820895522,6.7164179104477612E-2,{"$f":"L1045*100/B$1537","v":318.02120141342755},6.7164179104477612E-2]
["2020-03-31T17:00:00",14,"Molise",29,8,37,80,117,10,10,18,9,144,1049,null,103,103,"",null,{"$f":"M1046*100/M1583","v":0.13611615245009073},3,"","",10,94,0.8125,0.125,6.25E-2,{"$f":"L1046*100/B$1537","v":318.02120141342755},6.25E-2]
["2020-04-01T17:00:00",14,"Molise",32,8,40,91,131,14,16,19,10,160,1157,null,103,103,"",null,{"$f":"M1047*100/M1584","v":0.14469947727313834},6,1,1,16,{"$f":"IF(N1047-N1046=0,\"\",N1047-N1046)","v":108},{"$f":"IF(M1047=0,0,H1047/M1047)","v":0.81874999999999998},{"$f":"IF(M1047=0,0,K1047/M1047)","v":0.11874999999999999},{"$f":"IF(M1047=0,0,L1047/M1047)","v":6.25E-2},{"$f":"L1047*100/B$1537","v":353.35689045936397},6.25E-2]
["2020-04-02T17:00:00",14,"Molise",30,8,38,95,133,2,5,21,11,165,1229,null,{"$f":"IF(Q1048=\"x2\",M1048,P1047)","v":103},{"$f":"IF(M1048>P1047*2,\"x2\",P1047)","v":103},{"$f":"IF(Q1048=\"x2\",M1048,\"\")","v":""},null,{"$f":"M1048*100/M1585","v":0.14317696673087937},{"$f":"IF(J1048-J1047=0,\"\",J1048-J1047)","v":-11},{"$f":"IF(K1048-K1047=0,\"\",K1048-K1047)","v":2},{"$f":"IF(L1048-L1047=0,\"\",L1048-L1047)","v":1},{"$f":"IF(M1048-M1047=0,\"\",M1048-M1047)","v":5},72,0.80606060606060603,0.12727272727272726,6.6666666666666666E-2,{"$f":"L1048*100/B$1537","v":388.69257950530033},6.6666666666666666E-2]
["2020-04-03T17:00:00",14,"Molise",31,8,39,105,144,11,11,21,11,176,1378,null,{"$f":"IF(Q1049=\"x2\",M1049,P1048)","v":103},{"$f":"IF(M1049>P1048*2,\"x2\",P1048)","v":103},{"$f":"IF(Q1049=\"x2\",M1049,\"\")","v":""},null,{"$f":"M1049*100/M1586","v":0.14687841638361973},{"$f":"IF(J1049-J1048=0,\"\",J1049-J1048)","v":6},{"$f":"IF(K1049-K1048=0,\"\",K1049-K1048)","v":""},{"$f":"IF(L1049-L1048=0,\"\",L1049-L1048)","v":""},{"$f":"IF(M1049-M1048=0,\"\",M1049-M1048)","v":11},149,0.81818181818181823,0.11931818181818182,6.25E-2,{"$f":"L1049*100/B$1537","v":388.69257950530033},6.25E-2]
["2020-04-04T17:00:00",14,"Molise",31,6,37,134,171,27,30,24,11,206,1504,null,{"$f":"IF(Q1050=\"x2\",M1050,P1049)","v":103},{"$f":"IF(M1050>P1049*2,\"x2\",P1049)","v":103},{"$f":"IF(Q1050=\"x2\",M1050,\"\")","v":""},null,{"$f":"M1050*100/M1587","v":0.16528660376147378},{"$f":"IF(J1050-J1049=0,\"\",J1050-J1049)","v":19},{"$f":"IF(K1050-K1049=0,\"\",K1050-K1049)","v":3},{"$f":"IF(L1050-L1049=0,\"\",L1050-L1049)","v":""},{"$f":"IF(M1050-M1049=0,\"\",M1050-M1049)","v":30},126,0.83009708737864074,0.11650485436893204,5.3398058252427182E-2,{"$f":"L1050*100/B$1537","v":388.69257950530033},5.3398058252427182E-2]
["2020-04-05T17:00:00",14,"Molise",33,6,39,148,187,16,18,24,13,224,1504,null,{"$f":"IF(Q1051=\"x2\",M1051,P1050)","v":224},{"$f":"IF(M1051>P1050*2,\"x2\",P1050)","v":"x2"},{"$f":"IF(Q1051=\"x2\",M1051,\"\")","v":224},null,{"$f":"M1051*100/M1588","v":0.17371343487297206},{"$f":"IF(J1051-J1050=0,\"\",J1051-J1050)","v":-12},{"$f":"IF(K1051-K1050=0,\"\",K1051-K1050)","v":""},{"$f":"IF(L1051-L1050=0,\"\",L1051-L1050)","v":2},{"$f":"IF(M1051-M1050=0,\"\",M1051-M1050)","v":18},"",0.8348214285714286,0.10714285714285714,5.8035714285714288E-2,{"$f":"L1051*100/B$1537","v":459.36395759717311},5.8035714285714288E-2]
["2020-04-06T17:00:00",14,"Molise",34,5,39,148,187,0,0,24,13,224,1546,null,{"$f":"IF(Q1052=\"x2\",M1052,P1051)","v":224},{"$f":"IF(M1052>P1051*2,\"x2\",P1051)","v":224},{"$f":"IF(Q1052=\"x2\",M1052,\"\")","v":""},null,{"$f":"M1052*100/M1589","v":0.16899665778931247},{"$f":"IF(J1052-J1051=0,\"\",J1052-J1051)","v":-18},{"$f":"IF(K1052-K1051=0,\"\",K1052-K1051)","v":""},{"$f":"IF(L1052-L1051=0,\"\",L1052-L1051)","v":""},{"$f":"IF(M1052-M1051=0,\"\",M1052-M1051)","v":""},42,0.8348214285714286,0.10714285714285714,5.8035714285714288E-2,{"$f":"L1052*100/B$1537","v":459.36395759717311},5.8035714285714288E-2]
["2020-04-07T17:00:00",14,"Molise",35,5,40,145,185,-2,0,26,13,224,1581,null,{"$f":"IF(Q1053=\"x2\",M1053,P1052)","v":224},{"$f":"IF(M1053>P1052*2,\"x2\",P1052)","v":224},{"$f":"IF(Q1053=\"x2\",M1053,\"\")","v":""},null,{"$f":"M1053*100/M1590","v":0.16520879736845986},{"$f":"IF(J1053-J1052=0,\"\",J1053-J1052)","v":""},{"$f":"IF(K1053-K1052=0,\"\",K1053-K1052)","v":2},{"$f":"IF(L1053-L1052=0,\"\",L1053-L1052)","v":""},{"$f":"IF(M1053-M1052=0,\"\",M1053-M1052)","v":""},{"$f":"IF(N1053-N1052=0,\"\",N1053-N1052)","v":35},{"$f":"IF(M1053=0,0,H1053/M1053)","v":0.8258928571428571},{"$f":"IF(M1053=0,0,K1053/M1053)","v":0.11607142857142858},{"$f":"IF(M1053=0,0,L1053/M1053)","v":5.8035714285714288E-2},{"$f":"L1053*100/B$1537","v":459.36395759717311},5.8035714285714288E-2]
["2020-04-08T17:00:00",14,"Molise",30,4,34,147,181,-4,2,32,13,226,2002,null,{"$f":"IF(Q1054=\"x2\",M1054,P1053)","v":224},{"$f":"IF(M1054>P1053*2,\"x2\",P1053)","v":224},{"$f":"IF(Q1054=\"x2\",M1054,\"\")","v":""},null,{"$f":"M1054*100/M1591","v":0.16209780378993272},{"$f":"IF(J1054-J1053=0,\"\",J1054-J1053)","v":2},{"$f":"IF(K1054-K1053=0,\"\",K1054-K1053)","v":6},{"$f":"IF(L1054-L1053=0,\"\",L1054-L1053)","v":""},{"$f":"IF(M1054-M1053=0,\"\",M1054-M1053)","v":2},{"$f":"IF(N1054-N1053=0,\"\",N1054-N1053)","v":421},{"$f":"IF(M1054=0,0,H1054/M1054)","v":0.80088495575221241},{"$f":"IF(M1054=0,0,K1054/M1054)","v":0.1415929203539823},{"$f":"IF(M1054=0,0,L1054/M1054)","v":5.7522123893805309E-2},{"$f":"L1054*100/B$1537","v":459.36395759717311},5.7522123893805309E-2]
["2020-04-09T17:00:00",14,"Molise",30,4,34,155,189,8,8,32,13,234,2069,null,{"$f":"IF(Q1055=\"x2\",M1055,P1054)","v":224},{"$f":"IF(M1055>P1054*2,\"x2\",P1054)","v":224},{"$f":"IF(Q1055=\"x2\",M1055,\"\")","v":""},null,{"$f":"M1055*100/M1592","v":0.16292314761951179},{"$f":"IF(J1055-J1054=0,\"\",J1055-J1054)","v":6},{"$f":"IF(K1055-K1054=0,\"\",K1055-K1054)","v":""},{"$f":"IF(L1055-L1054=0,\"\",L1055-L1054)","v":""},{"$f":"IF(M1055-M1054=0,\"\",M1055-M1054)","v":8},{"$f":"IF(N1055-N1054=0,\"\",N1055-N1054)","v":67},{"$f":"IF(M1055=0,0,H1055/M1055)","v":0.80769230769230771},{"$f":"IF(M1055=0,0,K1055/M1055)","v":0.13675213675213677},{"$f":"IF(M1055=0,0,L1055/M1055)","v":5.5555555555555552E-2},{"$f":"L1055*100/B$1537","v":459.36395759717311},5.5555555555555552E-2]
["2020-04-10T17:00:00",14,"Molise",28,4,32,161,193,4,9,37,13,243,2069,null,{"$f":"IF(Q1056=\"x2\",M1056,P1055)","v":224},{"$f":"IF(M1056>P1055*2,\"x2\",P1055)","v":224},{"$f":"IF(Q1056=\"x2\",M1056,\"\")","v":""},null,{"$f":"M1056*100/M1593","v":0.16465980471211639},{"$f":"IF(J1056-J1055=0,\"\",J1056-J1055)","v":1},{"$f":"IF(K1056-K1055=0,\"\",K1056-K1055)","v":5},{"$f":"IF(L1056-L1055=0,\"\",L1056-L1055)","v":""},{"$f":"IF(M1056-M1055=0,\"\",M1056-M1055)","v":9},{"$f":"IF(N1056-N1055=0,\"\",N1056-N1055)","v":""},{"$f":"IF(M1056=0,0,H1056/M1056)","v":0.79423868312757206},{"$f":"IF(M1056=0,0,K1056/M1056)","v":0.15226337448559671},{"$f":"IF(M1056=0,0,L1056/M1056)","v":5.3497942386831275E-2},{"$f":"L1056*100/B$1537","v":459.36395759717311},5.3497942386831275E-2]
["2020-04-11T17:00:00",14,"Molise",28,4,32,161,193,0,3,39,14,246,2201,null,{"$f":"IF(Q1057=\"x2\",M1057,P1056)","v":224},{"$f":"IF(M1057>P1056*2,\"x2\",P1056)","v":224},{"$f":"IF(Q1057=\"x2\",M1057,\"\")","v":""},null,{"$f":"M1057*100/M1594","v":0.16155407135961541},{"$f":"IF(J1057-J1056=0,\"\",J1057-J1056)","v":-6},{"$f":"IF(K1057-K1056=0,\"\",K1057-K1056)","v":2},{"$f":"IF(L1057-L1056=0,\"\",L1057-L1056)","v":1},{"$f":"IF(M1057-M1056=0,\"\",M1057-M1056)","v":3},{"$f":"IF(N1057-N1056=0,\"\",N1057-N1056)","v":132},{"$f":"IF(M1057=0,0,H1057/M1057)","v":0.78455284552845528},{"$f":"IF(M1057=0,0,K1057/M1057)","v":0.15853658536585366},{"$f":"IF(M1057=0,0,L1057/M1057)","v":5.6910569105691054E-2},{"$f":"L1057*100/B$1537","v":494.69964664310953},5.6910569105691054E-2]
["2020-04-12T17:00:00",14,"Molise",27,4,31,171,202,9,11,40,15,257,2471,null,{"$f":"IF(Q1058=\"x2\",M1058,P1057)","v":224},{"$f":"IF(M1058>P1057*2,\"x2\",P1057)","v":224},{"$f":"IF(Q1058=\"x2\",M1058,\"\")","v":""},null,{"$f":"M1058*100/M1595","v":0.16436113402787103},{"$f":"IF(J1058-J1057=0,\"\",J1058-J1057)","v":8},{"$f":"IF(K1058-K1057=0,\"\",K1058-K1057)","v":1},{"$f":"IF(L1058-L1057=0,\"\",L1058-L1057)","v":1},{"$f":"IF(M1058-M1057=0,\"\",M1058-M1057)","v":11},{"$f":"IF(N1058-N1057=0,\"\",N1058-N1057)","v":270},{"$f":"IF(M1058=0,0,H1058/M1058)","v":0.78599221789883267},{"$f":"IF(M1058=0,0,K1058/M1058)","v":0.1556420233463035},{"$f":"IF(M1058=0,0,L1058/M1058)","v":5.8365758754863814E-2},{"$f":"L1058*100/B$1537","v":530.03533568904595},5.8365758754863814E-2]
["2020-04-13T17:00:00",14,"Molise",28,4,32,170,202,0,0,40,15,257,2522,null,{"$f":"IF(Q1059=\"x2\",M1059,P1058)","v":224},{"$f":"IF(M1059>P1058*2,\"x2\",P1058)","v":224},{"$f":"IF(Q1059=\"x2\",M1059,\"\")","v":""},null,{"$f":"M1059*100/M1596","v":0.1611123649038341},{"$f":"IF(J1059-J1058=0,\"\",J1059-J1058)","v":-11},{"$f":"IF(K1059-K1058=0,\"\",K1059-K1058)","v":""},{"$f":"IF(L1059-L1058=0,\"\",L1059-L1058)","v":""},{"$f":"IF(M1059-M1058=0,\"\",M1059-M1058)","v":""},{"$f":"IF(N1059-N1058=0,\"\",N1059-N1058)","v":51},{"$f":"IF(M1059=0,0,H1059/M1059)","v":0.78599221789883267},{"$f":"IF(M1059=0,0,K1059/M1059)","v":0.1556420233463035},{"$f":"IF(M1059=0,0,L1059/M1059)","v":5.8365758754863814E-2},{"$f":"L1059*100/B$1537","v":530.03533568904595},5.8365758754863814E-2]
["2020-04-14T17:00:00",14,"Molise",26,4,30,170,200,-2,0,42,15,257,2522,null,{"$f":"IF(Q1060=\"x2\",M1060,P1059)","v":224},{"$f":"IF(M1060>P1059*2,\"x2\",P1059)","v":224},{"$f":"IF(Q1060=\"x2\",M1060,\"\")","v":""},null,{"$f":"M1060*100/M1597","v":0.15816552606961745},{"$f":"IF(J1060-J1059=0,\"\",J1060-J1059)","v":""},{"$f":"IF(K1060-K1059=0,\"\",K1060-K1059)","v":2},{"$f":"IF(L1060-L1059=0,\"\",L1060-L1059)","v":""},{"$f":"IF(M1060-M1059=0,\"\",M1060-M1059)","v":""},{"$f":"IF(N1060-N1059=0,\"\",N1060-N1059)","v":""},{"$f":"IF(M1060=0,0,H1060/M1060)","v":0.77821011673151752},{"$f":"IF(M1060=0,0,K1060/M1060)","v":0.16342412451361868},{"$f":"IF(M1060=0,0,L1060/M1060)","v":5.8365758754863814E-2},{"$f":"L1060*100/B$1537","v":530.03533568904595},5.8365758754863814E-2]
["2020-04-15T17:00:00",14,"Molise",27,4,31,175,206,6,6,42,15,263,2855,null,{"$f":"IF(Q1061=\"x2\",M1061,P1060)","v":224},{"$f":"IF(M1061>P1060*2,\"x2\",P1060)","v":224},{"$f":"IF(Q1061=\"x2\",M1061,\"\")","v":""},null,{"$f":"M1061*100/M1598","v":0.15924434622021738},{"$f":"IF(J1061-J1060=0,\"\",J1061-J1060)","v":6},{"$f":"IF(K1061-K1060=0,\"\",K1061-K1060)","v":""},{"$f":"IF(L1061-L1060=0,\"\",L1061-L1060)","v":""},{"$f":"IF(M1061-M1060=0,\"\",M1061-M1060)","v":6},{"$f":"IF(N1061-N1060=0,\"\",N1061-N1060)","v":333},{"$f":"IF(M1061=0,0,H1061/M1061)","v":0.78326996197718635},{"$f":"IF(M1061=0,0,K1061/M1061)","v":0.1596958174904943},{"$f":"IF(M1061=0,0,L1061/M1061)","v":5.7034220532319393E-2},{"$f":"L1061*100/B$1537","v":530.03533568904595},5.7034220532319393E-2]
["2020-04-16T17:00:00",14,"Molise",25,4,29,174,203,-3,0,44,16,263,2967,null,{"$f":"IF(Q1062=\"x2\",M1062,P1061)","v":224},{"$f":"IF(M1062>P1061*2,\"x2\",P1061)","v":224},{"$f":"IF(Q1062=\"x2\",M1062,\"\")","v":""},null,{"$f":"M1062*100/M1599","v":0.15567565007902168},{"$f":"IF(J1062-J1061=0,\"\",J1062-J1061)","v":-6},{"$f":"IF(K1062-K1061=0,\"\",K1062-K1061)","v":2},{"$f":"IF(L1062-L1061=0,\"\",L1062-L1061)","v":1},{"$f":"IF(M1062-M1061=0,\"\",M1062-M1061)","v":""},{"$f":"IF(N1062-N1061=0,\"\",N1062-N1061)","v":112},{"$f":"IF(M1062=0,0,H1062/M1062)","v":0.77186311787072248},{"$f":"IF(M1062=0,0,K1062/M1062)","v":0.16730038022813687},{"$f":"IF(M1062=0,0,L1062/M1062)","v":6.0836501901140684E-2},{"$f":"L1062*100/B$1537","v":565.37102473498237},6.0836501901140684E-2]
["2020-04-17T17:00:00",14,"Molise",26,4,30,178,208,5,6,45,16,269,3082,null,{"$f":"IF(Q1063=\"x2\",M1063,P1062)","v":224},{"$f":"IF(M1063>P1062*2,\"x2\",P1062)","v":224},{"$f":"IF(Q1063=\"x2\",M1063,\"\")","v":""},null,{"$f":"M1063*100/M1600","v":0.15600171659881462},{"$f":"IF(J1063-J1062=0,\"\",J1063-J1062)","v":6},{"$f":"IF(K1063-K1062=0,\"\",K1063-K1062)","v":1},{"$f":"IF(L1063-L1062=0,\"\",L1063-L1062)","v":""},{"$f":"IF(M1063-M1062=0,\"\",M1063-M1062)","v":6},{"$f":"IF(N1063-N1062=0,\"\",N1063-N1062)","v":115},{"$f":"IF(M1063=0,0,H1063/M1063)","v":0.77323420074349447},{"$f":"IF(M1063=0,0,K1063/M1063)","v":0.16728624535315986},{"$f":"IF(M1063=0,0,L1063/M1063)","v":5.9479553903345722E-2},{"$f":"L1063*100/B$1537","v":565.37102473498237},5.9479553903345722E-2]
["2020-04-18T17:00:00",14,"Molise",27,4,31,178,209,1,0,44,16,269,3082,null,{"$f":"IF(Q1064=\"x2\",M1064,P1063)","v":224},{"$f":"IF(M1064>P1063*2,\"x2\",P1063)","v":224},{"$f":"IF(Q1064=\"x2\",M1064,\"\")","v":""},null,{"$f":"M1064*100/M1601","v":0.1529060679266733},{"$f":"IF(J1064-J1063=0,\"\",J1064-J1063)","v":-6},{"$f":"IF(K1064-K1063=0,\"\",K1064-K1063)","v":-1},{"$f":"IF(L1064-L1063=0,\"\",L1064-L1063)","v":""},{"$f":"IF(M1064-M1063=0,\"\",M1064-M1063)","v":""},{"$f":"IF(N1064-N1063=0,\"\",N1064-N1063)","v":""},{"$f":"IF(M1064=0,0,H1064/M1064)","v":0.77695167286245348},{"$f":"IF(M1064=0,0,K1064/M1064)","v":0.16356877323420074},{"$f":"IF(M1064=0,0,L1064/M1064)","v":5.9479553903345722E-2},{"$f":"L1064*100/B$1537","v":565.37102473498237},5.9479553903345722E-2]
["2020-04-19T17:00:00",14,"Molise",27,4,31,184,215,6,10,47,17,279,3584,3482,{"$f":"IF(Q1065=\"x2\",M1065,P1064)","v":224},{"$f":"IF(M1065>P1064*2,\"x2\",P1064)","v":224},{"$f":"IF(Q1065=\"x2\",M1065,\"\")","v":""},null,{"$f":"M1065*100/M1602","v":0.15589030686364347},{"$f":"IF(J1065-J1064=0,\"\",J1065-J1064)","v":10},{"$f":"IF(K1065-K1064=0,\"\",K1065-K1064)","v":3},{"$f":"IF(L1065-L1064=0,\"\",L1065-L1064)","v":1},{"$f":"IF(M1065-M1064=0,\"\",M1065-M1064)","v":10},{"$f":"IF(N1065-N1064=0,\"\",N1065-N1064)","v":502},{"$f":"IF(M1065=0,0,H1065/M1065)","v":0.77060931899641572},{"$f":"IF(M1065=0,0,K1065/M1065)","v":0.16845878136200718},{"$f":"IF(M1065=0,0,L1065/M1065)","v":6.093189964157706E-2},{"$f":"L1065*100/B$1537","v":600.70671378091868},6.093189964157706E-2]
["2020-04-20T17:00:00",14,"Molise",27,2,29,184,213,-2,2,50,18,281,3783,3683,{"$f":"IF(Q1066=\"x2\",M1066,P1065)","v":224},{"$f":"IF(M1066>P1065*2,\"x2\",P1065)","v":224},{"$f":"IF(Q1066=\"x2\",M1066,\"\")","v":""},null,{"$f":"M1066*100/M1603","v":0.15505330302160814},{"$f":"IF(J1066-J1065=0,\"\",J1066-J1065)","v":-8},{"$f":"IF(K1066-K1065=0,\"\",K1066-K1065)","v":3},{"$f":"IF(L1066-L1065=0,\"\",L1066-L1065)","v":1},{"$f":"IF(M1066-M1065=0,\"\",M1066-M1065)","v":2},{"$f":"IF(N1066-N1065=0,\"\",N1066-N1065)","v":199},{"$f":"IF(M1066=0,0,H1066/M1066)","v":0.75800711743772242},{"$f":"IF(M1066=0,0,K1066/M1066)","v":0.17793594306049823},{"$f":"IF(M1066=0,0,L1066/M1066)","v":6.4056939501779361E-2},{"$f":"L1066*100/B$1537","v":636.0424028268551},6.4056939501779361E-2]
["2020-04-21T17:00:00",14,"Molise",27,2,29,184,213,0,1,51,18,282,4124,4015,224,{"$f":"IF(M1067>P1066*2,\"x2\",P1066)","v":224},{"$f":"IF(Q1067=\"x2\",M1067,\"\")","v":""},null,{"$f":"M1067*100/M1604","v":0.15329669433617638},{"$f":"IF(J1067-J1066=0,\"\",J1067-J1066)","v":-1},{"$f":"IF(K1067-K1066=0,\"\",K1067-K1066)","v":1},{"$f":"IF(L1067-L1066=0,\"\",L1067-L1066)","v":""},{"$f":"IF(M1067-M1066=0,\"\",M1067-M1066)","v":1},{"$f":"IF(N1067-N1066=0,\"\",N1067-N1066)","v":341},{"$f":"IF(M1067=0,0,H1067/M1067)","v":0.75531914893617025},{"$f":"IF(M1067=0,0,K1067/M1067)","v":0.18085106382978725},{"$f":"IF(M1067=0,0,L1067/M1067)","v":6.3829787234042548E-2},{"$f":"L1067*100/B$1537","v":636.0424028268551},6.3829787234042548E-2]
["2020-04-22T17:00:00",14,"Molise",21,2,23,182,205,-8,2,60,19,284,4425,4252,224,{"$f":"IF(M1068>P1067*2,\"x2\",P1067)","v":224},{"$f":"IF(Q1068=\"x2\",M1068,\"\")","v":""},null,{"$f":"M1068*100/M1605","v":0.15160654897585504},{"$f":"IF(J1068-J1067=0,\"\",J1068-J1067)","v":1},{"$f":"IF(K1068-K1067=0,\"\",K1068-K1067)","v":9},{"$f":"IF(L1068-L1067=0,\"\",L1068-L1067)","v":1},{"$f":"IF(M1068-M1067=0,\"\",M1068-M1067)","v":2},{"$f":"IF(N1068-N1067=0,\"\",N1068-N1067)","v":301},{"$f":"IF(M1068=0,0,H1068/M1068)","v":0.721830985915493},{"$f":"IF(M1068=0,0,K1068/M1068)","v":0.21126760563380281},{"$f":"IF(M1068=0,0,L1068/M1068)","v":6.6901408450704219E-2},{"$f":"L1068*100/B$1537","v":671.37809187279152},6.6901408450704219E-2]
["2020-04-23T17:00:00",14,"Molise",19,1,20,178,198,-7,0,66,20,284,4564,4478,{"$f":"IF(Q1069=\"x2\",M1069,P1068)","v":224},{"$f":"IF(M1069>P1068*2,\"x2\",P1068)","v":224},{"$f":"IF(Q1069=\"x2\",M1069,\"\")","v":""},null,{"$f":"M1069*100/M1606","v":0.14949492822664273},{"$f":"IF(J1069-J1068=0,\"\",J1069-J1068)","v":-2},{"$f":"IF(K1069-K1068=0,\"\",K1069-K1068)","v":6},{"$f":"IF(L1069-L1068=0,\"\",L1069-L1068)","v":1},{"$f":"IF(M1069-M1068=0,\"\",M1069-M1068)","v":""},{"$f":"IF(N1069-N1068=0,\"\",N1069-N1068)","v":139},{"$f":"IF(M1069=0,0,H1069/M1069)","v":0.69718309859154926},{"$f":"IF(M1069=0,0,K1069/M1069)","v":0.23239436619718309},{"$f":"IF(M1069=0,0,L1069/M1069)","v":7.0422535211267609E-2},{"$f":"L1069*100/B$1537","v":706.71378091872793},{"$f":"IF(M1069=0,0,L1069/M1069)","v":7.0422535211267609E-2}]
["2020-04-24T17:00:00",14,"Molise",19,1,20,180,200,2,3,67,20,287,4805,4718,{"$f":"IF(Q1070=\"x2\",M1070,P1069)","v":224},{"$f":"IF(M1070>P1069*2,\"x2\",P1069)","v":224},{"$f":"IF(Q1070=\"x2\",M1070,\"\")","v":""},null,{"$f":"M1070*100/M1607","v":0.14870928629905594},{"$f":"IF(J1070-J1069=0,\"\",J1070-J1069)","v":3},{"$f":"IF(K1070-K1069=0,\"\",K1070-K1069)","v":1},{"$f":"IF(L1070-L1069=0,\"\",L1070-L1069)","v":""},{"$f":"IF(M1070-M1069=0,\"\",M1070-M1069)","v":3},{"$f":"IF(N1070-N1069=0,\"\",N1070-N1069)","v":241},{"$f":"IF(M1070=0,0,H1070/M1070)","v":0.69686411149825789},{"$f":"IF(M1070=0,0,K1070/M1070)","v":0.23344947735191637},{"$f":"IF(M1070=0,0,L1070/M1070)","v":6.968641114982578E-2},{"$f":"L1070*100/B$1537","v":706.71378091872793},{"$f":"IF(M1070=0,0,L1070/M1070)","v":6.968641114982578E-2}]
["2020-04-25T17:00:00",14,"Molise",19,1,20,178,198,-2,5,73,21,292,5191,5089,{"$f":"IF(Q1071=\"x2\",M1071,P1070)","v":224},{"$f":"IF(M1071>P1070*2,\"x2\",P1070)","v":224},{"$f":"IF(Q1071=\"x2\",M1071,\"\")","v":""},null,{"$f":"M1071*100/M1608","v":0.14947453557954657},{"$f":"IF(J1071-J1070=0,\"\",J1071-J1070)","v":2},{"$f":"IF(K1071-K1070=0,\"\",K1071-K1070)","v":6},{"$f":"IF(L1071-L1070=0,\"\",L1071-L1070)","v":1},{"$f":"IF(M1071-M1070=0,\"\",M1071-M1070)","v":5},{"$f":"IF(N1071-N1070=0,\"\",N1071-N1070)","v":386},{"$f":"IF(M1071=0,0,H1071/M1071)","v":0.67808219178082196},{"$f":"IF(M1071=0,0,K1071/M1071)","v":0.25},{"$f":"IF(M1071=0,0,L1071/M1071)","v":7.1917808219178078E-2},{"$f":"L1071*100/B$1537","v":742.04946996466424},{"$f":"IF(M1071=0,0,L1071/M1071)","v":7.1917808219178078E-2}]
["2020-04-26T17:00:00",14,"Molise",20,1,21,179,200,2,4,75,21,296,5567,5334,{"$f":"IF(Q1072=\"x2\",M1072,P1071)","v":224},{"$f":"IF(M1072>P1071*2,\"x2\",P1071)","v":224},{"$f":"IF(Q1072=\"x2\",M1072,\"\")","v":""},null,{"$f":"M1072*100/M1609","v":0.14974073605665866},{"$f":"IF(J1072-J1071=0,\"\",J1072-J1071)","v":-1},{"$f":"IF(K1072-K1071=0,\"\",K1072-K1071)","v":2},{"$f":"IF(L1072-L1071=0,\"\",L1072-L1071)","v":""},{"$f":"IF(M1072-M1071=0,\"\",M1072-M1071)","v":4},{"$f":"IF(N1072-N1071=0,\"\",N1072-N1071)","v":376},{"$f":"IF(M1072=0,0,H1072/M1072)","v":0.67567567567567566},{"$f":"IF(M1072=0,0,K1072/M1072)","v":0.2533783783783784},{"$f":"IF(M1072=0,0,L1072/M1072)","v":7.0945945945945943E-2},{"$f":"L1072*100/B$1537","v":742.04946996466424},{"$f":"IF(M1072=0,0,L1072/M1072)","v":7.0945945945945943E-2}]
["2020-04-27T17:00:00",14,"Molise",20,1,21,179,200,0,0,75,21,296,5656,5423,{"$f":"IF(Q1073=\"x2\",M1073,P1072)","v":224},{"$f":"IF(M1073>P1072*2,\"x2\",P1072)","v":224},{"$f":"IF(Q1073=\"x2\",M1073,\"\")","v":""},null,{"$f":"M1073*100/M1610","v":0.14843491429889577},{"$f":"IF(J1073-J1072=0,\"\",J1073-J1072)","v":-4},{"$f":"IF(K1073-K1072=0,\"\",K1073-K1072)","v":""},{"$f":"IF(L1073-L1072=0,\"\",L1073-L1072)","v":""},{"$f":"IF(M1073-M1072=0,\"\",M1073-M1072)","v":""},{"$f":"IF(N1073-N1072=0,\"\",N1073-N1072)","v":89},{"$f":"IF(M1073=0,0,H1073/M1073)","v":0.67567567567567566},{"$f":"IF(M1073=0,0,K1073/M1073)","v":0.2533783783783784},{"$f":"IF(M1073=0,0,L1073/M1073)","v":7.0945945945945943E-2},{"$f":"L1073*100/B$1537","v":742.04946996466424},{"$f":"IF(M1073=0,0,L1073/M1073)","v":7.0945945945945943E-2}]
[{"$f":"A1073 + 1","v":"2020-04-28T17:00:00"},null,null,null,null,null,null,null,null,null,null,null,null,null,null,null,"Media x2",{"$f":"COUNT(N1010:N1073) / COUNT(R1010:R1073)","v":9.1428571428571423}]
[{"$f":"A1074+1","v":"2020-04-29T17:00:00"}]
[{"$f":"A1075+1","v":"2020-04-30T17:00:00"}]
[null,null,null,null,{"$f":"E1073/$M1073","v":3.3783783783783786E-3},null,null,{"$f":"H1073/$M1073","v":0.67567567567567566},null,null,{"$f":"K1073/$M1073","v":0.2533783783783784},{"$f":"L1073/$M1073","v":7.0945945945945943E-2},null,{"$f":"N1073/$M1073","v":19.108108108108109}]
[]
[]
[]
["Data","Codice","Regione","Ricoverati","Terap. Intens.","Ospedalizzati","Quarantena","Positivi","+ Positivi","Nuovi","Guariti","Deceduti","Totale","Tamponi",null,null,null,"x 2",null,"% su Tot.","+ Nuovi","+ Guariti","+ Deceduti","+ Totali","+ Tamponi","% Positivi","% Guariti","% Deceduti","P. Stimati","% Morti"]
["2020-02-24T18:00:00",15,"Campania",0,0,0,0,0,0,0,0,0,0,10,null,{"$f":"M1082","v":0},null,{"$f":"M1082","v":0},null,{"$f":"M1082*100/M1547","v":0},null,null,null,null,null,{"$f":"IF(M1082=0,0,H1082/M1082)","v":0},{"$f":"IF(M1082=0,0,K1082/M1082)","v":0},{"$f":"IF(M1082=0,0,L1082/M1082)","v":0},{"$f":"L1082*100/B$1537","v":0},{"$f":"IF(M1082=0,0,L1082/M1082)","v":0}]
["2020-02-25T18:00:00",15,"Campania",0,0,0,0,0,0,0,0,0,0,10,null,{"$f":"IF(Q1083=\"x2\",M1083,P1082)","v":0},{"$f":"IF(M1083>P1082*2,\"x2\",P1082)","v":0},{"$f":"IF(Q1083=\"x2\",M1083,\"\")","v":""},null,{"$f":"M1083*100/M1548","v":0},{"$f":"IF(J1083-J1082=0,\"\",J1083-J1082)","v":""},{"$f":"IF(K1083-K1082=0,\"\",K1083-K1082)","v":""},{"$f":"IF(L1083-L1082=0,\"\",L1083-L1082)","v":""},{"$f":"IF(M1083-M1082=0,\"\",M1083-M1082)","v":""},{"$f":"IF(N1083-N1082=0,\"\",N1083-N1082)","v":""},0,0,0,{"$f":"L1083*100/B$1537","v":0},0]
["2020-02-26T18:00:00",15,"Campania",0,0,0,0,0,0,0,0,0,0,10,null,0,0,"",null,{"$f":"M1084*100/M1549","v":0},"","","","","",0,0,0,{"$f":"L1084*100/B$1537","v":0},0]
["2020-02-27T18:00:00",15,"Campania",2,0,2,1,3,3,3,0,0,3,10,null,3,"x2",3,null,{"$f":"M1085*100/M1550","v":0.46153846153846156},3,"","",3,"",1,0,0,{"$f":"L1085*100/B$1537","v":0},0]
["2020-02-28T18:00:00",15,"Campania",2,0,2,2,4,1,1,0,0,4,213,null,3,3,"",null,{"$f":"M1086*100/M1551","v":0.45045045045045046},-2,"","",1,203,1,0,0,{"$f":"L1086*100/B$1537","v":0},0]
["2020-02-29T17:00:00",15,"Campania",3,0,3,10,13,9,9,0,0,13,373,null,13,"x2",13,null,{"$f":"M1087*100/M1552","v":1.1524822695035462},8,"","",9,160,1,0,0,{"$f":"L1087*100/B$1537","v":0},0]
["2020-03-01T17:00:00",15,"Campania",4,0,4,13,17,4,4,0,0,17,373,null,13,13,"",null,{"$f":"M1088*100/M1553","v":1.0035419126328218},-5,"","",4,"",1,0,0,{"$f":"L1088*100/B$1537","v":0},0]
["2020-03-02T18:00:00",15,"Campania",4,0,4,13,17,0,0,0,0,17,373,null,13,13,"",null,{"$f":"M1089*100/M1554","v":0.83497053045186642},-4,"","","","",1,0,0,{"$f":"L1089*100/B$1537","v":0},0]
["2020-03-03T18:00:00",15,"Campania",11,0,11,19,30,13,13,0,0,30,405,null,30,"x2",30,null,{"$f":"M1090*100/M1555","v":1.1990407673860912},13,"","",13,32,1,0,0,{"$f":"L1090*100/B$1537","v":0},0]
["2020-03-04T17:00:00",15,"Campania",11,0,11,20,31,1,1,0,0,31,429,null,30,30,"",null,{"$f":"M1091*100/M1556","v":1.0035610229847847},-12,"","",1,24,1,0,0,{"$f":"L1091*100/B$1537","v":0},0]
["2020-03-05T17:00:00",15,"Campania",12,0,12,33,45,14,14,0,0,45,471,null,30,30,"",null,{"$f":"M1092*100/M1557","v":1.166407465007776},13,"","",14,42,1,0,0,{"$f":"L1092*100/B$1537","v":0},0]
["2020-03-06T17:00:00",15,"Campania",12,0,12,45,57,12,12,0,0,57,471,null,30,30,"",null,{"$f":"M1093*100/M1558","v":1.2295081967213115},-2,"","",12,"",1,0,0,{"$f":"L1093*100/B$1537","v":0},0]
["2020-03-07T18:00:00",15,"Campania",16,0,16,45,61,4,4,0,0,61,612,null,61,"x2",61,null,{"$f":"M1094*100/M1559","v":1.0368859425463199},-8,"","",4,141,1,0,0,{"$f":"L1094*100/B$1537","v":0},0]
["2020-03-08T18:00:00",15,"Campania",30,7,37,63,100,39,39,1,0,101,980,null,61,61,"",null,{"$f":"M1095*100/M1560","v":1.3694915254237288},35,1,"",40,368,0.99009900990099009,9.9009900990099011E-3,0,{"$f":"L1095*100/B$1537","v":0},0]
["2020-03-09T18:00:00",15,"Campania",42,8,50,69,119,19,19,1,0,120,980,null,61,61,"",null,{"$f":"M1096*100/M1561","v":1.3083296990841693},-20,"","",19,"",0.9916666666666667,8.3333333333333332E-3,0,{"$f":"L1096*100/B$1537","v":0},0]
["2020-03-10T18:00:00",15,"Campania",33,8,41,85,126,7,7,1,0,127,1141,null,127,"x2",127,null,{"$f":"M1097*100/M1562","v":1.2513548132820969},-12,"","",7,161,0.99212598425196852,7.874015748031496E-3,0,{"$f":"L1097*100/B$1537","v":0},0]
["2020-03-11T17:00:00",15,"Campania",56,11,67,82,149,23,23,4,1,154,1375,null,127,127,"",null,{"$f":"M1098*100/M1563","v":1.2357567003691221},16,3,1,27,234,0.96753246753246758,2.5974025974025976E-2,6.4935064935064939E-3,{"$f":"L1098*100/B$1537","v":35.335689045936398},6.4935064935064939E-3]
["2020-03-12T17:00:00",15,"Campania",56,11,67,107,174,25,25,4,1,179,1551,null,127,127,"",null,{"$f":"M1099*100/M1564","v":1.1844107721828889},2,"","",25,176,0.97206703910614523,2.23463687150838E-2,5.5865921787709499E-3,{"$f":"L1099*100/B$1537","v":35.335689045936398},5.5865921787709499E-3]
["2020-03-13T17:00:00",15,"Campania",60,19,79,134,213,39,39,5,2,220,1671,null,127,127,"",null,{"$f":"M1100*100/M1565","v":1.245753114382786},14,1,1,41,120,0.96818181818181814,2.2727272727272728E-2,9.0909090909090905E-3,{"$f":"L1100*100/B$1537","v":70.671378091872796},9.0909090909090905E-3]
["2020-03-14T17:00:00",15,"Campania",72,17,89,154,243,30,30,23,6,272,1936,null,272,"x2",272,null,{"$f":"M1101*100/M1566","v":1.2856265065935624},-9,18,4,52,265,0.89338235294117652,8.455882352941177E-2,2.2058823529411766E-2,{"$f":"L1101*100/B$1537","v":212.01413427561837},2.2058823529411766E-2]
["2020-03-15T17:00:00",15,"Campania",73,22,95,201,296,53,53,28,9,333,2213,null,272,272,"",null,{"$f":"M1102*100/M1567","v":1.345617650624318},23,5,3,61,277,0.88888888888888884,8.408408408408409E-2,2.7027027027027029E-2,{"$f":"L1102*100/B$1537","v":318.02120141342755},2.7027027027027029E-2]
["2020-03-16T17:00:00",15,"Campania",103,22,125,238,363,67,67,28,9,400,2517,null,272,272,"",null,{"$f":"M1103*100/M1568","v":1.4295925661186561},14,"","",67,304,0.90749999999999997,7.0000000000000007E-2,2.2499999999999999E-2,{"$f":"L1103*100/B$1537","v":318.02120141342755},2.2499999999999999E-2]
["2020-03-17T17:00:00",15,"Campania",127,24,151,272,423,60,60,28,9,460,2685,null,272,272,"",null,{"$f":"M1104*100/M1569","v":1.4600393575826827},-7,"","",60,168,0.91956521739130437,6.0869565217391307E-2,1.9565217391304349E-2,{"$f":"L1104*100/B$1537","v":318.02120141342755},1.9565217391304349E-2]
["2020-03-18T17:00:00",15,"Campania",127,24,151,272,423,0,0,28,9,460,2685,null,272,272,"",null,{"$f":"M1105*100/M1570","v":1.2880463696693081},-60,"","","","",0.91956521739130437,6.0869565217391307E-2,1.9565217391304349E-2,{"$f":"L1105*100/B$1537","v":318.02120141342755},1.9565217391304349E-2]
["2020-03-19T17:00:00",15,"Campania",213,36,249,356,605,182,182,30,17,652,3544,null,652,"x2",652,null,{"$f":"M1106*100/M1571","v":1.5888875350310709},182,2,8,192,859,0.92791411042944782,4.6012269938650305E-2,2.6073619631901839E-2,{"$f":"L1106*100/B$1537","v":600.70671378091868},2.6073619631901839E-2]
["2020-03-20T17:00:00",15,"Campania",130,41,171,531,702,97,97,30,17,749,3845,null,652,652,"",null,{"$f":"M1107*100/M1572","v":1.5929052976329725},-85,"","",97,{"$f":"IF(N1107-N1106=0,\"\",N1107-N1106)","v":301},0.93724966622162886,4.0053404539385849E-2,2.2696929238985315E-2,{"$f":"L1107*100/B$1537","v":600.70671378091868},2.2696929238985315E-2]
["2020-03-21T17:00:00",15,"Campania",233,87,320,473,793,91,91,29,22,844,4448,null,652,652,"",null,{"$f":"M1108*100/M1573","v":1.5752734331255367},-6,-1,5,{"$f":"IF(M1108-M1107=0,\"\",M1108-M1107)","v":95},603,0.93957345971563977,3.4360189573459717E-2,2.6066350710900472E-2,{"$f":"L1108*100/B$1537","v":777.38515901060066},2.6066350710900472E-2]
["2020-03-22T17:00:00",15,"Campania",243,99,342,524,866,73,73,41,29,936,4943,null,652,652,"",null,{"$f":"M1109*100/M1574","v":1.5827386790219486},-18,12,7,92,495,0.92521367521367526,4.38034188034188E-2,3.0982905982905984E-2,{"$f":"L1109*100/B$1537","v":1024.7349823321554},3.0982905982905984E-2]
["2020-03-23T17:00:00",15,"Campania",266,110,376,553,929,63,63,48,49,1026,5813,null,652,652,"",null,{"$f":"M1110*100/M1575","v":1.6049556525411799},-10,7,20,90,870,0.90545808966861596,4.6783625730994149E-2,4.7758284600389861E-2,{"$f":"L1110*100/B$1537","v":1731.4487632508833},4.7758284600389861E-2]
["2020-03-24T17:00:00",15,"Campania",345,181,526,466,992,63,63,53,56,1101,6297,null,652,652,"",null,{"$f":"M1111*100/M1576","v":1.5915924598126518},"",5,7,75,484,0.90099909173478654,4.8138056312443236E-2,5.0862851952770211E-2,{"$f":"L1111*100/B$1537","v":1978.7985865724381},5.0862851952770211E-2]
["2020-03-25T17:00:00",15,"Campania",318,123,441,631,1072,80,80,53,74,1199,6972,null,652,652,"",null,{"$f":"M1112*100/M1577","v":1.6118624472346947},17,"",18,98,675,0.89407839866555461,4.4203502919099247E-2,6.1718098415346125E-2,{"$f":"L1112*100/B$1537","v":2614.840989399293},6.1718098415346125E-2]
["2020-03-26T17:00:00",15,"Campania",448,114,562,607,1169,97,97,58,83,1310,8346,null,1310,"x2",1310,null,{"$f":"M1113*100/M1578","v":1.6265411788077826},17,5,9,111,{"$f":"IF(N1113-N1112=0,\"\",N1113-N1112)","v":1374},0.89236641221374047,4.4274809160305344E-2,6.3358778625954196E-2,{"$f":"L1113*100/B$1537","v":2932.8621908127207},6.3358778625954196E-2]
["2020-03-27T17:00:00",15,"Campania",456,113,569,723,1292,123,144,64,98,1454,9613,null,{"$f":"IF(Q1114=\"x2\",M1114,P1113)","v":1310},{"$f":"IF(M1114>P1113*2,\"x2\",P1113)","v":1310},{"$f":"IF(Q1114=\"x2\",M1114,\"\")","v":""},null,{"$f":"M1114*100/M1579","v":1.6809637217045481},{"$f":"IF(J1114-J1113=0,\"\",J1114-J1113)","v":47},6,15,144,1267,0.88858321870701518,4.4016506189821183E-2,6.7400275103163682E-2,{"$f":"L1114*100/B$1537","v":3462.8975265017666},6.7400275103163682E-2]
["2020-03-28T17:00:00",15,"Campania",463,132,595,812,1407,115,138,76,109,1592,10616,null,1310,1310,"",null,{"$f":"M1115*100/M1580","v":1.7216022147244572},-6,12,11,138,1003,0.88379396984924619,4.7738693467336682E-2,6.846733668341709E-2,{"$f":"L1115*100/B$1537","v":3851.5901060070669},6.846733668341709E-2]
["2020-03-29T17:00:00",15,"Campania",476,135,611,945,1556,149,167,86,117,1759,11805,null,1310,1310,"",null,{"$f":"M1116*100/M1581","v":1.8006121467104792},29,10,8,167,1189,0.8845935190449119,4.8891415577032402E-2,6.651506537805571E-2,{"$f":"L1116*100/B$1537","v":4134.2756183745578},6.651506537805571E-2]
["2020-03-30T17:00:00",15,"Campania",468,126,594,1145,1739,183,193,88,125,1952,12969,null,1310,1310,"",null,{"$f":"M1117*100/M1582","v":1.9186349384208612},26,2,8,193,1164,0.89088114754098358,4.5081967213114756E-2,6.4036885245901634E-2,{"$f":"L1117*100/B$1537","v":4416.9611307420491},6.4036885245901634E-2]
["2020-03-31T17:00:00",15,"Campania",501,133,634,1237,1871,132,140,88,133,2092,14403,null,1310,1310,"",null,{"$f":"M1118*100/M1583","v":1.9774652147610405},-53,"",8,140,1434,0.8943594646271511,4.2065009560229447E-2,6.3575525812619507E-2,{"$f":"L1118*100/B$1537","v":4699.6466431095405},6.3575525812619507E-2]
["2020-04-01T17:00:00",15,"Campania",478,129,607,1369,1976,105,139,107,148,2231,15728,null,1310,1310,"",null,{"$f":"M1119*100/M1584","v":2.017653336227323},-1,19,15,139,{"$f":"IF(N1119-N1118=0,\"\",N1119-N1118)","v":1325},{"$f":"IF(M1119=0,0,H1119/M1119)","v":0.88570147915732855},{"$f":"IF(M1119=0,0,K1119/M1119)","v":4.7960555804571939E-2},{"$f":"IF(M1119=0,0,L1119/M1119)","v":6.6337965038099508E-2},{"$f":"L1119*100/B$1537","v":5229.681978798586},6.6337965038099508E-2]
["2020-04-02T17:00:00",15,"Campania",503,120,623,1517,2140,164,225,149,167,2456,17404,null,{"$f":"IF(Q1120=\"x2\",M1120,P1119)","v":1310},{"$f":"IF(M1120>P1119*2,\"x2\",P1119)","v":1310},{"$f":"IF(Q1120=\"x2\",M1120,\"\")","v":""},null,{"$f":"M1120*100/M1585","v":2.1311674563093317},{"$f":"IF(J1120-J1119=0,\"\",J1120-J1119)","v":86},{"$f":"IF(K1120-K1119=0,\"\",K1120-K1119)","v":42},{"$f":"IF(L1120-L1119=0,\"\",L1120-L1119)","v":19},{"$f":"IF(M1120-M1119=0,\"\",M1120-M1119)","v":225},1676,0.87133550488599354,6.0667752442996742E-2,6.7996742671009774E-2,{"$f":"L1120*100/B$1537","v":5901.0600706713776},6.7996742671009774E-2]
["2020-04-03T17:00:00",15,"Campania",532,115,647,1705,2352,212,221,144,181,2677,19237,null,{"$f":"IF(Q1121=\"x2\",M1121,P1120)","v":2677},{"$f":"IF(M1121>P1120*2,\"x2\",P1120)","v":"x2"},{"$f":"IF(Q1121=\"x2\",M1121,\"\")","v":2677},null,{"$f":"M1121*100/M1586","v":2.2340540946531249},{"$f":"IF(J1121-J1120=0,\"\",J1121-J1120)","v":-4},{"$f":"IF(K1121-K1120=0,\"\",K1121-K1120)","v":-5},{"$f":"IF(L1121-L1120=0,\"\",L1121-L1120)","v":14},{"$f":"IF(M1121-M1120=0,\"\",M1121-M1120)","v":221},1833,0.87859544265969369,5.3791557713858795E-2,6.7612999626447512E-2,{"$f":"L1121*100/B$1537","v":6395.7597173144877},6.7612999626447512E-2]
["2020-04-04T17:00:00",15,"Campania",567,114,681,1815,2496,144,151,146,186,2828,21534,null,{"$f":"IF(Q1122=\"x2\",M1122,P1121)","v":2677},{"$f":"IF(M1122>P1121*2,\"x2\",P1121)","v":2677},{"$f":"IF(Q1122=\"x2\",M1122,\"\")","v":""},null,{"$f":"M1122*100/M1587","v":2.2690801720264457},{"$f":"IF(J1122-J1121=0,\"\",J1122-J1121)","v":-70},{"$f":"IF(K1122-K1121=0,\"\",K1122-K1121)","v":2},{"$f":"IF(L1122-L1121=0,\"\",L1122-L1121)","v":5},{"$f":"IF(M1122-M1121=0,\"\",M1122-M1121)","v":151},2297,0.88260254596888266,5.1626591230551626E-2,6.5770862800565766E-2,{"$f":"L1122*100/B$1537","v":6572.4381625441692},6.5770862800565766E-2]
["2020-04-05T17:00:00",15,"Campania",609,108,717,1904,2621,125,132,150,189,2960,23139,null,{"$f":"IF(Q1123=\"x2\",M1123,P1122)","v":2677},{"$f":"IF(M1123>P1122*2,\"x2\",P1122)","v":2677},{"$f":"IF(Q1123=\"x2\",M1123,\"\")","v":""},null,{"$f":"M1123*100/M1588","v":2.2954989608214165},{"$f":"IF(J1123-J1122=0,\"\",J1123-J1122)","v":-19},{"$f":"IF(K1123-K1122=0,\"\",K1123-K1122)","v":4},{"$f":"IF(L1123-L1122=0,\"\",L1123-L1122)","v":3},{"$f":"IF(M1123-M1122=0,\"\",M1123-M1122)","v":132},1605,0.885472972972973,5.0675675675675678E-2,6.3851351351351351E-2,{"$f":"L1123*100/B$1537","v":6678.4452296819791},6.3851351351351351E-2]
["2020-04-06T17:00:00",15,"Campania",610,101,711,1987,2698,77,98,156,204,3058,24526,null,{"$f":"IF(Q1124=\"x2\",M1124,P1123)","v":2677},{"$f":"IF(M1124>P1123*2,\"x2\",P1123)","v":2677},{"$f":"IF(Q1124=\"x2\",M1124,\"\")","v":""},null,{"$f":"M1124*100/M1589","v":2.3071061585701678},{"$f":"IF(J1124-J1123=0,\"\",J1124-J1123)","v":-34},{"$f":"IF(K1124-K1123=0,\"\",K1124-K1123)","v":6},{"$f":"IF(L1124-L1123=0,\"\",L1124-L1123)","v":15},{"$f":"IF(M1124-M1123=0,\"\",M1124-M1123)","v":98},1387,0.88227599738391105,5.1013734466971876E-2,6.6710268149117069E-2,{"$f":"L1124*100/B$1537","v":7208.4805653710246},6.6710268149117069E-2]
["2020-04-07T17:00:00",15,"Campania",603,103,706,2059,2765,67,90,167,216,3148,25779,null,{"$f":"IF(Q1125=\"x2\",M1125,P1124)","v":2677},{"$f":"IF(M1125>P1124*2,\"x2\",P1124)","v":2677},{"$f":"IF(Q1125=\"x2\",M1125,\"\")","v":""},null,{"$f":"M1125*100/M1590","v":2.3217736344460342},{"$f":"IF(J1125-J1124=0,\"\",J1125-J1124)","v":-8},{"$f":"IF(K1125-K1124=0,\"\",K1125-K1124)","v":11},{"$f":"IF(L1125-L1124=0,\"\",L1125-L1124)","v":12},{"$f":"IF(M1125-M1124=0,\"\",M1125-M1124)","v":90},{"$f":"IF(N1125-N1124=0,\"\",N1125-N1124)","v":1253},{"$f":"IF(M1125=0,0,H1125/M1125)","v":0.87833545108005084},{"$f":"IF(M1125=0,0,K1125/M1125)","v":5.3049555273189324E-2},{"$f":"IF(M1125=0,0,L1125/M1125)","v":6.8614993646759853E-2},{"$f":"L1125*100/B$1537","v":7632.5088339222611},6.8614993646759853E-2]
["2020-04-08T17:00:00",15,"Campania",608,97,705,2154,2859,94,120,188,221,3268,27784,null,{"$f":"IF(Q1126=\"x2\",M1126,P1125)","v":2677},{"$f":"IF(M1126>P1125*2,\"x2\",P1125)","v":2677},{"$f":"IF(Q1126=\"x2\",M1126,\"\")","v":""},null,{"$f":"M1126*100/M1591","v":2.343962932679204},{"$f":"IF(J1126-J1125=0,\"\",J1126-J1125)","v":30},{"$f":"IF(K1126-K1125=0,\"\",K1126-K1125)","v":21},{"$f":"IF(L1126-L1125=0,\"\",L1126-L1125)","v":5},{"$f":"IF(M1126-M1125=0,\"\",M1126-M1125)","v":120},{"$f":"IF(N1126-N1125=0,\"\",N1126-N1125)","v":2005},{"$f":"IF(M1126=0,0,H1126/M1126)","v":0.87484700122399017},{"$f":"IF(M1126=0,0,K1126/M1126)","v":5.7527539779681759E-2},{"$f":"IF(M1126=0,0,L1126/M1126)","v":6.7625458996328033E-2},{"$f":"L1126*100/B$1537","v":7809.1872791519436},6.7625458996328033E-2]
["2020-04-09T17:00:00",15,"Campania",604,94,698,2175,2873,14,76,244,227,3344,29664,null,{"$f":"IF(Q1127=\"x2\",M1127,P1126)","v":2677},{"$f":"IF(M1127>P1126*2,\"x2\",P1126)","v":2677},{"$f":"IF(Q1127=\"x2\",M1127,\"\")","v":""},null,{"$f":"M1127*100/M1592","v":2.3282692548702881},{"$f":"IF(J1127-J1126=0,\"\",J1127-J1126)","v":-44},{"$f":"IF(K1127-K1126=0,\"\",K1127-K1126)","v":56},{"$f":"IF(L1127-L1126=0,\"\",L1127-L1126)","v":6},{"$f":"IF(M1127-M1126=0,\"\",M1127-M1126)","v":76},{"$f":"IF(N1127-N1126=0,\"\",N1127-N1126)","v":1880},{"$f":"IF(M1127=0,0,H1127/M1127)","v":0.85915071770334928},{"$f":"IF(M1127=0,0,K1127/M1127)","v":7.2966507177033499E-2},{"$f":"IF(M1127=0,0,L1127/M1127)","v":6.7882775119617225E-2},{"$f":"L1127*100/B$1537","v":8021.2014134275614},6.7882775119617225E-2]
["2020-04-10T17:00:00",15,"Campania",600,90,690,2273,2963,90,98,248,231,3442,31745,null,{"$f":"IF(Q1128=\"x2\",M1128,P1127)","v":2677},{"$f":"IF(M1128>P1127*2,\"x2\",P1127)","v":2677},{"$f":"IF(Q1128=\"x2\",M1128,\"\")","v":""},null,{"$f":"M1128*100/M1593","v":2.3323417605724468},{"$f":"IF(J1128-J1127=0,\"\",J1128-J1127)","v":22},{"$f":"IF(K1128-K1127=0,\"\",K1128-K1127)","v":4},{"$f":"IF(L1128-L1127=0,\"\",L1128-L1127)","v":4},{"$f":"IF(M1128-M1127=0,\"\",M1128-M1127)","v":98},{"$f":"IF(N1128-N1127=0,\"\",N1128-N1127)","v":2081},{"$f":"IF(M1128=0,0,H1128/M1128)","v":0.86083672283556067},{"$f":"IF(M1128=0,0,K1128/M1128)","v":7.2051133062173159E-2},{"$f":"IF(M1128=0,0,L1128/M1128)","v":6.7112144102266125E-2},{"$f":"L1128*100/B$1537","v":8162.5441696113076},6.7112144102266125E-2]
["2020-04-11T17:00:00",15,"Campania",582,85,667,2335,3002,39,75,277,238,3517,33781,null,{"$f":"IF(Q1129=\"x2\",M1129,P1128)","v":2677},{"$f":"IF(M1129>P1128*2,\"x2\",P1128)","v":2677},{"$f":"IF(Q1129=\"x2\",M1129,\"\")","v":""},null,{"$f":"M1129*100/M1594","v":2.309697841348648},{"$f":"IF(J1129-J1128=0,\"\",J1129-J1128)","v":-23},{"$f":"IF(K1129-K1128=0,\"\",K1129-K1128)","v":29},{"$f":"IF(L1129-L1128=0,\"\",L1129-L1128)","v":7},{"$f":"IF(M1129-M1128=0,\"\",M1129-M1128)","v":75},{"$f":"IF(N1129-N1128=0,\"\",N1129-N1128)","v":2036},{"$f":"IF(M1129=0,0,H1129/M1129)","v":0.85356838214387265},{"$f":"IF(M1129=0,0,K1129/M1129)","v":7.8760307079897646E-2},{"$f":"IF(M1129=0,0,L1129/M1129)","v":6.7671310776229746E-2},{"$f":"L1129*100/B$1537","v":8409.8939929328626},6.7671310776229746E-2]
["2020-04-12T17:00:00",15,"Campania",526,82,608,2449,3057,55,87,305,242,3604,35448,null,{"$f":"IF(Q1130=\"x2\",M1130,P1129)","v":2677},{"$f":"IF(M1130>P1129*2,\"x2\",P1129)","v":2677},{"$f":"IF(Q1130=\"x2\",M1130,\"\")","v":""},null,{"$f":"M1130*100/M1595","v":2.3048931013091334},{"$f":"IF(J1130-J1129=0,\"\",J1130-J1129)","v":12},{"$f":"IF(K1130-K1129=0,\"\",K1130-K1129)","v":28},{"$f":"IF(L1130-L1129=0,\"\",L1130-L1129)","v":4},{"$f":"IF(M1130-M1129=0,\"\",M1130-M1129)","v":87},{"$f":"IF(N1130-N1129=0,\"\",N1130-N1129)","v":1667},{"$f":"IF(M1130=0,0,H1130/M1130)","v":0.84822419533851279},{"$f":"IF(M1130=0,0,K1130/M1130)","v":8.4628190899001116E-2},{"$f":"IF(M1130=0,0,L1130/M1130)","v":6.7147613762486125E-2},{"$f":"L1130*100/B$1537","v":8551.2367491166078},6.7147613762486125E-2]
["2020-04-13T17:00:00",15,"Campania",606,80,686,2376,3062,5,66,360,248,3670,36770,null,{"$f":"IF(Q1131=\"x2\",M1131,P1130)","v":2677},{"$f":"IF(M1131>P1130*2,\"x2\",P1130)","v":2677},{"$f":"IF(Q1131=\"x2\",M1131,\"\")","v":""},null,{"$f":"M1131*100/M1596","v":2.3007096466812107},{"$f":"IF(J1131-J1130=0,\"\",J1131-J1130)","v":-21},{"$f":"IF(K1131-K1130=0,\"\",K1131-K1130)","v":55},{"$f":"IF(L1131-L1130=0,\"\",L1131-L1130)","v":6},{"$f":"IF(M1131-M1130=0,\"\",M1131-M1130)","v":66},{"$f":"IF(N1131-N1130=0,\"\",N1131-N1130)","v":1322},{"$f":"IF(M1131=0,0,H1131/M1131)","v":0.83433242506811989},{"$f":"IF(M1131=0,0,K1131/M1131)","v":9.8092643051771122E-2},{"$f":"IF(M1131=0,0,L1131/M1131)","v":6.757493188010899E-2},{"$f":"L1131*100/B$1537","v":8763.2508833922257},6.757493188010899E-2]
["2020-04-14T17:00:00",15,"Campania",618,82,700,2394,3094,32,99,415,260,3769,38094,null,{"$f":"IF(Q1132=\"x2\",M1132,P1131)","v":2677},{"$f":"IF(M1132>P1131*2,\"x2\",P1131)","v":2677},{"$f":"IF(Q1132=\"x2\",M1132,\"\")","v":""},null,{"$f":"M1132*100/M1597","v":2.31955590566688},{"$f":"IF(J1132-J1131=0,\"\",J1132-J1131)","v":33},{"$f":"IF(K1132-K1131=0,\"\",K1132-K1131)","v":55},{"$f":"IF(L1132-L1131=0,\"\",L1132-L1131)","v":12},{"$f":"IF(M1132-M1131=0,\"\",M1132-M1131)","v":99},{"$f":"IF(N1132-N1131=0,\"\",N1132-N1131)","v":1324},{"$f":"IF(M1132=0,0,H1132/M1132)","v":0.82090740249403027},{"$f":"IF(M1132=0,0,K1132/M1132)","v":0.11010878217033696},{"$f":"IF(M1132=0,0,L1132/M1132)","v":6.8983815335632789E-2},{"$f":"L1132*100/B$1537","v":9187.2791519434631},6.8983815335632789E-2]
["2020-04-15T17:00:00",15,"Campania",607,86,693,2394,3087,-7,38,442,278,3807,39534,null,{"$f":"IF(Q1133=\"x2\",M1133,P1132)","v":2677},{"$f":"IF(M1133>P1132*2,\"x2\",P1132)","v":2677},{"$f":"IF(Q1133=\"x2\",M1133,\"\")","v":""},null,{"$f":"M1133*100/M1598","v":2.3051073234234507},{"$f":"IF(J1133-J1132=0,\"\",J1133-J1132)","v":-61},{"$f":"IF(K1133-K1132=0,\"\",K1133-K1132)","v":27},{"$f":"IF(L1133-L1132=0,\"\",L1133-L1132)","v":18},{"$f":"IF(M1133-M1132=0,\"\",M1133-M1132)","v":38},{"$f":"IF(N1133-N1132=0,\"\",N1133-N1132)","v":1440},{"$f":"IF(M1133=0,0,H1133/M1133)","v":0.81087470449172572},{"$f":"IF(M1133=0,0,K1133/M1133)","v":0.11610191752035724},{"$f":"IF(M1133=0,0,L1133/M1133)","v":7.3023377987916999E-2},{"$f":"L1133*100/B$1537","v":9823.3215547703185},7.3023377987916999E-2]
["2020-04-16T17:00:00",15,"Campania",618,76,694,2424,3118,31,80,483,286,3887,41296,null,{"$f":"IF(Q1134=\"x2\",M1134,P1133)","v":2677},{"$f":"IF(M1134>P1133*2,\"x2\",P1133)","v":2677},{"$f":"IF(Q1134=\"x2\",M1134,\"\")","v":""},null,{"$f":"M1134*100/M1599","v":2.3008032390005977},{"$f":"IF(J1134-J1133=0,\"\",J1134-J1133)","v":42},{"$f":"IF(K1134-K1133=0,\"\",K1134-K1133)","v":41},{"$f":"IF(L1134-L1133=0,\"\",L1134-L1133)","v":8},{"$f":"IF(M1134-M1133=0,\"\",M1134-M1133)","v":80},{"$f":"IF(N1134-N1133=0,\"\",N1134-N1133)","v":1762},{"$f":"IF(M1134=0,0,H1134/M1134)","v":0.80216104965268842},{"$f":"IF(M1134=0,0,K1134/M1134)","v":0.1242603550295858},{"$f":"IF(M1134=0,0,L1134/M1134)","v":7.3578595317725759E-2},{"$f":"L1134*100/B$1537","v":10106.007067137809},7.3578595317725759E-2]
["2020-04-17T17:00:00",15,"Campania",622,76,698,2329,3027,-91,64,631,293,3951,43697,null,{"$f":"IF(Q1135=\"x2\",M1135,P1134)","v":2677},{"$f":"IF(M1135>P1134*2,\"x2\",P1134)","v":2677},{"$f":"IF(Q1135=\"x2\",M1135,\"\")","v":""},null,{"$f":"M1135*100/M1600","v":2.2913114582970877},{"$f":"IF(J1135-J1134=0,\"\",J1135-J1134)","v":-16},{"$f":"IF(K1135-K1134=0,\"\",K1135-K1134)","v":148},{"$f":"IF(L1135-L1134=0,\"\",L1135-L1134)","v":7},{"$f":"IF(M1135-M1134=0,\"\",M1135-M1134)","v":64},{"$f":"IF(N1135-N1134=0,\"\",N1135-N1134)","v":2401},{"$f":"IF(M1135=0,0,H1135/M1135)","v":0.7661351556567958},{"$f":"IF(M1135=0,0,K1135/M1135)","v":0.15970640344216655},{"$f":"IF(M1135=0,0,L1135/M1135)","v":7.4158440901037709E-2},{"$f":"L1135*100/B$1537","v":10353.356890459363},7.4158440901037709E-2]
["2020-04-18T17:00:00",15,"Campania",605,76,681,2364,3045,18,37,643,300,3988,46294,null,{"$f":"IF(Q1136=\"x2\",M1136,P1135)","v":2677},{"$f":"IF(M1136>P1135*2,\"x2\",P1135)","v":2677},{"$f":"IF(Q1136=\"x2\",M1136,\"\")","v":""},null,{"$f":"M1136*100/M1601","v":2.2668750888162568},{"$f":"IF(J1136-J1135=0,\"\",J1136-J1135)","v":-27},{"$f":"IF(K1136-K1135=0,\"\",K1136-K1135)","v":12},{"$f":"IF(L1136-L1135=0,\"\",L1136-L1135)","v":7},{"$f":"IF(M1136-M1135=0,\"\",M1136-M1135)","v":37},{"$f":"IF(N1136-N1135=0,\"\",N1136-N1135)","v":2597},{"$f":"IF(M1136=0,0,H1136/M1136)","v":0.76354062186559679},{"$f":"IF(M1136=0,0,K1136/M1136)","v":0.16123370110330992},{"$f":"IF(M1136=0,0,L1136/M1136)","v":7.5225677031093285E-2},{"$f":"L1136*100/B$1537","v":10600.706713780919},7.5225677031093285E-2]
["2020-04-19T17:00:00",15,"Campania",590,61,651,2371,3022,-23,41,703,304,4029,48187,34994,{"$f":"IF(Q1137=\"x2\",M1137,P1136)","v":2677},{"$f":"IF(M1137>P1136*2,\"x2\",P1136)","v":2677},{"$f":"IF(Q1137=\"x2\",M1137,\"\")","v":""},null,{"$f":"M1137*100/M1602","v":2.2511901302997117},{"$f":"IF(J1137-J1136=0,\"\",J1137-J1136)","v":4},{"$f":"IF(K1137-K1136=0,\"\",K1137-K1136)","v":60},{"$f":"IF(L1137-L1136=0,\"\",L1137-L1136)","v":4},{"$f":"IF(M1137-M1136=0,\"\",M1137-M1136)","v":41},{"$f":"IF(N1137-N1136=0,\"\",N1137-N1136)","v":1893},{"$f":"IF(M1137=0,0,H1137/M1137)","v":0.75006205013651028},{"$f":"IF(M1137=0,0,K1137/M1137)","v":0.17448498386696451},{"$f":"IF(M1137=0,0,L1137/M1137)","v":7.5452965996525193E-2},{"$f":"L1137*100/B$1537","v":10742.049469964664},7.5452965996525193E-2]
["2020-04-20T17:00:00",15,"Campania",586,61,647,2372,3019,-3,45,746,309,4074,51090,36153,{"$f":"IF(Q1138=\"x2\",M1138,P1137)","v":2677},{"$f":"IF(M1138>P1137*2,\"x2\",P1137)","v":2677},{"$f":"IF(Q1138=\"x2\",M1138,\"\")","v":""},null,{"$f":"M1138*100/M1603","v":2.2479969982563399},{"$f":"IF(J1138-J1137=0,\"\",J1138-J1137)","v":4},{"$f":"IF(K1138-K1137=0,\"\",K1138-K1137)","v":43},{"$f":"IF(L1138-L1137=0,\"\",L1138-L1137)","v":5},{"$f":"IF(M1138-M1137=0,\"\",M1138-M1137)","v":45},{"$f":"IF(N1138-N1137=0,\"\",N1138-N1137)","v":2903},{"$f":"IF(M1138=0,0,H1138/M1138)","v":0.7410407461953854},{"$f":"IF(M1138=0,0,K1138/M1138)","v":0.18311242022582228},{"$f":"IF(M1138=0,0,L1138/M1138)","v":7.5846833578792336E-2},{"$f":"L1138*100/B$1537","v":10918.727915194346},7.5846833578792336E-2]
["2020-04-21T17:00:00",15,"Campania",532,58,590,2356,2946,-73,61,872,317,4135,53548,37505,2677,{"$f":"IF(M1139>P1138*2,\"x2\",P1138)","v":2677},{"$f":"IF(Q1139=\"x2\",M1139,\"\")","v":""},null,{"$f":"M1139*100/M1604","v":2.2478079116315226},{"$f":"IF(J1139-J1138=0,\"\",J1139-J1138)","v":16},{"$f":"IF(K1139-K1138=0,\"\",K1139-K1138)","v":126},{"$f":"IF(L1139-L1138=0,\"\",L1139-L1138)","v":8},{"$f":"IF(M1139-M1138=0,\"\",M1139-M1138)","v":61},{"$f":"IF(N1139-N1138=0,\"\",N1139-N1138)","v":2458},{"$f":"IF(M1139=0,0,H1139/M1139)","v":0.71245465538089481},{"$f":"IF(M1139=0,0,K1139/M1139)","v":0.21088270858524788},{"$f":"IF(M1139=0,0,L1139/M1139)","v":7.6662636033857312E-2},{"$f":"L1139*100/B$1537","v":11201.413427561838},7.6662636033857312E-2]
["2020-04-22T17:00:00",15,"Campania",523,53,576,2422,2998,52,50,860,327,4185,55701,38679,2677,{"$f":"IF(M1140>P1139*2,\"x2\",P1139)","v":2677},{"$f":"IF(Q1140=\"x2\",M1140,\"\")","v":""},null,{"$f":"M1140*100/M1605","v":2.23406129388716},{"$f":"IF(J1140-J1139=0,\"\",J1140-J1139)","v":-11},{"$f":"IF(K1140-K1139=0,\"\",K1140-K1139)","v":-12},{"$f":"IF(L1140-L1139=0,\"\",L1140-L1139)","v":10},{"$f":"IF(M1140-M1139=0,\"\",M1140-M1139)","v":50},{"$f":"IF(N1140-N1139=0,\"\",N1140-N1139)","v":2153},{"$f":"IF(M1140=0,0,H1140/M1140)","v":0.71636798088410991},{"$f":"IF(M1140=0,0,K1140/M1140)","v":0.20549581839904421},{"$f":"IF(M1140=0,0,L1140/M1140)","v":7.8136200716845877E-2},{"$f":"L1140*100/B$1537","v":11554.770318021201},7.8136200716845877E-2]
["2020-04-23T17:00:00",15,"Campania",539,47,586,2392,2978,-20,53,928,332,4238,58324,38679,{"$f":"IF(Q1141=\"x2\",M1141,P1140)","v":2677},{"$f":"IF(M1141>P1140*2,\"x2\",P1140)","v":2677},{"$f":"IF(Q1141=\"x2\",M1141,\"\")","v":""},null,{"$f":"M1141*100/M1606","v":2.2308433303679998},{"$f":"IF(J1141-J1140=0,\"\",J1141-J1140)","v":3},{"$f":"IF(K1141-K1140=0,\"\",K1141-K1140)","v":68},{"$f":"IF(L1141-L1140=0,\"\",L1141-L1140)","v":5},{"$f":"IF(M1141-M1140=0,\"\",M1141-M1140)","v":53},{"$f":"IF(N1141-N1140=0,\"\",N1141-N1140)","v":2623},{"$f":"IF(M1141=0,0,H1141/M1141)","v":0.70268994808872109},{"$f":"IF(M1141=0,0,K1141/M1141)","v":0.21897121283624352},{"$f":"IF(M1141=0,0,L1141/M1141)","v":7.8338839075035388E-2},{"$f":"L1141*100/B$1537","v":11731.448763250883},{"$f":"IF(M1141=0,0,L1141/M1141)","v":7.8338839075035388E-2}]
["2020-04-24T17:00:00",15,"Campania",524,44,568,2375,2943,-35,44,1003,336,4282,61331,40053,{"$f":"IF(Q1142=\"x2\",M1142,P1141)","v":2677},{"$f":"IF(M1142>P1141*2,\"x2\",P1141)","v":2677},{"$f":"IF(Q1142=\"x2\",M1142,\"\")","v":""},null,{"$f":"M1142*100/M1607","v":2.2187218255489807},{"$f":"IF(J1142-J1141=0,\"\",J1142-J1141)","v":-9},{"$f":"IF(K1142-K1141=0,\"\",K1142-K1141)","v":75},{"$f":"IF(L1142-L1141=0,\"\",L1142-L1141)","v":4},{"$f":"IF(M1142-M1141=0,\"\",M1142-M1141)","v":44},{"$f":"IF(N1142-N1141=0,\"\",N1142-N1141)","v":3007},{"$f":"IF(M1142=0,0,H1142/M1142)","v":0.68729565623540401},{"$f":"IF(M1142=0,0,K1142/M1142)","v":0.23423633815973843},{"$f":"IF(M1142=0,0,L1142/M1142)","v":7.8468005604857546E-2},{"$f":"L1142*100/B$1537","v":11872.791519434628},{"$f":"IF(M1142=0,0,L1142/M1142)","v":7.8468005604857546E-2}]
["2020-04-25T17:00:00",15,"Campania",543,55,598,2337,2935,-8,17,1023,341,4299,64521,41399,{"$f":"IF(Q1143=\"x2\",M1143,P1142)","v":2677},{"$f":"IF(M1143>P1142*2,\"x2\",P1142)","v":2677},{"$f":"IF(Q1143=\"x2\",M1143,\"\")","v":""},null,{"$f":"M1143*100/M1608","v":2.2006542070427075},{"$f":"IF(J1143-J1142=0,\"\",J1143-J1142)","v":-27},{"$f":"IF(K1143-K1142=0,\"\",K1143-K1142)","v":20},{"$f":"IF(L1143-L1142=0,\"\",L1143-L1142)","v":5},{"$f":"IF(M1143-M1142=0,\"\",M1143-M1142)","v":17},{"$f":"IF(N1143-N1142=0,\"\",N1143-N1142)","v":3190},{"$f":"IF(M1143=0,0,H1143/M1143)","v":0.68271691090951381},{"$f":"IF(M1143=0,0,K1143/M1143)","v":0.23796231681786462},{"$f":"IF(M1143=0,0,L1143/M1143)","v":7.9320772272621534E-2},{"$f":"L1143*100/B$1537","v":12049.469964664311},{"$f":"IF(M1143=0,0,L1143/M1143)","v":7.9320772272621534E-2}]
["2020-04-26T17:00:00",15,"Campania",536,45,581,2343,2924,-11,32,1062,345,4331,67218,42279,{"$f":"IF(Q1144=\"x2\",M1144,P1143)","v":2677},{"$f":"IF(M1144>P1143*2,\"x2\",P1143)","v":2677},{"$f":"IF(Q1144=\"x2\",M1144,\"\")","v":""},null,{"$f":"M1144*100/M1609","v":2.1909700265587455},{"$f":"IF(J1144-J1143=0,\"\",J1144-J1143)","v":15},{"$f":"IF(K1144-K1143=0,\"\",K1144-K1143)","v":39},{"$f":"IF(L1144-L1143=0,\"\",L1144-L1143)","v":4},{"$f":"IF(M1144-M1143=0,\"\",M1144-M1143)","v":32},{"$f":"IF(N1144-N1143=0,\"\",N1144-N1143)","v":2697},{"$f":"IF(M1144=0,0,H1144/M1144)","v":0.67513276379589005},{"$f":"IF(M1144=0,0,K1144/M1144)","v":0.2452089586700531},{"$f":"IF(M1144=0,0,L1144/M1144)","v":7.9658277534056798E-2},{"$f":"L1144*100/B$1537","v":12190.812720848056},{"$f":"IF(M1144=0,0,L1144/M1144)","v":7.9658277534056798E-2}]
["2020-04-27T17:00:00",15,"Campania",541,37,578,2299,2877,-47,18,1120,352,4349,68727,42463,{"$f":"IF(Q1145=\"x2\",M1145,P1144)","v":2677},{"$f":"IF(M1145>P1144*2,\"x2\",P1144)","v":2677},{"$f":"IF(Q1145=\"x2\",M1145,\"\")","v":""},null,{"$f":"M1145*100/M1610","v":2.1808900077226272},{"$f":"IF(J1145-J1144=0,\"\",J1145-J1144)","v":-14},{"$f":"IF(K1145-K1144=0,\"\",K1145-K1144)","v":58},{"$f":"IF(L1145-L1144=0,\"\",L1145-L1144)","v":7},{"$f":"IF(M1145-M1144=0,\"\",M1145-M1144)","v":18},{"$f":"IF(N1145-N1144=0,\"\",N1145-N1144)","v":1509},{"$f":"IF(M1145=0,0,H1145/M1145)","v":0.66153138652563803},{"$f":"IF(M1145=0,0,K1145/M1145)","v":0.25753046677397101},{"$f":"IF(M1145=0,0,L1145/M1145)","v":8.0938146700390901E-2},{"$f":"L1145*100/B$1537","v":12438.162544169611},{"$f":"IF(M1145=0,0,L1145/M1145)","v":8.0938146700390901E-2}]
[{"$f":"A1145 + 1","v":"2020-04-28T17:00:00"},null,null,null,null,null,null,null,null,null,null,null,null,null,null,null,"Media x2",{"$f":"COUNT(N1082:N1145) / COUNT(R1082:R1145)","v":6.4}]
[{"$f":"A1146+1","v":"2020-04-29T17:00:00"}]
[{"$f":"A1147+1","v":"2020-04-30T17:00:00"}]
[null,null,null,null,{"$f":"E1145/$M1145","v":8.507702920211543E-3},null,null,{"$f":"H1145/$M1145","v":0.66153138652563803},null,null,{"$f":"K1145/$M1145","v":0.25753046677397101},{"$f":"L1145/$M1145","v":8.0938146700390901E-2},null,{"$f":"N1145/$M1145","v":15.802943205334559}]
[]
[]
[]
["Data","Codice","Regione","Ricoverati","Terap. Intens.","Ospedalizzati","Quarantena","Positivi","+ Positivi","Nuovi","Guariti","Deceduti","Totale","Tamponi",null,null,null,"x 2",null,"% su Tot.","+ Nuovi","+ Guariti","+ Deceduti","+ Totali","+ Tamponi","% Positivi","% Guariti","% Deceduti","P. Stimati","% Morti"]
["2020-02-24T18:00:00",16,"Puglia",0,0,0,0,0,0,0,0,0,0,0,null,{"$f":"M1154","v":0},null,{"$f":"M1154","v":0},null,{"$f":"M1154*100/M1547","v":0},null,null,null,null,null,{"$f":"IF(M1154=0,0,H1154/M1154)","v":0},{"$f":"IF(M1154=0,0,K1154/M1154)","v":0},{"$f":"IF(M1154=0,0,L1154/M1154)","v":0},{"$f":"L1154*100/B$1537","v":0},{"$f":"IF(M1154=0,0,L1154/M1154)","v":0}]
["2020-02-25T18:00:00",16,"Puglia",0,0,0,0,0,0,0,0,0,0,0,null,{"$f":"IF(Q1155=\"x2\",M1155,P1154)","v":0},{"$f":"IF(M1155>P1154*2,\"x2\",P1154)","v":0},{"$f":"IF(Q1155=\"x2\",M1155,\"\")","v":""},null,{"$f":"M1155*100/M1548","v":0},{"$f":"IF(J1155-J1154=0,\"\",J1155-J1154)","v":""},{"$f":"IF(K1155-K1154=0,\"\",K1155-K1154)","v":""},{"$f":"IF(L1155-L1154=0,\"\",L1155-L1154)","v":""},{"$f":"IF(M1155-M1154=0,\"\",M1155-M1154)","v":""},{"$f":"IF(N1155-N1154=0,\"\",N1155-N1154)","v":""},0,0,0,{"$f":"L1155*100/B$1537","v":0},0]
["2020-02-26T18:00:00",16,"Puglia",0,0,0,0,0,0,0,0,0,0,0,null,0,0,"",null,{"$f":"M1156*100/M1549","v":0},"","","","","",0,0,0,{"$f":"L1156*100/B$1537","v":0},0]
["2020-02-27T18:00:00",16,"Puglia",1,0,1,0,1,1,1,0,0,1,0,null,1,"x2",1,null,{"$f":"M1157*100/M1550","v":0.15384615384615385},1,"","",1,"",1,0,0,{"$f":"L1157*100/B$1537","v":0},0]
["2020-02-28T18:00:00",16,"Puglia",1,0,1,2,3,2,2,0,0,3,242,null,3,"x2",3,null,{"$f":"M1158*100/M1551","v":0.33783783783783783},1,"","",2,242,1,0,0,{"$f":"L1158*100/B$1537","v":0},0]
["2020-02-29T17:00:00",16,"Puglia",1,0,1,2,3,0,0,0,0,3,252,null,3,3,"",null,{"$f":"M1159*100/M1552","v":0.26595744680851063},-2,"","","",10,1,0,0,{"$f":"L1159*100/B$1537","v":0},0]
["2020-03-01T17:00:00",16,"Puglia",1,0,1,2,3,0,0,0,0,3,262,null,3,3,"",null,{"$f":"M1160*100/M1553","v":0.17709563164108619},"","","","",10,1,0,0,{"$f":"L1160*100/B$1537","v":0},0]
["2020-03-02T18:00:00",16,"Puglia",2,0,2,2,4,1,1,0,0,4,278,null,3,3,"",null,{"$f":"M1161*100/M1554","v":0.19646365422396855},1,"","",1,16,1,0,0,{"$f":"L1161*100/B$1537","v":0},0]
["2020-03-03T18:00:00",16,"Puglia",2,0,2,4,6,2,2,0,0,6,298,null,3,3,"",null,{"$f":"M1162*100/M1555","v":0.23980815347721823},1,"","",2,20,1,0,0,{"$f":"L1162*100/B$1537","v":0},0]
["2020-03-04T17:00:00",16,"Puglia",4,0,4,3,7,1,1,1,1,9,322,null,9,"x2",9,null,{"$f":"M1163*100/M1556","v":0.29135642602784073},-1,1,1,3,24,0.77777777777777779,0.1111111111111111,0.1111111111111111,{"$f":"L1163*100/B$1537","v":35.335689045936398},0.1111111111111111]
["2020-03-05T17:00:00",16,"Puglia",5,1,6,6,12,5,5,1,1,14,359,null,9,9,"",null,{"$f":"M1164*100/M1557","v":0.36288232244686364},4,"","",5,37,0.8571428571428571,7.1428571428571425E-2,7.1428571428571425E-2,{"$f":"L1164*100/B$1537","v":35.335689045936398},7.1428571428571425E-2]
["2020-03-06T17:00:00",16,"Puglia",5,1,6,9,15,3,3,1,1,17,395,null,9,9,"",null,{"$f":"M1165*100/M1558","v":0.36669542709232095},-2,"","",3,36,0.88235294117647056,5.8823529411764705E-2,5.8823529411764705E-2,{"$f":"L1165*100/B$1537","v":35.335689045936398},5.8823529411764705E-2]
["2020-03-07T18:00:00",16,"Puglia",9,2,11,12,23,8,8,1,2,26,395,null,26,"x2",26,null,{"$f":"M1166*100/M1559","v":0.44195138534761175},5,"",1,9,"",0.88461538461538458,3.8461538461538464E-2,7.6923076923076927E-2,{"$f":"L1166*100/B$1537","v":70.671378091872796},7.6923076923076927E-2]
["2020-03-08T18:00:00",16,"Puglia",17,3,20,16,36,13,13,1,3,40,627,null,26,26,"",null,{"$f":"M1167*100/M1560","v":0.5423728813559322},5,"",1,14,232,0.9,2.5000000000000001E-2,7.4999999999999997E-2,{"$f":"L1167*100/B$1537","v":106.00706713780919},7.4999999999999997E-2]
["2020-03-09T18:00:00",16,"Puglia",20,6,26,20,46,10,10,1,3,50,685,null,26,26,"",null,{"$f":"M1168*100/M1561","v":0.54513737461840384},-3,"","",10,58,0.92,0.02,0.06,{"$f":"L1168*100/B$1537","v":106.00706713780919},0.06]
["2020-03-10T18:00:00",16,"Puglia",28,6,34,21,55,9,9,1,3,59,747,null,59,"x2",59,null,{"$f":"M1169*100/M1562","v":0.58133806286333634},-1,"","",9,62,0.93220338983050843,1.6949152542372881E-2,5.0847457627118647E-2,{"$f":"L1169*100/B$1537","v":106.00706713780919},5.0847457627118647E-2]
["2020-03-11T17:00:00",16,"Puglia",38,4,42,29,71,16,16,1,5,77,909,null,59,59,"",null,{"$f":"M1170*100/M1563","v":0.61787835018456105},7,"",2,18,162,0.92207792207792205,1.2987012987012988E-2,6.4935064935064929E-2,{"$f":"L1170*100/B$1537","v":176.67844522968198},6.4935064935064929E-2]
["2020-03-12T17:00:00",16,"Puglia",58,2,60,38,98,27,27,1,5,104,1269,null,59,59,"",null,{"$f":"M1171*100/M1564","v":0.6881492754582148},11,"","",27,360,0.94230769230769229,9.6153846153846159E-3,4.807692307692308E-2,{"$f":"L1171*100/B$1537","v":176.67844522968198},4.807692307692308E-2]
["2020-03-13T17:00:00",16,"Puglia",77,2,79,42,121,23,23,3,5,129,1449,null,129,"x2",129,null,{"$f":"M1172*100/M1565","v":0.73046432616081536},-4,2,"",25,180,0.93798449612403101,2.3255813953488372E-2,3.875968992248062E-2,{"$f":"L1172*100/B$1537","v":176.67844522968198},3.875968992248062E-2]
["2020-03-14T17:00:00",16,"Puglia",91,6,97,59,156,35,35,2,8,166,1681,null,129,129,"",null,{"$f":"M1173*100/M1566","v":0.78461029446518882},12,-1,3,37,232,0.93975903614457834,1.2048192771084338E-2,4.8192771084337352E-2,{"$f":"L1173*100/B$1537","v":282.68551236749119},4.8192771084337352E-2]
["2020-03-15T17:00:00",16,"Puglia",116,6,122,90,212,56,56,2,16,230,2017,null,129,129,"",null,{"$f":"M1174*100/M1567","v":0.92940558451529476},21,"",8,64,336,0.92173913043478262,8.6956521739130436E-3,6.9565217391304349E-2,{"$f":"L1174*100/B$1537","v":565.37102473498237},6.9565217391304349E-2]
["2020-03-16T17:00:00",16,"Puglia",116,6,122,90,212,0,0,2,16,230,2017,null,129,129,"",null,{"$f":"M1175*100/M1568","v":0.82201572551822732},-56,"","","","",0.92173913043478262,8.6956521739130436E-3,6.9565217391304349E-2,{"$f":"L1175*100/B$1537","v":565.37102473498237},6.9565217391304349E-2]
["2020-03-17T17:00:00",16,"Puglia",155,14,169,151,320,108,108,2,18,340,3077,null,340,"x2",340,null,{"$f":"M1176*100/M1569","v":1.079159525169809},108,"",2,110,1060,0.94117647058823528,5.8823529411764705E-3,5.2941176470588235E-2,{"$f":"L1176*100/B$1537","v":636.0424028268551},5.2941176470588235E-2]
["2020-03-18T17:00:00",16,"Puglia",156,30,186,176,362,42,42,2,19,383,3433,null,340,340,"",null,{"$f":"M1177*100/M1570","v":1.0724386077898804},-66,"",1,43,356,0.94516971279373363,5.2219321148825066E-3,4.960835509138381E-2,{"$f":"L1177*100/B$1537","v":671.37809187279152},4.960835509138381E-2]
["2020-03-19T17:00:00",16,"Puglia",173,31,204,245,449,87,87,4,25,478,4046,null,340,340,"",null,{"$f":"M1178*100/M1571","v":1.1648592664798343},45,2,6,95,613,0.93933054393305437,8.368200836820083E-3,5.2301255230125521E-2,{"$f":"L1178*100/B$1537","v":883.39222614840992},5.2301255230125521E-2]
["2020-03-20T17:00:00",16,"Puglia",191,31,222,329,551,102,102,4,26,581,4789,null,340,340,"",null,{"$f":"M1179*100/M1572","v":1.2356181280704366},15,"",1,103,{"$f":"IF(N1179-N1178=0,\"\",N1179-N1178)","v":743},0.94836488812392428,6.8846815834767644E-3,4.4750430292598967E-2,{"$f":"L1179*100/B$1537","v":918.72791519434622},4.4750430292598967E-2]
["2020-03-21T17:00:00",16,"Puglia",209,33,242,400,642,91,91,4,29,675,5617,null,340,340,"",null,{"$f":"M1180*100/M1573","v":1.2598454589570347},-11,"",3,{"$f":"IF(M1180-M1179=0,\"\",M1180-M1179)","v":94},828,0.95111111111111113,5.9259259259259256E-3,4.296296296296296E-2,{"$f":"L1180*100/B$1537","v":1024.7349823321554},4.296296296296296E-2]
["2020-03-22T17:00:00",16,"Puglia",252,37,289,459,748,106,106,7,31,786,6160,null,786,"x2",786,null,{"$f":"M1181*100/M1574","v":1.3290946599479185},15,3,2,111,543,0.95165394402035619,8.9058524173027988E-3,3.9440203562340966E-2,{"$f":"L1181*100/B$1537","v":1095.4063604240282},3.9440203562340966E-2]
["2020-03-23T17:00:00",16,"Puglia",285,45,330,532,862,114,114,7,37,906,6761,null,786,786,"",null,{"$f":"M1182*100/M1575","v":1.4172415411328547},8,"",6,120,601,0.95143487858719644,7.7262693156732896E-3,4.0838852097130243E-2,{"$f":"L1182*100/B$1537","v":1307.4204946996465},4.0838852097130243E-2]
["2020-03-24T17:00:00",16,"Puglia",317,57,374,566,940,78,78,21,44,1005,7345,null,786,786,"",null,{"$f":"M1183*100/M1576","v":1.4528160055510582},-36,14,7,99,584,0.93532338308457708,2.0895522388059702E-2,4.3781094527363187E-2,{"$f":"L1183*100/B$1537","v":1554.7703180212013},4.3781094527363187E-2]
["2020-03-25T17:00:00",16,"Puglia",349,64,413,610,1023,83,83,22,48,1093,8223,null,786,786,"",null,{"$f":"M1184*100/M1577","v":1.4693625144516442},5,1,4,88,878,0.93595608417200371,2.0128087831655993E-2,4.3915827996340348E-2,{"$f":"L1184*100/B$1537","v":1696.113074204947},4.3915827996340348E-2]
["2020-03-26T17:00:00",16,"Puglia",480,76,556,539,1095,72,72,22,65,1182,9191,null,786,786,"",null,{"$f":"M1185*100/M1578","v":1.4676119643899228},-11,"",17,89,{"$f":"IF(N1185-N1184=0,\"\",N1185-N1184)","v":968},0.92639593908629436,1.8612521150592216E-2,5.499153976311337E-2,{"$f":"L1185*100/B$1537","v":2296.8197879858658},5.499153976311337E-2]
["2020-03-27T17:00:00",16,"Puglia",530,82,612,624,1236,141,152,29,69,1334,10233,null,{"$f":"IF(Q1186=\"x2\",M1186,P1185)","v":786},{"$f":"IF(M1186>P1185*2,\"x2\",P1185)","v":786},{"$f":"IF(Q1186=\"x2\",M1186,\"\")","v":""},null,{"$f":"M1186*100/M1579","v":1.542232190339661},{"$f":"IF(J1186-J1185=0,\"\",J1186-J1185)","v":80},7,4,152,1042,0.92653673163418293,2.1739130434782608E-2,5.1724137931034482E-2,{"$f":"L1186*100/B$1537","v":2438.1625441696115},5.1724137931034482E-2]
["2020-03-28T17:00:00",16,"Puglia",563,98,661,697,1358,122,124,29,71,1458,11500,null,786,786,"",null,{"$f":"M1187*100/M1580","v":1.5766934855956398},-28,"",2,124,1267,0.93141289437585739,1.9890260631001373E-2,4.8696844993141288E-2,{"$f":"L1187*100/B$1537","v":2508.8339222614841},4.8696844993141288E-2]
["2020-03-29T17:00:00",16,"Puglia",559,99,658,774,1432,74,91,31,86,1549,12361,null,786,786,"",null,{"$f":"M1188*100/M1581","v":1.5856442383482274},-33,2,15,91,861,0.92446739832149771,2.0012911555842477E-2,5.5519690122659782E-2,{"$f":"L1188*100/B$1537","v":3038.86925795053},5.5519690122659782E-2]
["2020-03-30T17:00:00",16,"Puglia",590,106,696,889,1585,153,163,36,91,1712,13117,null,1712,"x2",1712,null,{"$f":"M1189*100/M1582","v":1.6827372000904275},72,5,5,163,756,0.92581775700934577,2.1028037383177569E-2,5.3154205607476634E-2,{"$f":"L1189*100/B$1537","v":3215.547703180212},5.3154205607476634E-2]
["2020-03-31T17:00:00",16,"Puglia",609,105,714,940,1654,69,91,39,110,1803,14073,null,1712,1712,"",null,{"$f":"M1190*100/M1583","v":1.7042876588021778},-72,3,19,91,956,0.91735995562950634,2.1630615640599003E-2,6.1009428729894621E-2,{"$f":"L1190*100/B$1537","v":3886.9257950530036},6.1009428729894621E-2]
["2020-04-01T17:00:00",16,"Puglia",637,107,744,1012,1756,102,143,61,129,1946,15209,null,1712,1712,"",null,{"$f":"M1191*100/M1584","v":1.7599073923345452},52,22,19,143,{"$f":"IF(N1191-N1190=0,\"\",N1191-N1190)","v":1136},{"$f":"IF(M1191=0,0,H1191/M1191)","v":0.9023638232271326},{"$f":"IF(M1191=0,0,K1191/M1191)","v":3.1346351490236381E-2},{"$f":"IF(M1191=0,0,L1191/M1191)","v":6.628982528263104E-2},{"$f":"L1191*100/B$1537","v":4558.3038869257953},6.628982528263104E-2]
["2020-04-02T17:00:00",16,"Puglia",645,118,763,1101,1864,108,131,69,144,2077,16554,null,{"$f":"IF(Q1192=\"x2\",M1192,P1191)","v":1712},{"$f":"IF(M1192>P1191*2,\"x2\",P1191)","v":1712},{"$f":"IF(Q1192=\"x2\",M1192,\"\")","v":""},null,{"$f":"M1192*100/M1585","v":1.8022943024244633},{"$f":"IF(J1192-J1191=0,\"\",J1192-J1191)","v":-12},{"$f":"IF(K1192-K1191=0,\"\",K1192-K1191)","v":8},{"$f":"IF(L1192-L1191=0,\"\",L1192-L1191)","v":15},{"$f":"IF(M1192-M1191=0,\"\",M1192-M1191)","v":131},1345,0.89744824265767931,3.3220991815117958E-2,6.9330765527202701E-2,{"$f":"L1192*100/B$1537","v":5088.3392226148408},6.9330765527202701E-2]
["2020-04-03T17:00:00",16,"Puglia",648,123,771,1178,1949,85,105,69,164,2182,17924,null,{"$f":"IF(Q1193=\"x2\",M1193,P1192)","v":1712},{"$f":"IF(M1193>P1192*2,\"x2\",P1192)","v":1712},{"$f":"IF(Q1193=\"x2\",M1193,\"\")","v":""},null,{"$f":"M1193*100/M1586","v":1.8209585485741944},{"$f":"IF(J1193-J1192=0,\"\",J1193-J1192)","v":-26},{"$f":"IF(K1193-K1192=0,\"\",K1193-K1192)","v":""},{"$f":"IF(L1193-L1192=0,\"\",L1193-L1192)","v":20},{"$f":"IF(M1193-M1192=0,\"\",M1193-M1192)","v":105},1370,0.89321723189734192,3.1622364802933088E-2,7.5160403299725023E-2,{"$f":"L1193*100/B$1537","v":5795.0530035335687},7.5160403299725023E-2]
["2020-04-04T17:00:00",16,"Puglia",627,153,780,1193,1973,24,58,94,173,2240,18977,null,{"$f":"IF(Q1194=\"x2\",M1194,P1193)","v":1712},{"$f":"IF(M1194>P1193*2,\"x2\",P1193)","v":1712},{"$f":"IF(Q1194=\"x2\",M1194,\"\")","v":""},null,{"$f":"M1194*100/M1587","v":1.7972912253674818},{"$f":"IF(J1194-J1193=0,\"\",J1194-J1193)","v":-47},{"$f":"IF(K1194-K1193=0,\"\",K1194-K1193)","v":25},{"$f":"IF(L1194-L1193=0,\"\",L1194-L1193)","v":9},{"$f":"IF(M1194-M1193=0,\"\",M1194-M1193)","v":58},1053,0.88080357142857146,4.1964285714285711E-2,7.723214285714286E-2,{"$f":"L1194*100/B$1537","v":6113.0742049469964},7.723214285714286E-2]
["2020-04-05T17:00:00",16,"Puglia",574,159,733,1289,2022,49,77,113,182,2317,20080,null,{"$f":"IF(Q1195=\"x2\",M1195,P1194)","v":1712},{"$f":"IF(M1195>P1194*2,\"x2\",P1194)","v":1712},{"$f":"IF(Q1195=\"x2\",M1195,\"\")","v":""},null,{"$f":"M1195*100/M1588","v":1.7968483419673047},{"$f":"IF(J1195-J1194=0,\"\",J1195-J1194)","v":19},{"$f":"IF(K1195-K1194=0,\"\",K1195-K1194)","v":19},{"$f":"IF(L1195-L1194=0,\"\",L1195-L1194)","v":9},{"$f":"IF(M1195-M1194=0,\"\",M1195-M1194)","v":77},1103,0.8726801899007337,4.8769961156668103E-2,7.8549848942598186E-2,{"$f":"L1195*100/B$1537","v":6431.095406360424},7.8549848942598186E-2]
["2020-04-06T17:00:00",16,"Puglia",625,97,722,1393,2115,93,127,134,195,2444,22059,null,{"$f":"IF(Q1196=\"x2\",M1196,P1195)","v":1712},{"$f":"IF(M1196>P1195*2,\"x2\",P1195)","v":1712},{"$f":"IF(Q1196=\"x2\",M1196,\"\")","v":""},null,{"$f":"M1196*100/M1589","v":1.8438742483798201},{"$f":"IF(J1196-J1195=0,\"\",J1196-J1195)","v":50},{"$f":"IF(K1196-K1195=0,\"\",K1196-K1195)","v":21},{"$f":"IF(L1196-L1195=0,\"\",L1196-L1195)","v":13},{"$f":"IF(M1196-M1195=0,\"\",M1196-M1195)","v":127},1979,0.86538461538461542,5.4828150572831427E-2,7.9787234042553196E-2,{"$f":"L1196*100/B$1537","v":6890.4593639575969},7.9787234042553196E-2]
["2020-04-07T17:00:00",16,"Puglia",615,93,708,1429,2137,22,70,168,209,2514,23149,null,{"$f":"IF(Q1197=\"x2\",M1197,P1196)","v":1712},{"$f":"IF(M1197>P1196*2,\"x2\",P1196)","v":1712},{"$f":"IF(Q1197=\"x2\",M1197,\"\")","v":""},null,{"$f":"M1197*100/M1590","v":1.8541737347513756},{"$f":"IF(J1197-J1196=0,\"\",J1197-J1196)","v":-57},{"$f":"IF(K1197-K1196=0,\"\",K1197-K1196)","v":34},{"$f":"IF(L1197-L1196=0,\"\",L1197-L1196)","v":14},{"$f":"IF(M1197-M1196=0,\"\",M1197-M1196)","v":70},{"$f":"IF(N1197-N1196=0,\"\",N1197-N1196)","v":1090},{"$f":"IF(M1197=0,0,H1197/M1197)","v":0.85003977724741453},{"$f":"IF(M1197=0,0,K1197/M1197)","v":6.6825775656324582E-2},{"$f":"IF(M1197=0,0,L1197/M1197)","v":8.3134447096260944E-2},{"$f":"L1197*100/B$1537","v":7385.1590106007061},8.3134447096260944E-2]
["2020-04-08T17:00:00",16,"Puglia",639,90,729,1509,2238,101,120,177,219,2634,24493,null,{"$f":"IF(Q1198=\"x2\",M1198,P1197)","v":1712},{"$f":"IF(M1198>P1197*2,\"x2\",P1197)","v":1712},{"$f":"IF(Q1198=\"x2\",M1198,\"\")","v":""},null,{"$f":"M1198*100/M1591","v":1.8892283857640833},{"$f":"IF(J1198-J1197=0,\"\",J1198-J1197)","v":50},{"$f":"IF(K1198-K1197=0,\"\",K1198-K1197)","v":9},{"$f":"IF(L1198-L1197=0,\"\",L1198-L1197)","v":10},{"$f":"IF(M1198-M1197=0,\"\",M1198-M1197)","v":120},{"$f":"IF(N1198-N1197=0,\"\",N1198-N1197)","v":1344},{"$f":"IF(M1198=0,0,H1198/M1198)","v":0.84965831435079731},{"$f":"IF(M1198=0,0,K1198/M1198)","v":6.7198177676537588E-2},{"$f":"IF(M1198=0,0,L1198/M1198)","v":8.3143507972665148E-2},{"$f":"L1198*100/B$1537","v":7738.5159010600701},8.3143507972665148E-2]
["2020-04-09T17:00:00",16,"Puglia",630,86,716,1585,2301,63,82,190,225,2716,26088,null,{"$f":"IF(Q1199=\"x2\",M1199,P1198)","v":1712},{"$f":"IF(M1199>P1198*2,\"x2\",P1198)","v":1712},{"$f":"IF(Q1199=\"x2\",M1199,\"\")","v":""},null,{"$f":"M1199*100/M1592","v":1.8910225168145043},{"$f":"IF(J1199-J1198=0,\"\",J1199-J1198)","v":-38},{"$f":"IF(K1199-K1198=0,\"\",K1199-K1198)","v":13},{"$f":"IF(L1199-L1198=0,\"\",L1199-L1198)","v":6},{"$f":"IF(M1199-M1198=0,\"\",M1199-M1198)","v":82},{"$f":"IF(N1199-N1198=0,\"\",N1199-N1198)","v":1595},{"$f":"IF(M1199=0,0,H1199/M1199)","v":0.84720176730486008},{"$f":"IF(M1199=0,0,K1199/M1199)","v":6.9955817378497792E-2},{"$f":"IF(M1199=0,0,L1199/M1199)","v":8.2842415316642118E-2},{"$f":"L1199*100/B$1537","v":7950.5300353356888},8.2842415316642118E-2]
["2020-04-10T17:00:00",16,"Puglia",631,80,711,1625,2336,35,93,235,238,2809,27812,null,{"$f":"IF(Q1200=\"x2\",M1200,P1199)","v":1712},{"$f":"IF(M1200>P1199*2,\"x2\",P1199)","v":1712},{"$f":"IF(Q1200=\"x2\",M1200,\"\")","v":""},null,{"$f":"M1200*100/M1593","v":1.9034131334828599},{"$f":"IF(J1200-J1199=0,\"\",J1200-J1199)","v":11},{"$f":"IF(K1200-K1199=0,\"\",K1200-K1199)","v":45},{"$f":"IF(L1200-L1199=0,\"\",L1200-L1199)","v":13},{"$f":"IF(M1200-M1199=0,\"\",M1200-M1199)","v":93},{"$f":"IF(N1200-N1199=0,\"\",N1200-N1199)","v":1724},{"$f":"IF(M1200=0,0,H1200/M1200)","v":0.83161267354930579},{"$f":"IF(M1200=0,0,K1200/M1200)","v":8.365966536133855E-2},{"$f":"IF(M1200=0,0,L1200/M1200)","v":8.4727661089355644E-2},{"$f":"L1200*100/B$1537","v":8409.8939929328626},8.4727661089355644E-2]
["2020-04-11T17:00:00",16,"Puglia",627,73,700,1702,2402,66,95,249,253,2904,29463,null,{"$f":"IF(Q1201=\"x2\",M1201,P1200)","v":1712},{"$f":"IF(M1201>P1200*2,\"x2\",P1200)","v":1712},{"$f":"IF(Q1201=\"x2\",M1201,\"\")","v":""},null,{"$f":"M1201*100/M1594","v":1.9071261106842405},{"$f":"IF(J1201-J1200=0,\"\",J1201-J1200)","v":2},{"$f":"IF(K1201-K1200=0,\"\",K1201-K1200)","v":14},{"$f":"IF(L1201-L1200=0,\"\",L1201-L1200)","v":15},{"$f":"IF(M1201-M1200=0,\"\",M1201-M1200)","v":95},{"$f":"IF(N1201-N1200=0,\"\",N1201-N1200)","v":1651},{"$f":"IF(M1201=0,0,H1201/M1201)","v":0.82713498622589532},{"$f":"IF(M1201=0,0,K1201/M1201)","v":8.5743801652892568E-2},{"$f":"IF(M1201=0,0,L1201/M1201)","v":8.7121212121212127E-2},{"$f":"L1201*100/B$1537","v":8939.9293286219072},8.7121212121212127E-2]
["2020-04-12T17:00:00",16,"Puglia",609,71,680,1772,2452,50,85,277,260,2989,30973,null,{"$f":"IF(Q1202=\"x2\",M1202,P1201)","v":1712},{"$f":"IF(M1202>P1201*2,\"x2\",P1201)","v":1712},{"$f":"IF(Q1202=\"x2\",M1202,\"\")","v":""},null,{"$f":"M1202*100/M1595","v":1.9115775471179244},{"$f":"IF(J1202-J1201=0,\"\",J1202-J1201)","v":-10},{"$f":"IF(K1202-K1201=0,\"\",K1202-K1201)","v":28},{"$f":"IF(L1202-L1201=0,\"\",L1202-L1201)","v":7},{"$f":"IF(M1202-M1201=0,\"\",M1202-M1201)","v":85},{"$f":"IF(N1202-N1201=0,\"\",N1202-N1201)","v":1510},{"$f":"IF(M1202=0,0,H1202/M1202)","v":0.82034125125460022},{"$f":"IF(M1202=0,0,K1202/M1202)","v":9.2673134827701578E-2},{"$f":"IF(M1202=0,0,L1202/M1202)","v":8.6985613917698226E-2},{"$f":"L1202*100/B$1537","v":9187.2791519434631},8.6985613917698226E-2]
["2020-04-13T17:00:00",16,"Puglia",600,71,671,1841,2512,60,76,286,267,3065,31922,null,{"$f":"IF(Q1203=\"x2\",M1203,P1202)","v":1712},{"$f":"IF(M1203>P1202*2,\"x2\",P1202)","v":1712},{"$f":"IF(Q1203=\"x2\",M1203,\"\")","v":""},null,{"$f":"M1203*100/M1596","v":1.9214373479776323},{"$f":"IF(J1203-J1202=0,\"\",J1203-J1202)","v":-9},{"$f":"IF(K1203-K1202=0,\"\",K1203-K1202)","v":9},{"$f":"IF(L1203-L1202=0,\"\",L1203-L1202)","v":7},{"$f":"IF(M1203-M1202=0,\"\",M1203-M1202)","v":76},{"$f":"IF(N1203-N1202=0,\"\",N1203-N1202)","v":949},{"$f":"IF(M1203=0,0,H1203/M1203)","v":0.81957585644371944},{"$f":"IF(M1203=0,0,K1203/M1203)","v":9.3311582381729194E-2},{"$f":"IF(M1203=0,0,L1203/M1203)","v":8.7112561174551392E-2},{"$f":"L1203*100/B$1537","v":9434.6289752650173},8.7112561174551392E-2]
["2020-04-14T17:00:00",16,"Puglia",611,62,673,1879,2552,40,53,288,278,3118,33071,null,{"$f":"IF(Q1204=\"x2\",M1204,P1203)","v":1712},{"$f":"IF(M1204>P1203*2,\"x2\",P1203)","v":1712},{"$f":"IF(Q1204=\"x2\",M1204,\"\")","v":""},null,{"$f":"M1204*100/M1597","v":1.9189109349613509},{"$f":"IF(J1204-J1203=0,\"\",J1204-J1203)","v":-23},{"$f":"IF(K1204-K1203=0,\"\",K1204-K1203)","v":2},{"$f":"IF(L1204-L1203=0,\"\",L1204-L1203)","v":11},{"$f":"IF(M1204-M1203=0,\"\",M1204-M1203)","v":53},{"$f":"IF(N1204-N1203=0,\"\",N1204-N1203)","v":1149},{"$f":"IF(M1204=0,0,H1204/M1204)","v":0.81847338037203332},{"$f":"IF(M1204=0,0,K1204/M1204)","v":9.2366901860166772E-2},{"$f":"IF(M1204=0,0,L1204/M1204)","v":8.9159717767799865E-2},{"$f":"L1204*100/B$1537","v":9823.3215547703185},8.9159717767799865E-2]
["2020-04-15T17:00:00",16,"Puglia",592,73,665,1908,2573,21,66,323,288,3184,34518,null,{"$f":"IF(Q1205=\"x2\",M1205,P1204)","v":1712},{"$f":"IF(M1205>P1204*2,\"x2\",P1204)","v":1712},{"$f":"IF(Q1205=\"x2\",M1205,\"\")","v":""},null,{"$f":"M1205*100/M1598","v":1.9278859253428597},{"$f":"IF(J1205-J1204=0,\"\",J1205-J1204)","v":13},{"$f":"IF(K1205-K1204=0,\"\",K1205-K1204)","v":35},{"$f":"IF(L1205-L1204=0,\"\",L1205-L1204)","v":10},{"$f":"IF(M1205-M1204=0,\"\",M1205-M1204)","v":66},{"$f":"IF(N1205-N1204=0,\"\",N1205-N1204)","v":1447},{"$f":"IF(M1205=0,0,H1205/M1205)","v":0.80810301507537685},{"$f":"IF(M1205=0,0,K1205/M1205)","v":0.10144472361809045},{"$f":"IF(M1205=0,0,L1205/M1205)","v":9.0452261306532666E-2},{"$f":"L1205*100/B$1537","v":10176.678445229682},9.0452261306532666E-2]
["2020-04-16T17:00:00",16,"Puglia",603,58,661,1964,2625,52,74,334,299,3258,36158,null,{"$f":"IF(Q1206=\"x2\",M1206,P1205)","v":1712},{"$f":"IF(M1206>P1205*2,\"x2\",P1205)","v":1712},{"$f":"IF(Q1206=\"x2\",M1206,\"\")","v":""},null,{"$f":"M1206*100/M1599","v":1.92848390858347},{"$f":"IF(J1206-J1205=0,\"\",J1206-J1205)","v":8},{"$f":"IF(K1206-K1205=0,\"\",K1206-K1205)","v":11},{"$f":"IF(L1206-L1205=0,\"\",L1206-L1205)","v":11},{"$f":"IF(M1206-M1205=0,\"\",M1206-M1205)","v":74},{"$f":"IF(N1206-N1205=0,\"\",N1206-N1205)","v":1640},{"$f":"IF(M1206=0,0,H1206/M1206)","v":0.80570902394106814},{"$f":"IF(M1206=0,0,K1206/M1206)","v":0.10251688152240639},{"$f":"IF(M1206=0,0,L1206/M1206)","v":9.1774094536525477E-2},{"$f":"L1206*100/B$1537","v":10565.371024734983},9.1774094536525477E-2]
["2020-04-17T17:00:00",16,"Puglia",590,62,652,2004,2656,31,69,364,307,3327,38278,null,{"$f":"IF(Q1207=\"x2\",M1207,P1206)","v":1712},{"$f":"IF(M1207>P1206*2,\"x2\",P1206)","v":1712},{"$f":"IF(Q1207=\"x2\",M1207,\"\")","v":""},null,{"$f":"M1207*100/M1600","v":1.929433870350395},{"$f":"IF(J1207-J1206=0,\"\",J1207-J1206)","v":-5},{"$f":"IF(K1207-K1206=0,\"\",K1207-K1206)","v":30},{"$f":"IF(L1207-L1206=0,\"\",L1207-L1206)","v":8},{"$f":"IF(M1207-M1206=0,\"\",M1207-M1206)","v":69},{"$f":"IF(N1207-N1206=0,\"\",N1207-N1206)","v":2120},{"$f":"IF(M1207=0,0,H1207/M1207)","v":0.79831680192365495},{"$f":"IF(M1207=0,0,K1207/M1207)","v":0.10940787496242861},{"$f":"IF(M1207=0,0,L1207/M1207)","v":9.2275323113916438E-2},{"$f":"L1207*100/B$1537","v":10848.056537102473},9.2275323113916438E-2]
["2020-04-18T17:00:00",16,"Puglia",594,60,654,2040,2694,38,82,401,314,3409,40423,null,{"$f":"IF(Q1208=\"x2\",M1208,P1207)","v":1712},{"$f":"IF(M1208>P1207*2,\"x2\",P1207)","v":1712},{"$f":"IF(Q1208=\"x2\",M1208,\"\")","v":""},null,{"$f":"M1208*100/M1601","v":1.9377575671450902},{"$f":"IF(J1208-J1207=0,\"\",J1208-J1207)","v":13},{"$f":"IF(K1208-K1207=0,\"\",K1208-K1207)","v":37},{"$f":"IF(L1208-L1207=0,\"\",L1208-L1207)","v":7},{"$f":"IF(M1208-M1207=0,\"\",M1208-M1207)","v":82},{"$f":"IF(N1208-N1207=0,\"\",N1208-N1207)","v":2145},{"$f":"IF(M1208=0,0,H1208/M1208)","v":0.79026107362863007},{"$f":"IF(M1208=0,0,K1208/M1208)","v":0.11762980346142564},{"$f":"IF(M1208=0,0,L1208/M1208)","v":9.210912290994426E-2},{"$f":"L1208*100/B$1537","v":11095.406360424027},9.210912290994426E-2]
["2020-04-19T17:00:00",16,"Puglia",590,60,650,2136,2786,92,120,427,316,3529,42598,41580,{"$f":"IF(Q1209=\"x2\",M1209,P1208)","v":3529},{"$f":"IF(M1209>P1208*2,\"x2\",P1208)","v":"x2"},{"$f":"IF(Q1209=\"x2\",M1209,\"\")","v":3529},null,{"$f":"M1209*100/M1602","v":1.971816820508236},{"$f":"IF(J1209-J1208=0,\"\",J1209-J1208)","v":38},{"$f":"IF(K1209-K1208=0,\"\",K1209-K1208)","v":26},{"$f":"IF(L1209-L1208=0,\"\",L1209-L1208)","v":2},{"$f":"IF(M1209-M1208=0,\"\",M1209-M1208)","v":120},{"$f":"IF(N1209-N1208=0,\"\",N1209-N1208)","v":2175},{"$f":"IF(M1209=0,0,H1209/M1209)","v":0.78945877018985544},{"$f":"IF(M1209=0,0,K1209/M1209)","v":0.12099744970246529},{"$f":"IF(M1209=0,0,L1209/M1209)","v":8.954378010767923E-2},{"$f":"L1209*100/B$1537","v":11166.0777385159},8.954378010767923E-2]
["2020-04-20T17:00:00",16,"Puglia",584,66,650,2160,2810,24,38,431,326,3567,44189,43119,{"$f":"IF(Q1210=\"x2\",M1210,P1209)","v":3529},{"$f":"IF(M1210>P1209*2,\"x2\",P1209)","v":3529},{"$f":"IF(Q1210=\"x2\",M1210,\"\")","v":""},null,{"$f":"M1210*100/M1603","v":1.9682389034806984},{"$f":"IF(J1210-J1209=0,\"\",J1210-J1209)","v":-82},{"$f":"IF(K1210-K1209=0,\"\",K1210-K1209)","v":4},{"$f":"IF(L1210-L1209=0,\"\",L1210-L1209)","v":10},{"$f":"IF(M1210-M1209=0,\"\",M1210-M1209)","v":38},{"$f":"IF(N1210-N1209=0,\"\",N1210-N1209)","v":1591},{"$f":"IF(M1210=0,0,H1210/M1210)","v":0.78777684328567421},{"$f":"IF(M1210=0,0,K1210/M1210)","v":0.12082982898794505},{"$f":"IF(M1210=0,0,L1210/M1210)","v":9.1393327726380716E-2},{"$f":"L1210*100/B$1537","v":11519.434628975265},9.1393327726380716E-2]
["2020-04-21T17:00:00",16,"Puglia",569,65,634,2178,2812,2,55,459,351,3622,45984,44760,3529,{"$f":"IF(M1211>P1210*2,\"x2\",P1210)","v":3529},{"$f":"IF(Q1211=\"x2\",M1211,\"\")","v":""},null,{"$f":"M1211*100/M1604","v":1.968938393211457},{"$f":"IF(J1211-J1210=0,\"\",J1211-J1210)","v":17},{"$f":"IF(K1211-K1210=0,\"\",K1211-K1210)","v":28},{"$f":"IF(L1211-L1210=0,\"\",L1211-L1210)","v":25},{"$f":"IF(M1211-M1210=0,\"\",M1211-M1210)","v":55},{"$f":"IF(N1211-N1210=0,\"\",N1211-N1210)","v":1795},{"$f":"IF(M1211=0,0,H1211/M1211)","v":0.77636664826062951},{"$f":"IF(M1211=0,0,K1211/M1211)","v":0.1267255659856433},{"$f":"IF(M1211=0,0,L1211/M1211)","v":9.6907785753727216E-2},{"$f":"L1211*100/B$1537","v":12402.826855123674},9.6907785753727216E-2]
["2020-04-22T17:00:00",16,"Puglia",564,60,624,2250,2874,62,108,494,362,3730,48342,46925,3529,{"$f":"IF(M1212>P1211*2,\"x2\",P1211)","v":3529},{"$f":"IF(Q1212=\"x2\",M1212,\"\")","v":""},null,{"$f":"M1212*100/M1605","v":1.9911705199997864},{"$f":"IF(J1212-J1211=0,\"\",J1212-J1211)","v":53},{"$f":"IF(K1212-K1211=0,\"\",K1212-K1211)","v":35},{"$f":"IF(L1212-L1211=0,\"\",L1212-L1211)","v":11},{"$f":"IF(M1212-M1211=0,\"\",M1212-M1211)","v":108},{"$f":"IF(N1212-N1211=0,\"\",N1212-N1211)","v":2358},{"$f":"IF(M1212=0,0,H1212/M1212)","v":0.77050938337801611},{"$f":"IF(M1212=0,0,K1212/M1212)","v":0.13243967828418229},{"$f":"IF(M1212=0,0,L1212/M1212)","v":9.7050938337801609E-2},{"$f":"L1212*100/B$1537","v":12791.519434628975},9.7050938337801609E-2]
["2020-04-23T17:00:00",16,"Puglia",536,55,591,2345,2936,62,109,531,372,3839,50410,49403,{"$f":"IF(Q1213=\"x2\",M1213,P1212)","v":3529},{"$f":"IF(M1213>P1212*2,\"x2\",P1212)","v":3529},{"$f":"IF(Q1213=\"x2\",M1213,\"\")","v":""},null,{"$f":"M1213*100/M1606","v":2.0208134840214136},{"$f":"IF(J1213-J1212=0,\"\",J1213-J1212)","v":1},{"$f":"IF(K1213-K1212=0,\"\",K1213-K1212)","v":37},{"$f":"IF(L1213-L1212=0,\"\",L1213-L1212)","v":10},{"$f":"IF(M1213-M1212=0,\"\",M1213-M1212)","v":109},{"$f":"IF(N1213-N1212=0,\"\",N1213-N1212)","v":2068},{"$f":"IF(M1213=0,0,H1213/M1213)","v":0.76478249544152122},{"$f":"IF(M1213=0,0,K1213/M1213)","v":0.13831727012242773},{"$f":"IF(M1213=0,0,L1213/M1213)","v":9.6900234436051058E-2},{"$f":"L1213*100/B$1537","v":13144.876325088338},{"$f":"IF(M1213=0,0,L1213/M1213)","v":9.6900234436051058E-2}]
["2020-04-24T17:00:00",16,"Puglia",496,51,547,2386,2933,-3,42,565,383,3881,52472,51517,{"$f":"IF(Q1214=\"x2\",M1214,P1213)","v":3529},{"$f":"IF(M1214>P1213*2,\"x2\",P1213)","v":3529},{"$f":"IF(Q1214=\"x2\",M1214,\"\")","v":""},null,{"$f":"M1214*100/M1607","v":2.0109433453889758},{"$f":"IF(J1214-J1213=0,\"\",J1214-J1213)","v":-67},{"$f":"IF(K1214-K1213=0,\"\",K1214-K1213)","v":34},{"$f":"IF(L1214-L1213=0,\"\",L1214-L1213)","v":11},{"$f":"IF(M1214-M1213=0,\"\",M1214-M1213)","v":42},{"$f":"IF(N1214-N1213=0,\"\",N1214-N1213)","v":2062},{"$f":"IF(M1214=0,0,H1214/M1214)","v":0.75573305849007988},{"$f":"IF(M1214=0,0,K1214/M1214)","v":0.14558103581551146},{"$f":"IF(M1214=0,0,L1214/M1214)","v":9.868590569440866E-2},{"$f":"L1214*100/B$1537","v":13533.56890459364},{"$f":"IF(M1214=0,0,L1214/M1214)","v":9.868590569440866E-2}]
["2020-04-25T17:00:00",16,"Puglia",469,48,517,2402,2919,-14,31,602,391,3912,54628,53500,{"$f":"IF(Q1215=\"x2\",M1215,P1214)","v":3529},{"$f":"IF(M1215>P1214*2,\"x2\",P1214)","v":3529},{"$f":"IF(Q1215=\"x2\",M1215,\"\")","v":""},null,{"$f":"M1215*100/M1608","v":2.0025492574903634},{"$f":"IF(J1215-J1214=0,\"\",J1215-J1214)","v":-11},{"$f":"IF(K1215-K1214=0,\"\",K1215-K1214)","v":37},{"$f":"IF(L1215-L1214=0,\"\",L1215-L1214)","v":8},{"$f":"IF(M1215-M1214=0,\"\",M1215-M1214)","v":31},{"$f":"IF(N1215-N1214=0,\"\",N1215-N1214)","v":2156},{"$f":"IF(M1215=0,0,H1215/M1215)","v":0.74616564417177911},{"$f":"IF(M1215=0,0,K1215/M1215)","v":0.15388548057259713},{"$f":"IF(M1215=0,0,L1215/M1215)","v":9.9948875255623723E-2},{"$f":"L1215*100/B$1537","v":13816.25441696113},{"$f":"IF(M1215=0,0,L1215/M1215)","v":9.9948875255623723E-2}]
["2020-04-26T17:00:00",16,"Puglia",464,48,512,2425,2937,18,36,612,399,3948,55992,55397,{"$f":"IF(Q1216=\"x2\",M1216,P1215)","v":3529},{"$f":"IF(M1216>P1215*2,\"x2\",P1215)","v":3529},{"$f":"IF(Q1216=\"x2\",M1216,\"\")","v":""},null,{"$f":"M1216*100/M1609","v":1.9972176552421905},{"$f":"IF(J1216-J1215=0,\"\",J1216-J1215)","v":5},{"$f":"IF(K1216-K1215=0,\"\",K1216-K1215)","v":10},{"$f":"IF(L1216-L1215=0,\"\",L1216-L1215)","v":8},{"$f":"IF(M1216-M1215=0,\"\",M1216-M1215)","v":36},{"$f":"IF(N1216-N1215=0,\"\",N1216-N1215)","v":1364},{"$f":"IF(M1216=0,0,H1216/M1216)","v":0.74392097264437695},{"$f":"IF(M1216=0,0,K1216/M1216)","v":0.15501519756838905},{"$f":"IF(M1216=0,0,L1216/M1216)","v":0.10106382978723404},{"$f":"L1216*100/B$1537","v":14098.939929328622},{"$f":"IF(M1216=0,0,L1216/M1216)","v":0.10106382978723404}]
["2020-04-27T17:00:00",16,"Puglia",449,51,500,2412,2912,-25,10,641,405,3958,56976,55897,{"$f":"IF(Q1217=\"x2\",M1217,P1216)","v":3529},{"$f":"IF(M1217>P1216*2,\"x2\",P1216)","v":3529},{"$f":"IF(Q1217=\"x2\",M1217,\"\")","v":""},null,{"$f":"M1217*100/M1610","v":1.9848155094426669},{"$f":"IF(J1217-J1216=0,\"\",J1217-J1216)","v":-26},{"$f":"IF(K1217-K1216=0,\"\",K1217-K1216)","v":29},{"$f":"IF(L1217-L1216=0,\"\",L1217-L1216)","v":6},{"$f":"IF(M1217-M1216=0,\"\",M1217-M1216)","v":10},{"$f":"IF(N1217-N1216=0,\"\",N1217-N1216)","v":984},{"$f":"IF(M1217=0,0,H1217/M1217)","v":0.73572511369378479},{"$f":"IF(M1217=0,0,K1217/M1217)","v":0.16195048004042445},{"$f":"IF(M1217=0,0,L1217/M1217)","v":0.1023244062657908},{"$f":"L1217*100/B$1537","v":14310.95406360424},{"$f":"IF(M1217=0,0,L1217/M1217)","v":0.1023244062657908}]
[{"$f":"A1217 + 1","v":"2020-04-28T17:00:00"},null,null,null,null,null,null,null,null,null,null,null,null,null,null,null,"Media x2",{"$f":"COUNT(N1154:N1217) / COUNT(R1154:R1217)","v":5.8181818181818183}]
[{"$f":"A1218+1","v":"2020-04-29T17:00:00"}]
[{"$f":"A1219+1","v":"2020-04-30T17:00:00"}]
[null,null,null,null,{"$f":"E1217/$M1217","v":1.2885295603840323E-2},null,null,{"$f":"H1217/$M1217","v":0.73572511369378479},null,null,{"$f":"K1217/$M1217","v":0.16195048004042445},{"$f":"L1217/$M1217","v":0.1023244062657908},null,{"$f":"N1217/$M1217","v":14.395149065184437}]
[]
[]
[]
["Data","Codice","Regione","Ricoverati","Terap. Intens.","Ospedalizzati","Quarantena","Positivi","+ Positivi","Nuovi","Guariti","Deceduti","Totale","Tamponi",null,null,null,"x 2",null,"% su Tot.","+ Nuovi","+ Guariti","+ Deceduti","+ Totali","+ Tamponi","% Positivi","% Guariti","% Deceduti","P. Stimati","% Morti"]
["2020-02-24T18:00:00",17,"Basilicata",0,0,0,0,0,0,0,0,0,0,0,null,{"$f":"M1226","v":0},null,{"$f":"M1226","v":0},null,{"$f":"M1226*100/M1547","v":0},null,null,null,null,null,{"$f":"IF(M1226=0,0,H1226/M1226)","v":0},{"$f":"IF(M1226=0,0,K1226/M1226)","v":0},{"$f":"IF(M1226=0,0,L1226/M1226)","v":0},{"$f":"L1226*100/B$1537","v":0},{"$f":"IF(M1226=0,0,L1226/M1226)","v":0}]
["2020-02-25T18:00:00",17,"Basilicata",0,0,0,0,0,0,0,0,0,0,0,null,{"$f":"IF(Q1227=\"x2\",M1227,P1226)","v":0},{"$f":"IF(M1227>P1226*2,\"x2\",P1226)","v":0},{"$f":"IF(Q1227=\"x2\",M1227,\"\")","v":""},null,{"$f":"M1227*100/M1548","v":0},{"$f":"IF(J1227-J1226=0,\"\",J1227-J1226)","v":""},{"$f":"IF(K1227-K1226=0,\"\",K1227-K1226)","v":""},{"$f":"IF(L1227-L1226=0,\"\",L1227-L1226)","v":""},{"$f":"IF(M1227-M1226=0,\"\",M1227-M1226)","v":""},{"$f":"IF(N1227-N1226=0,\"\",N1227-N1226)","v":""},0,0,0,{"$f":"L1227*100/B$1537","v":0},0]
["2020-02-26T18:00:00",17,"Basilicata",0,0,0,0,0,0,0,0,0,0,0,null,0,0,"",null,{"$f":"M1228*100/M1549","v":0},"","","","","",0,0,0,{"$f":"L1228*100/B$1537","v":0},0]
["2020-02-27T18:00:00",17,"Basilicata",0,0,0,0,0,0,0,0,0,0,0,null,0,0,"",null,{"$f":"M1229*100/M1550","v":0},"","","","","",0,0,0,{"$f":"L1229*100/B$1537","v":0},0]
["2020-02-28T18:00:00",17,"Basilicata",0,0,0,0,0,0,0,0,0,0,0,null,0,0,"",null,{"$f":"M1230*100/M1551","v":0},"","","","","",0,0,0,{"$f":"L1230*100/B$1537","v":0},0]
["2020-02-29T17:00:00",17,"Basilicata",0,0,0,0,0,0,0,0,0,0,32,null,0,0,"",null,{"$f":"M1231*100/M1552","v":0},"","","","",32,0,0,0,{"$f":"L1231*100/B$1537","v":0},0]
["2020-03-01T17:00:00",17,"Basilicata",0,0,0,0,0,0,0,0,0,0,39,null,0,0,"",null,{"$f":"M1232*100/M1553","v":0},"","","","",7,0,0,0,{"$f":"L1232*100/B$1537","v":0},0]
["2020-03-02T18:00:00",17,"Basilicata",0,0,0,0,0,0,0,0,0,0,39,null,0,0,"",null,{"$f":"M1233*100/M1554","v":0},"","","","","",0,0,0,{"$f":"L1233*100/B$1537","v":0},0]
["2020-03-03T18:00:00",17,"Basilicata",0,0,0,1,1,1,1,0,0,1,42,null,1,"x2",1,null,{"$f":"M1234*100/M1555","v":3.9968025579536368E-2},1,"","",1,3,1,0,0,{"$f":"L1234*100/B$1537","v":0},0]
["2020-03-04T17:00:00",17,"Basilicata",0,0,0,1,1,0,0,0,0,1,48,null,1,1,"",null,{"$f":"M1235*100/M1556","v":3.2372936225315639E-2},-1,"","","",6,1,0,0,{"$f":"L1235*100/B$1537","v":0},0]
["2020-03-05T17:00:00",17,"Basilicata",0,0,0,1,1,0,0,0,0,1,54,null,1,1,"",null,{"$f":"M1236*100/M1557","v":2.5920165889061691E-2},"","","","",6,1,0,0,{"$f":"L1236*100/B$1537","v":0},0]
["2020-03-06T17:00:00",17,"Basilicata",1,0,1,2,3,2,2,0,0,3,63,null,3,"x2",3,null,{"$f":"M1237*100/M1558","v":6.4710957722174292E-2},2,"","",2,9,1,0,0,{"$f":"L1237*100/B$1537","v":0},0]
["2020-03-07T18:00:00",17,"Basilicata",1,0,1,2,3,0,0,0,0,3,75,null,3,3,"",null,{"$f":"M1238*100/M1559","v":5.0994390617032127E-2},-2,"","","",12,1,0,0,{"$f":"L1238*100/B$1537","v":0},0]
["2020-03-08T18:00:00",17,"Basilicata",2,0,2,2,4,1,1,0,0,4,123,null,3,3,"",null,{"$f":"M1239*100/M1560","v":5.4237288135593219E-2},1,"","",1,48,1,0,0,{"$f":"L1239*100/B$1537","v":0},0]
["2020-03-09T18:00:00",17,"Basilicata",2,0,2,3,5,1,1,0,0,5,135,null,3,3,"",null,{"$f":"M1240*100/M1561","v":5.4513737461840385E-2},"","","",1,12,1,0,0,{"$f":"L1240*100/B$1537","v":0},0]
["2020-03-10T18:00:00",17,"Basilicata",2,0,2,5,7,2,2,0,0,7,148,null,7,"x2",7,null,{"$f":"M1241*100/M1562","v":6.8972312543107692E-2},1,"","",2,13,1,0,0,{"$f":"L1241*100/B$1537","v":0},0]
["2020-03-11T17:00:00",17,"Basilicata",1,1,2,6,8,1,1,0,0,8,155,null,7,7,"",null,{"$f":"M1242*100/M1563","v":6.4195153265928423E-2},-1,"","",1,7,1,0,0,{"$f":"L1242*100/B$1537","v":0},0]
["2020-03-12T17:00:00",17,"Basilicata",1,1,2,6,8,0,0,0,0,8,155,null,7,7,"",null,{"$f":"M1243*100/M1564","v":5.2934559650631909E-2},-1,"","","","",1,0,0,{"$f":"L1243*100/B$1537","v":0},0]
["2020-03-13T17:00:00",17,"Basilicata",1,1,2,8,10,2,2,0,0,10,155,null,7,7,"",null,{"$f":"M1244*100/M1565","v":5.6625141562853906E-2},2,"","",2,"",1,0,0,{"$f":"L1244*100/B$1537","v":0},0]
["2020-03-14T17:00:00",17,"Basilicata",0,2,2,8,10,0,0,0,0,10,155,null,7,7,"",null,{"$f":"M1245*100/M1566","v":4.7265680389469204E-2},-2,"","","","",1,0,0,{"$f":"L1245*100/B$1537","v":0},0]
["2020-03-15T17:00:00",17,"Basilicata",0,2,2,9,11,1,1,0,0,11,208,null,7,7,"",null,{"$f":"M1246*100/M1567","v":4.4449832302905404E-2},1,"","",1,53,1,0,0,{"$f":"L1246*100/B$1537","v":0},0]
["2020-03-16T17:00:00",17,"Basilicata",1,2,3,9,12,1,1,0,0,12,230,null,7,7,"",null,{"$f":"M1247*100/M1568","v":4.2887776983559688E-2},"","","",1,22,1,0,0,{"$f":"L1247*100/B$1537","v":0},0]
["2020-03-17T17:00:00",17,"Basilicata",5,2,7,13,20,8,8,0,0,20,262,null,20,"x2",20,null,{"$f":"M1248*100/M1569","v":6.3479972068812285E-2},7,"","",8,32,1,0,0,{"$f":"L1248*100/B$1537","v":0},0]
["2020-03-18T17:00:00",17,"Basilicata",9,2,11,16,27,7,7,0,0,27,262,null,20,20,"",null,{"$f":"M1249*100/M1570","v":7.5602721697981129E-2},-1,"","",7,"",1,0,0,{"$f":"L1249*100/B$1537","v":0},0]
["2020-03-19T17:00:00",17,"Basilicata",8,5,13,24,37,10,10,0,0,37,353,null,20,20,"",null,{"$f":"M1250*100/M1571","v":9.0166930668941145E-2},3,"","",10,91,1,0,0,{"$f":"L1250*100/B$1537","v":0},0]
["2020-03-20T17:00:00",17,"Basilicata",8,5,13,39,52,15,15,0,0,52,443,null,52,"x2",52,null,{"$f":"M1251*100/M1572","v":0.11058888581697539},5,"","",15,{"$f":"IF(N1251-N1250=0,\"\",N1251-N1250)","v":90},1,0,0,{"$f":"L1251*100/B$1537","v":0},0]
["2020-03-21T17:00:00",17,"Basilicata",12,7,19,47,66,14,14,0,0,66,522,null,52,52,"",null,{"$f":"M1252*100/M1573","v":0.12318488932024338},-1,"","",{"$f":"IF(M1252-M1251=0,\"\",M1252-M1251)","v":14},79,1,0,0,{"$f":"L1252*100/B$1537","v":0},0]
["2020-03-22T17:00:00",17,"Basilicata",13,10,23,58,81,15,15,0,0,81,643,null,52,52,"",null,{"$f":"M1253*100/M1574","v":0.13696777029997634},1,"","",15,121,1,0,0,{"$f":"L1253*100/B$1537","v":0},0]
["2020-03-23T17:00:00",17,"Basilicata",15,12,27,62,89,8,8,0,1,90,696,null,52,52,"",null,{"$f":"M1254*100/M1575","v":0.14078558355624385},-7,"",1,9,53,0.98888888888888893,0,1.1111111111111112E-2,{"$f":"L1254*100/B$1537","v":35.335689045936398},1.1111111111111112E-2]
["2020-03-24T17:00:00",17,"Basilicata",14,12,26,65,91,2,2,0,1,92,744,null,52,52,"",null,{"$f":"M1255*100/M1576","v":0.13299410200069389},-6,"","",2,48,0.98913043478260865,0,1.0869565217391304E-2,{"$f":"L1255*100/B$1537","v":35.335689045936398},1.0869565217391304E-2]
["2020-03-25T17:00:00",17,"Basilicata",20,14,34,78,112,21,21,0,1,113,857,null,113,"x2",113,null,{"$f":"M1256*100/M1577","v":0.15191030570268599},19,"","",21,113,0.99115044247787609,0,8.8495575221238937E-3,{"$f":"L1256*100/B$1537","v":35.335689045936398},8.8495575221238937E-3]
["2020-03-26T17:00:00",17,"Basilicata",22,16,38,95,133,21,21,0,1,134,1046,null,113,113,"",null,{"$f":"M1257*100/M1578","v":0.16637902134369684},"","","",21,{"$f":"IF(N1257-N1256=0,\"\",N1257-N1256)","v":189},0.9925373134328358,0,7.462686567164179E-3,{"$f":"L1257*100/B$1537","v":35.335689045936398},7.462686567164179E-3]
["2020-03-27T17:00:00",17,"Basilicata",22,15,37,110,147,14,17,1,3,151,1254,null,{"$f":"IF(Q1258=\"x2\",M1258,P1257)","v":113},{"$f":"IF(M1258>P1257*2,\"x2\",P1257)","v":113},{"$f":"IF(Q1258=\"x2\",M1258,\"\")","v":""},null,{"$f":"M1258*100/M1579","v":0.17457051030081622},{"$f":"IF(J1258-J1257=0,\"\",J1258-J1257)","v":-4},1,2,17,208,0.97350993377483441,6.6225165562913907E-3,1.9867549668874173E-2,{"$f":"L1258*100/B$1537","v":106.00706713780919},1.9867549668874173E-2]
["2020-03-28T17:00:00",17,"Basilicata",26,19,45,133,178,31,31,1,3,182,1421,null,113,113,"",null,{"$f":"M1259*100/M1580","v":0.19681633359287135},14,"","",31,167,0.97802197802197799,5.4945054945054949E-3,1.6483516483516484E-2,{"$f":"L1259*100/B$1537","v":106.00706713780919},1.6483516483516484E-2]
["2020-03-29T17:00:00",17,"Basilicata",32,18,50,147,197,19,20,1,4,202,1585,null,113,113,"",null,{"$f":"M1260*100/M1581","v":0.20677865471035634},-11,"",1,20,164,0.97524752475247523,4.9504950495049506E-3,1.9801980198019802E-2,{"$f":"L1260*100/B$1537","v":141.34275618374559},1.9801980198019802E-2]
["2020-03-30T17:00:00",17,"Basilicata",36,18,54,154,208,11,12,1,5,214,1833,null,113,113,"",null,{"$f":"M1261*100/M1582","v":0.21034215001130344},-8,"",1,12,248,0.9719626168224299,4.6728971962616819E-3,2.336448598130841E-2,{"$f":"L1261*100/B$1537","v":176.67844522968198},2.336448598130841E-2]
["2020-03-31T17:00:00",17,"Basilicata",37,17,54,162,216,8,12,3,7,226,2043,null,113,113,"",null,{"$f":"M1262*100/M1583","v":0.21362673926194797},"",2,2,12,210,0.95575221238938057,1.3274336283185841E-2,3.0973451327433628E-2,{"$f":"L1262*100/B$1537","v":247.34982332155477},3.0973451327433628E-2]
["2020-04-01T17:00:00",17,"Basilicata",39,15,54,171,225,9,11,3,9,237,2262,null,237,"x2",237,null,{"$f":"M1263*100/M1584","v":0.21433610071083617},-1,"",2,11,{"$f":"IF(N1263-N1262=0,\"\",N1263-N1262)","v":219},{"$f":"IF(M1263=0,0,H1263/M1263)","v":0.94936708860759489},{"$f":"IF(M1263=0,0,K1263/M1263)","v":1.2658227848101266E-2},{"$f":"IF(M1263=0,0,L1263/M1263)","v":3.7974683544303799E-2},{"$f":"L1263*100/B$1537","v":318.02120141342755},3.7974683544303799E-2]
["2020-04-02T17:00:00",17,"Basilicata",38,19,57,176,233,8,9,3,10,246,2427,null,{"$f":"IF(Q1264=\"x2\",M1264,P1263)","v":237},{"$f":"IF(M1264>P1263*2,\"x2\",P1263)","v":237},{"$f":"IF(Q1264=\"x2\",M1264,\"\")","v":""},null,{"$f":"M1264*100/M1585","v":0.21346384130785651},{"$f":"IF(J1264-J1263=0,\"\",J1264-J1263)","v":-2},{"$f":"IF(K1264-K1263=0,\"\",K1264-K1263)","v":""},{"$f":"IF(L1264-L1263=0,\"\",L1264-L1263)","v":1},{"$f":"IF(M1264-M1263=0,\"\",M1264-M1263)","v":9},165,0.94715447154471544,1.2195121951219513E-2,4.065040650406504E-2,{"$f":"L1264*100/B$1537","v":353.35689045936397},4.065040650406504E-2]
["2020-04-03T17:00:00",17,"Basilicata",41,19,60,187,247,14,15,3,11,261,2622,null,{"$f":"IF(Q1265=\"x2\",M1265,P1264)","v":237},{"$f":"IF(M1265>P1264*2,\"x2\",P1264)","v":237},{"$f":"IF(Q1265=\"x2\",M1265,\"\")","v":""},null,{"$f":"M1265*100/M1586","v":0.21781401520525423},{"$f":"IF(J1265-J1264=0,\"\",J1265-J1264)","v":6},{"$f":"IF(K1265-K1264=0,\"\",K1265-K1264)","v":""},{"$f":"IF(L1265-L1264=0,\"\",L1265-L1264)","v":1},{"$f":"IF(M1265-M1264=0,\"\",M1265-M1264)","v":15},195,0.94636015325670497,1.1494252873563218E-2,4.2145593869731802E-2,{"$f":"L1265*100/B$1537","v":388.69257950530033},4.2145593869731802E-2]
["2020-04-04T17:00:00",17,"Basilicata",44,19,63,181,244,-3,3,9,11,264,2765,null,{"$f":"IF(Q1266=\"x2\",M1266,P1265)","v":237},{"$f":"IF(M1266>P1265*2,\"x2\",P1265)","v":237},{"$f":"IF(Q1266=\"x2\",M1266,\"\")","v":""},null,{"$f":"M1266*100/M1587","v":0.21182360870402464},{"$f":"IF(J1266-J1265=0,\"\",J1266-J1265)","v":-12},{"$f":"IF(K1266-K1265=0,\"\",K1266-K1265)","v":6},{"$f":"IF(L1266-L1265=0,\"\",L1266-L1265)","v":""},{"$f":"IF(M1266-M1265=0,\"\",M1266-M1265)","v":3},143,0.9242424242424242,3.4090909090909088E-2,4.1666666666666664E-2,{"$f":"L1266*100/B$1537","v":388.69257950530033},4.1666666666666664E-2]
["2020-04-05T17:00:00",17,"Basilicata",46,18,64,190,254,10,14,11,13,278,2931,null,{"$f":"IF(Q1267=\"x2\",M1267,P1266)","v":237},{"$f":"IF(M1267>P1266*2,\"x2\",P1266)","v":237},{"$f":"IF(Q1267=\"x2\",M1267,\"\")","v":""},null,{"$f":"M1267*100/M1588","v":0.21559078077984925},{"$f":"IF(J1267-J1266=0,\"\",J1267-J1266)","v":11},{"$f":"IF(K1267-K1266=0,\"\",K1267-K1266)","v":2},{"$f":"IF(L1267-L1266=0,\"\",L1267-L1266)","v":2},{"$f":"IF(M1267-M1266=0,\"\",M1267-M1266)","v":14},166,0.91366906474820142,3.9568345323741004E-2,4.6762589928057555E-2,{"$f":"L1267*100/B$1537","v":459.36395759717311},4.6762589928057555E-2]
["2020-04-06T17:00:00",17,"Basilicata",46,18,64,198,262,8,9,12,13,287,3061,null,{"$f":"IF(Q1268=\"x2\",M1268,P1267)","v":237},{"$f":"IF(M1268>P1267*2,\"x2\",P1267)","v":237},{"$f":"IF(Q1268=\"x2\",M1268,\"\")","v":""},null,{"$f":"M1268*100/M1589","v":0.21652696779255659},{"$f":"IF(J1268-J1267=0,\"\",J1268-J1267)","v":-5},{"$f":"IF(K1268-K1267=0,\"\",K1268-K1267)","v":1},{"$f":"IF(L1268-L1267=0,\"\",L1268-L1267)","v":""},{"$f":"IF(M1268-M1267=0,\"\",M1268-M1267)","v":9},130,0.91289198606271782,4.1811846689895474E-2,4.5296167247386762E-2,{"$f":"L1268*100/B$1537","v":459.36395759717311},4.5296167247386762E-2]
["2020-04-07T17:00:00",17,"Basilicata",47,17,64,201,265,3,4,12,14,291,3160,null,{"$f":"IF(Q1269=\"x2\",M1269,P1268)","v":237},{"$f":"IF(M1269>P1268*2,\"x2\",P1268)","v":237},{"$f":"IF(Q1269=\"x2\",M1269,\"\")","v":""},null,{"$f":"M1269*100/M1590","v":0.21462392872420458},{"$f":"IF(J1269-J1268=0,\"\",J1269-J1268)","v":-5},{"$f":"IF(K1269-K1268=0,\"\",K1269-K1268)","v":""},{"$f":"IF(L1269-L1268=0,\"\",L1269-L1268)","v":1},{"$f":"IF(M1269-M1268=0,\"\",M1269-M1268)","v":4},{"$f":"IF(N1269-N1268=0,\"\",N1269-N1268)","v":99},{"$f":"IF(M1269=0,0,H1269/M1269)","v":0.9106529209621993},{"$f":"IF(M1269=0,0,K1269/M1269)","v":4.1237113402061855E-2},{"$f":"IF(M1269=0,0,L1269/M1269)","v":4.8109965635738834E-2},{"$f":"L1269*100/B$1537","v":494.69964664310953},4.8109965635738834E-2]
["2020-04-08T17:00:00",17,"Basilicata",48,17,65,205,270,5,6,13,14,297,3296,null,{"$f":"IF(Q1270=\"x2\",M1270,P1269)","v":237},{"$f":"IF(M1270>P1269*2,\"x2\",P1269)","v":237},{"$f":"IF(Q1270=\"x2\",M1270,\"\")","v":""},null,{"$f":"M1270*100/M1591","v":0.21302233506907087},{"$f":"IF(J1270-J1269=0,\"\",J1270-J1269)","v":2},{"$f":"IF(K1270-K1269=0,\"\",K1270-K1269)","v":1},{"$f":"IF(L1270-L1269=0,\"\",L1270-L1269)","v":""},{"$f":"IF(M1270-M1269=0,\"\",M1270-M1269)","v":6},{"$f":"IF(N1270-N1269=0,\"\",N1270-N1269)","v":136},{"$f":"IF(M1270=0,0,H1270/M1270)","v":0.90909090909090906},{"$f":"IF(M1270=0,0,K1270/M1270)","v":4.3771043771043773E-2},{"$f":"IF(M1270=0,0,L1270/M1270)","v":4.7138047138047139E-2},{"$f":"L1270*100/B$1537","v":494.69964664310953},4.7138047138047139E-2]
["2020-04-09T17:00:00",17,"Basilicata",50,17,67,208,275,5,6,13,15,303,3474,null,{"$f":"IF(Q1271=\"x2\",M1271,P1270)","v":237},{"$f":"IF(M1271>P1270*2,\"x2\",P1270)","v":237},{"$f":"IF(Q1271=\"x2\",M1271,\"\")","v":""},null,{"$f":"M1271*100/M1592","v":0.21096458858423961},{"$f":"IF(J1271-J1270=0,\"\",J1271-J1270)","v":""},{"$f":"IF(K1271-K1270=0,\"\",K1271-K1270)","v":""},{"$f":"IF(L1271-L1270=0,\"\",L1271-L1270)","v":1},{"$f":"IF(M1271-M1270=0,\"\",M1271-M1270)","v":6},{"$f":"IF(N1271-N1270=0,\"\",N1271-N1270)","v":178},{"$f":"IF(M1271=0,0,H1271/M1271)","v":0.90759075907590758},{"$f":"IF(M1271=0,0,K1271/M1271)","v":4.2904290429042903E-2},{"$f":"IF(M1271=0,0,L1271/M1271)","v":4.9504950495049507E-2},{"$f":"L1271*100/B$1537","v":530.03533568904595},4.9504950495049507E-2]
["2020-04-10T17:00:00",17,"Basilicata",59,15,74,205,279,4,5,14,15,308,3696,null,{"$f":"IF(Q1272=\"x2\",M1272,P1271)","v":237},{"$f":"IF(M1272>P1271*2,\"x2\",P1271)","v":237},{"$f":"IF(Q1272=\"x2\",M1272,\"\")","v":""},null,{"$f":"M1272*100/M1593","v":0.20870460844169483},{"$f":"IF(J1272-J1271=0,\"\",J1272-J1271)","v":-1},{"$f":"IF(K1272-K1271=0,\"\",K1272-K1271)","v":1},{"$f":"IF(L1272-L1271=0,\"\",L1272-L1271)","v":""},{"$f":"IF(M1272-M1271=0,\"\",M1272-M1271)","v":5},{"$f":"IF(N1272-N1271=0,\"\",N1272-N1271)","v":222},{"$f":"IF(M1272=0,0,H1272/M1272)","v":0.9058441558441559},{"$f":"IF(M1272=0,0,K1272/M1272)","v":4.5454545454545456E-2},{"$f":"IF(M1272=0,0,L1272/M1272)","v":4.8701298701298704E-2},{"$f":"L1272*100/B$1537","v":530.03533568904595},4.8701298701298704E-2]
["2020-04-11T17:00:00",17,"Basilicata",60,12,72,209,281,2,4,14,17,312,4050,null,{"$f":"IF(Q1273=\"x2\",M1273,P1272)","v":237},{"$f":"IF(M1273>P1272*2,\"x2\",P1272)","v":237},{"$f":"IF(Q1273=\"x2\",M1273,\"\")","v":""},null,{"$f":"M1273*100/M1594","v":0.20489784660243907},{"$f":"IF(J1273-J1272=0,\"\",J1273-J1272)","v":-1},{"$f":"IF(K1273-K1272=0,\"\",K1273-K1272)","v":""},{"$f":"IF(L1273-L1272=0,\"\",L1273-L1272)","v":2},{"$f":"IF(M1273-M1272=0,\"\",M1273-M1272)","v":4},{"$f":"IF(N1273-N1272=0,\"\",N1273-N1272)","v":354},{"$f":"IF(M1273=0,0,H1273/M1273)","v":0.90064102564102566},{"$f":"IF(M1273=0,0,K1273/M1273)","v":4.4871794871794872E-2},{"$f":"IF(M1273=0,0,L1273/M1273)","v":5.4487179487179488E-2},{"$f":"L1273*100/B$1537","v":600.70671378091868},5.4487179487179488E-2]
["2020-04-12T17:00:00",17,"Basilicata",61,12,73,204,277,-4,3,20,18,315,4355,null,{"$f":"IF(Q1274=\"x2\",M1274,P1273)","v":237},{"$f":"IF(M1274>P1273*2,\"x2\",P1273)","v":237},{"$f":"IF(Q1274=\"x2\",M1274,\"\")","v":""},null,{"$f":"M1274*100/M1595","v":0.20145430824427774},{"$f":"IF(J1274-J1273=0,\"\",J1274-J1273)","v":-1},{"$f":"IF(K1274-K1273=0,\"\",K1274-K1273)","v":6},{"$f":"IF(L1274-L1273=0,\"\",L1274-L1273)","v":1},{"$f":"IF(M1274-M1273=0,\"\",M1274-M1273)","v":3},{"$f":"IF(N1274-N1273=0,\"\",N1274-N1273)","v":305},{"$f":"IF(M1274=0,0,H1274/M1274)","v":0.87936507936507935},{"$f":"IF(M1274=0,0,K1274/M1274)","v":6.3492063492063489E-2},{"$f":"IF(M1274=0,0,L1274/M1274)","v":5.7142857142857141E-2},{"$f":"L1274*100/B$1537","v":636.0424028268551},5.7142857142857141E-2]
["2020-04-13T17:00:00",17,"Basilicata",64,12,76,194,270,-7,4,31,18,319,4545,null,{"$f":"IF(Q1275=\"x2\",M1275,P1274)","v":237},{"$f":"IF(M1275>P1274*2,\"x2\",P1274)","v":237},{"$f":"IF(Q1275=\"x2\",M1275,\"\")","v":""},null,{"$f":"M1275*100/M1596","v":0.19997993931643221},{"$f":"IF(J1275-J1274=0,\"\",J1275-J1274)","v":1},{"$f":"IF(K1275-K1274=0,\"\",K1275-K1274)","v":11},{"$f":"IF(L1275-L1274=0,\"\",L1275-L1274)","v":""},{"$f":"IF(M1275-M1274=0,\"\",M1275-M1274)","v":4},{"$f":"IF(N1275-N1274=0,\"\",N1275-N1274)","v":190},{"$f":"IF(M1275=0,0,H1275/M1275)","v":0.84639498432601878},{"$f":"IF(M1275=0,0,K1275/M1275)","v":9.7178683385579931E-2},{"$f":"IF(M1275=0,0,L1275/M1275)","v":5.6426332288401257E-2},{"$f":"L1275*100/B$1537","v":636.0424028268551},5.6426332288401257E-2]
["2020-04-14T17:00:00",17,"Basilicata",62,12,74,191,265,-5,0,35,19,319,4759,null,{"$f":"IF(Q1276=\"x2\",M1276,P1275)","v":237},{"$f":"IF(M1276>P1275*2,\"x2\",P1275)","v":237},{"$f":"IF(Q1276=\"x2\",M1276,\"\")","v":""},null,{"$f":"M1276*100/M1597","v":0.19632218994633449},{"$f":"IF(J1276-J1275=0,\"\",J1276-J1275)","v":-4},{"$f":"IF(K1276-K1275=0,\"\",K1276-K1275)","v":4},{"$f":"IF(L1276-L1275=0,\"\",L1276-L1275)","v":1},{"$f":"IF(M1276-M1275=0,\"\",M1276-M1275)","v":""},{"$f":"IF(N1276-N1275=0,\"\",N1276-N1275)","v":214},{"$f":"IF(M1276=0,0,H1276/M1276)","v":0.83072100313479624},{"$f":"IF(M1276=0,0,K1276/M1276)","v":0.109717868338558},{"$f":"IF(M1276=0,0,L1276/M1276)","v":5.9561128526645767E-2},{"$f":"L1276*100/B$1537","v":671.37809187279152},5.9561128526645767E-2]
["2020-04-15T17:00:00",17,"Basilicata",60,12,72,189,261,-4,1,38,21,320,5037,null,{"$f":"IF(Q1277=\"x2\",M1277,P1276)","v":237},{"$f":"IF(M1277>P1276*2,\"x2\",P1276)","v":237},{"$f":"IF(Q1277=\"x2\",M1277,\"\")","v":""},null,{"$f":"M1277*100/M1598","v":0.19375737943144319},{"$f":"IF(J1277-J1276=0,\"\",J1277-J1276)","v":1},{"$f":"IF(K1277-K1276=0,\"\",K1277-K1276)","v":3},{"$f":"IF(L1277-L1276=0,\"\",L1277-L1276)","v":2},{"$f":"IF(M1277-M1276=0,\"\",M1277-M1276)","v":1},{"$f":"IF(N1277-N1276=0,\"\",N1277-N1276)","v":278},{"$f":"IF(M1277=0,0,H1277/M1277)","v":0.81562500000000004},{"$f":"IF(M1277=0,0,K1277/M1277)","v":0.11874999999999999},{"$f":"IF(M1277=0,0,L1277/M1277)","v":6.5625000000000003E-2},{"$f":"L1277*100/B$1537","v":742.04946996466424},6.5625000000000003E-2]
["2020-04-16T17:00:00",17,"Basilicata",60,9,69,204,273,12,16,41,22,336,5349,null,{"$f":"IF(Q1278=\"x2\",M1278,P1277)","v":237},{"$f":"IF(M1278>P1277*2,\"x2\",P1277)","v":237},{"$f":"IF(Q1278=\"x2\",M1278,\"\")","v":""},null,{"$f":"M1278*100/M1599","v":0.19888600162186798},{"$f":"IF(J1278-J1277=0,\"\",J1278-J1277)","v":15},{"$f":"IF(K1278-K1277=0,\"\",K1278-K1277)","v":3},{"$f":"IF(L1278-L1277=0,\"\",L1278-L1277)","v":1},{"$f":"IF(M1278-M1277=0,\"\",M1278-M1277)","v":16},{"$f":"IF(N1278-N1277=0,\"\",N1278-N1277)","v":312},{"$f":"IF(M1278=0,0,H1278/M1278)","v":0.8125},{"$f":"IF(M1278=0,0,K1278/M1278)","v":0.12202380952380952},{"$f":"IF(M1278=0,0,L1278/M1278)","v":6.5476190476190479E-2},{"$f":"L1278*100/B$1537","v":777.38515901060066},6.5476190476190479E-2]
["2020-04-17T17:00:00",17,"Basilicata",59,9,68,198,266,-7,1,49,22,337,5710,null,{"$f":"IF(Q1279=\"x2\",M1279,P1278)","v":237},{"$f":"IF(M1279>P1278*2,\"x2\",P1278)","v":237},{"$f":"IF(Q1279=\"x2\",M1279,\"\")","v":""},null,{"$f":"M1279*100/M1600","v":0.19543709477249266},{"$f":"IF(J1279-J1278=0,\"\",J1279-J1278)","v":-15},{"$f":"IF(K1279-K1278=0,\"\",K1279-K1278)","v":8},{"$f":"IF(L1279-L1278=0,\"\",L1279-L1278)","v":""},{"$f":"IF(M1279-M1278=0,\"\",M1279-M1278)","v":1},{"$f":"IF(N1279-N1278=0,\"\",N1279-N1278)","v":361},{"$f":"IF(M1279=0,0,H1279/M1279)","v":0.78931750741839768},{"$f":"IF(M1279=0,0,K1279/M1279)","v":0.14540059347181009},{"$f":"IF(M1279=0,0,L1279/M1279)","v":6.5281899109792291E-2},{"$f":"L1279*100/B$1537","v":777.38515901060066},6.5281899109792291E-2]
["2020-04-18T17:00:00",17,"Basilicata",60,8,68,194,262,-4,2,54,23,339,6056,null,{"$f":"IF(Q1280=\"x2\",M1280,P1279)","v":237},{"$f":"IF(M1280>P1279*2,\"x2\",P1279)","v":237},{"$f":"IF(Q1280=\"x2\",M1280,\"\")","v":""},null,{"$f":"M1280*100/M1601","v":0.19269575103026859},{"$f":"IF(J1280-J1279=0,\"\",J1280-J1279)","v":1},{"$f":"IF(K1280-K1279=0,\"\",K1280-K1279)","v":5},{"$f":"IF(L1280-L1279=0,\"\",L1280-L1279)","v":1},{"$f":"IF(M1280-M1279=0,\"\",M1280-M1279)","v":2},{"$f":"IF(N1280-N1279=0,\"\",N1280-N1279)","v":346},{"$f":"IF(M1280=0,0,H1280/M1280)","v":0.77286135693215341},{"$f":"IF(M1280=0,0,K1280/M1280)","v":0.15929203539823009},{"$f":"IF(M1280=0,0,L1280/M1280)","v":6.7846607669616518E-2},{"$f":"L1280*100/B$1537","v":812.72084805653708},6.7846607669616518E-2]
["2020-04-19T17:00:00",17,"Basilicata",59,8,67,180,247,-15,3,71,24,342,6528,6528,{"$f":"IF(Q1281=\"x2\",M1281,P1280)","v":237},{"$f":"IF(M1281>P1280*2,\"x2\",P1280)","v":237},{"$f":"IF(Q1281=\"x2\",M1281,\"\")","v":""},null,{"$f":"M1281*100/M1602","v":0.19109134389736943},{"$f":"IF(J1281-J1280=0,\"\",J1281-J1280)","v":1},{"$f":"IF(K1281-K1280=0,\"\",K1281-K1280)","v":17},{"$f":"IF(L1281-L1280=0,\"\",L1281-L1280)","v":1},{"$f":"IF(M1281-M1280=0,\"\",M1281-M1280)","v":3},{"$f":"IF(N1281-N1280=0,\"\",N1281-N1280)","v":472},{"$f":"IF(M1281=0,0,H1281/M1281)","v":0.72222222222222221},{"$f":"IF(M1281=0,0,K1281/M1281)","v":0.20760233918128654},{"$f":"IF(M1281=0,0,L1281/M1281)","v":7.0175438596491224E-2},{"$f":"L1281*100/B$1537","v":848.0565371024735},7.0175438596491224E-2]
["2020-04-20T17:00:00",17,"Basilicata",59,7,66,176,242,-5,0,76,24,342,6868,6868,{"$f":"IF(Q1282=\"x2\",M1282,P1281)","v":237},{"$f":"IF(M1282>P1281*2,\"x2\",P1281)","v":237},{"$f":"IF(Q1282=\"x2\",M1282,\"\")","v":""},null,{"$f":"M1282*100/M1603","v":0.18871256097291808},{"$f":"IF(J1282-J1281=0,\"\",J1282-J1281)","v":-3},{"$f":"IF(K1282-K1281=0,\"\",K1282-K1281)","v":5},{"$f":"IF(L1282-L1281=0,\"\",L1282-L1281)","v":""},{"$f":"IF(M1282-M1281=0,\"\",M1282-M1281)","v":""},{"$f":"IF(N1282-N1281=0,\"\",N1282-N1281)","v":340},{"$f":"IF(M1282=0,0,H1282/M1282)","v":0.70760233918128657},{"$f":"IF(M1282=0,0,K1282/M1282)","v":0.22222222222222221},{"$f":"IF(M1282=0,0,L1282/M1282)","v":7.0175438596491224E-2},{"$f":"L1282*100/B$1537","v":848.0565371024735},7.0175438596491224E-2]
["2020-04-21T17:00:00",17,"Basilicata",64,7,71,174,245,3,8,81,24,350,7470,7470,237,{"$f":"IF(M1283>P1282*2,\"x2\",P1282)","v":237},{"$f":"IF(Q1283=\"x2\",M1283,\"\")","v":""},null,{"$f":"M1283*100/M1604","v":0.19026185467255935},{"$f":"IF(J1283-J1282=0,\"\",J1283-J1282)","v":8},{"$f":"IF(K1283-K1282=0,\"\",K1283-K1282)","v":5},{"$f":"IF(L1283-L1282=0,\"\",L1283-L1282)","v":""},{"$f":"IF(M1283-M1282=0,\"\",M1283-M1282)","v":8},{"$f":"IF(N1283-N1282=0,\"\",N1283-N1282)","v":602},{"$f":"IF(M1283=0,0,H1283/M1283)","v":0.7},{"$f":"IF(M1283=0,0,K1283/M1283)","v":0.23142857142857143},{"$f":"IF(M1283=0,0,L1283/M1283)","v":6.8571428571428575E-2},{"$f":"L1283*100/B$1537","v":848.0565371024735},6.8571428571428575E-2]
["2020-04-22T17:00:00",17,"Basilicata",65,7,72,160,232,-13,4,98,24,354,8040,8040,237,{"$f":"IF(M1284>P1283*2,\"x2\",P1283)","v":237},{"$f":"IF(Q1284=\"x2\",M1284,\"\")","v":""},null,{"$f":"M1284*100/M1605","v":0.18897436034314327},{"$f":"IF(J1284-J1283=0,\"\",J1284-J1283)","v":-4},{"$f":"IF(K1284-K1283=0,\"\",K1284-K1283)","v":17},{"$f":"IF(L1284-L1283=0,\"\",L1284-L1283)","v":""},{"$f":"IF(M1284-M1283=0,\"\",M1284-M1283)","v":4},{"$f":"IF(N1284-N1283=0,\"\",N1284-N1283)","v":570},{"$f":"IF(M1284=0,0,H1284/M1284)","v":0.65536723163841804},{"$f":"IF(M1284=0,0,K1284/M1284)","v":0.2768361581920904},{"$f":"IF(M1284=0,0,L1284/M1284)","v":6.7796610169491525E-2},{"$f":"L1284*100/B$1537","v":848.0565371024735},6.7796610169491525E-2]
["2020-04-23T17:00:00",17,"Basilicata",61,7,68,161,229,-3,2,103,24,356,8511,8511,{"$f":"IF(Q1285=\"x2\",M1285,P1284)","v":237},{"$f":"IF(M1285>P1284*2,\"x2\",P1284)","v":237},{"$f":"IF(Q1285=\"x2\",M1285,\"\")","v":""},null,{"$f":"M1285*100/M1606","v":0.18739505087565075},{"$f":"IF(J1285-J1284=0,\"\",J1285-J1284)","v":-2},{"$f":"IF(K1285-K1284=0,\"\",K1285-K1284)","v":5},{"$f":"IF(L1285-L1284=0,\"\",L1285-L1284)","v":""},{"$f":"IF(M1285-M1284=0,\"\",M1285-M1284)","v":2},{"$f":"IF(N1285-N1284=0,\"\",N1285-N1284)","v":471},{"$f":"IF(M1285=0,0,H1285/M1285)","v":0.6432584269662921},{"$f":"IF(M1285=0,0,K1285/M1285)","v":0.2893258426966292},{"$f":"IF(M1285=0,0,L1285/M1285)","v":6.741573033707865E-2},{"$f":"L1285*100/B$1537","v":848.0565371024735},{"$f":"IF(M1285=0,0,L1285/M1285)","v":6.741573033707865E-2}]
["2020-04-24T17:00:00",17,"Basilicata",59,7,66,163,229,0,4,107,24,360,9026,9026,{"$f":"IF(Q1286=\"x2\",M1286,P1285)","v":237},{"$f":"IF(M1286>P1285*2,\"x2\",P1285)","v":237},{"$f":"IF(Q1286=\"x2\",M1286,\"\")","v":""},null,{"$f":"M1286*100/M1607","v":0.18653429640299699},{"$f":"IF(J1286-J1285=0,\"\",J1286-J1285)","v":2},{"$f":"IF(K1286-K1285=0,\"\",K1286-K1285)","v":4},{"$f":"IF(L1286-L1285=0,\"\",L1286-L1285)","v":""},{"$f":"IF(M1286-M1285=0,\"\",M1286-M1285)","v":4},{"$f":"IF(N1286-N1285=0,\"\",N1286-N1285)","v":515},{"$f":"IF(M1286=0,0,H1286/M1286)","v":0.63611111111111107},{"$f":"IF(M1286=0,0,K1286/M1286)","v":0.29722222222222222},{"$f":"IF(M1286=0,0,L1286/M1286)","v":6.6666666666666666E-2},{"$f":"L1286*100/B$1537","v":848.0565371024735},{"$f":"IF(M1286=0,0,L1286/M1286)","v":6.6666666666666666E-2}]
["2020-04-25T17:00:00",17,"Basilicata",58,7,65,153,218,-11,1,118,25,361,9792,9792,{"$f":"IF(Q1287=\"x2\",M1287,P1286)","v":237},{"$f":"IF(M1287>P1286*2,\"x2\",P1286)","v":237},{"$f":"IF(Q1287=\"x2\",M1287,\"\")","v":""},null,{"$f":"M1287*100/M1608","v":0.18479557309663119},{"$f":"IF(J1287-J1286=0,\"\",J1287-J1286)","v":-3},{"$f":"IF(K1287-K1286=0,\"\",K1287-K1286)","v":11},{"$f":"IF(L1287-L1286=0,\"\",L1287-L1286)","v":1},{"$f":"IF(M1287-M1286=0,\"\",M1287-M1286)","v":1},{"$f":"IF(N1287-N1286=0,\"\",N1287-N1286)","v":766},{"$f":"IF(M1287=0,0,H1287/M1287)","v":0.60387811634349031},{"$f":"IF(M1287=0,0,K1287/M1287)","v":0.32686980609418281},{"$f":"IF(M1287=0,0,L1287/M1287)","v":6.9252077562326875E-2},{"$f":"L1287*100/B$1537","v":883.39222614840992},{"$f":"IF(M1287=0,0,L1287/M1287)","v":6.9252077562326875E-2}]
["2020-04-26T17:00:00",17,"Basilicata",57,7,64,155,219,1,5,122,25,366,10077,10077,{"$f":"IF(Q1288=\"x2\",M1288,P1287)","v":237},{"$f":"IF(M1288>P1287*2,\"x2\",P1287)","v":237},{"$f":"IF(Q1288=\"x2\",M1288,\"\")","v":""},null,{"$f":"M1288*100/M1609","v":0.18515239661059821},{"$f":"IF(J1288-J1287=0,\"\",J1288-J1287)","v":4},{"$f":"IF(K1288-K1287=0,\"\",K1288-K1287)","v":4},{"$f":"IF(L1288-L1287=0,\"\",L1288-L1287)","v":""},{"$f":"IF(M1288-M1287=0,\"\",M1288-M1287)","v":5},{"$f":"IF(N1288-N1287=0,\"\",N1288-N1287)","v":285},{"$f":"IF(M1288=0,0,H1288/M1288)","v":0.59836065573770492},{"$f":"IF(M1288=0,0,K1288/M1288)","v":0.33333333333333331},{"$f":"IF(M1288=0,0,L1288/M1288)","v":6.8306010928961755E-2},{"$f":"L1288*100/B$1537","v":883.39222614840992},{"$f":"IF(M1288=0,0,L1288/M1288)","v":6.8306010928961755E-2}]
["2020-04-27T17:00:00",17,"Basilicata",57,7,64,153,217,-2,0,124,25,366,10364,10364,{"$f":"IF(Q1289=\"x2\",M1289,P1288)","v":237},{"$f":"IF(M1289>P1288*2,\"x2\",P1288)","v":237},{"$f":"IF(Q1289=\"x2\",M1289,\"\")","v":""},null,{"$f":"M1289*100/M1610","v":0.18353776565336435},{"$f":"IF(J1289-J1288=0,\"\",J1289-J1288)","v":-5},{"$f":"IF(K1289-K1288=0,\"\",K1289-K1288)","v":2},{"$f":"IF(L1289-L1288=0,\"\",L1289-L1288)","v":""},{"$f":"IF(M1289-M1288=0,\"\",M1289-M1288)","v":""},{"$f":"IF(N1289-N1288=0,\"\",N1289-N1288)","v":287},{"$f":"IF(M1289=0,0,H1289/M1289)","v":0.59289617486338797},{"$f":"IF(M1289=0,0,K1289/M1289)","v":0.33879781420765026},{"$f":"IF(M1289=0,0,L1289/M1289)","v":6.8306010928961755E-2},{"$f":"L1289*100/B$1537","v":883.39222614840992},{"$f":"IF(M1289=0,0,L1289/M1289)","v":6.8306010928961755E-2}]
[{"$f":"A1289 + 1","v":"2020-04-28T17:00:00"},null,null,null,null,null,null,null,null,null,null,null,null,null,null,null,"Media x2",{"$f":"COUNT(N1226:N1289) / COUNT(R1226:R1289)","v":8}]
[{"$f":"A1290+1","v":"2020-04-29T17:00:00"}]
[{"$f":"A1291+1","v":"2020-04-30T17:00:00"}]
[null,null,null,null,{"$f":"E1289/$M1289","v":1.912568306010929E-2},null,null,{"$f":"H1289/$M1289","v":0.59289617486338797},null,null,{"$f":"K1289/$M1289","v":0.33879781420765026},{"$f":"L1289/$M1289","v":6.8306010928961755E-2},null,{"$f":"N1289/$M1289","v":28.316939890710383}]
[]
[]
[]
["Data","Codice","Regione","Ricoverati","Terap. Intens.","Ospedalizzati","Quarantena","Positivi","+ Positivi","Nuovi","Guariti","Deceduti","Totale","Tamponi",null,null,null,"x 2",null,"% su Tot.","+ Nuovi","+ Guariti","+ Deceduti","+ Totali","+ Tamponi","% Positivi","% Guariti","% Deceduti","P. Stimati","% Morti"]
["2020-02-24T18:00:00",18,"Calabria",0,0,0,0,0,0,0,0,0,0,1,null,{"$f":"M1298","v":0},null,{"$f":"M1298","v":0},null,{"$f":"M1298*100/M1547","v":0},null,null,null,null,null,{"$f":"IF(M1298=0,0,H1298/M1298)","v":0},{"$f":"IF(M1298=0,0,K1298/M1298)","v":0},{"$f":"IF(M1298=0,0,L1298/M1298)","v":0},{"$f":"L1298*100/B$1537","v":0},{"$f":"IF(M1298=0,0,L1298/M1298)","v":0}]
["2020-02-25T18:00:00",18,"Calabria",0,0,0,0,0,0,0,0,0,0,2,null,{"$f":"IF(Q1299=\"x2\",M1299,P1298)","v":0},{"$f":"IF(M1299>P1298*2,\"x2\",P1298)","v":0},{"$f":"IF(Q1299=\"x2\",M1299,\"\")","v":""},null,{"$f":"M1299*100/M1548","v":0},{"$f":"IF(J1299-J1298=0,\"\",J1299-J1298)","v":""},{"$f":"IF(K1299-K1298=0,\"\",K1299-K1298)","v":""},{"$f":"IF(L1299-L1298=0,\"\",L1299-L1298)","v":""},{"$f":"IF(M1299-M1298=0,\"\",M1299-M1298)","v":""},{"$f":"IF(N1299-N1298=0,\"\",N1299-N1298)","v":1},0,0,0,{"$f":"L1299*100/B$1537","v":0},0]
["2020-02-26T18:00:00",18,"Calabria",0,0,0,0,0,0,0,0,0,0,3,null,0,0,"",null,{"$f":"M1300*100/M1549","v":0},"","","","",1,0,0,0,{"$f":"L1300*100/B$1537","v":0},0]
["2020-02-27T18:00:00",18,"Calabria",0,0,0,0,0,0,0,0,0,0,14,null,0,0,"",null,{"$f":"M1301*100/M1550","v":0},"","","","",11,0,0,0,{"$f":"L1301*100/B$1537","v":0},0]
["2020-02-28T18:00:00",18,"Calabria",0,0,0,1,1,1,1,0,0,1,21,null,1,"x2",1,null,{"$f":"M1302*100/M1551","v":0.11261261261261261},1,"","",1,7,1,0,0,{"$f":"L1302*100/B$1537","v":0},0]
["2020-02-29T17:00:00",18,"Calabria",0,0,0,1,1,0,0,0,0,1,27,null,1,1,"",null,{"$f":"M1303*100/M1552","v":8.8652482269503549E-2},-1,"","","",6,1,0,0,{"$f":"L1303*100/B$1537","v":0},0]
["2020-03-01T17:00:00",18,"Calabria",0,0,0,1,1,0,0,0,0,1,35,null,1,1,"",null,{"$f":"M1304*100/M1553","v":5.9031877213695398E-2},"","","","",8,1,0,0,{"$f":"L1304*100/B$1537","v":0},0]
["2020-03-02T18:00:00",18,"Calabria",0,0,0,1,1,0,0,0,0,1,39,null,1,1,"",null,{"$f":"M1305*100/M1554","v":4.9115913555992138E-2},"","","","",4,1,0,0,{"$f":"L1305*100/B$1537","v":0},0]
["2020-03-03T18:00:00",18,"Calabria",0,0,0,1,1,0,0,0,0,1,39,null,1,1,"",null,{"$f":"M1306*100/M1555","v":3.9968025579536368E-2},"","","","","",1,0,0,{"$f":"L1306*100/B$1537","v":0},0]
["2020-03-04T17:00:00",18,"Calabria",0,0,0,1,1,0,0,0,0,1,46,null,1,1,"",null,{"$f":"M1307*100/M1556","v":3.2372936225315639E-2},"","","","",7,1,0,0,{"$f":"L1307*100/B$1537","v":0},0]
["2020-03-05T17:00:00",18,"Calabria",1,0,1,1,2,1,1,0,0,2,53,null,1,1,"",null,{"$f":"M1308*100/M1557","v":5.1840331778123382E-2},1,"","",1,7,1,0,0,{"$f":"L1308*100/B$1537","v":0},0]
["2020-03-06T17:00:00",18,"Calabria",2,0,2,2,4,2,2,0,0,4,99,null,4,"x2",4,null,{"$f":"M1309*100/M1558","v":8.6281276962899056E-2},1,"","",2,46,1,0,0,{"$f":"L1309*100/B$1537","v":0},0]
["2020-03-07T18:00:00",18,"Calabria",2,0,2,2,4,0,0,0,0,4,113,null,4,4,"",null,{"$f":"M1310*100/M1559","v":6.7992520822709498E-2},-2,"","","",14,1,0,0,{"$f":"L1310*100/B$1537","v":0},0]
["2020-03-08T18:00:00",18,"Calabria",5,0,5,4,9,5,5,0,0,9,113,null,9,"x2",9,null,{"$f":"M1311*100/M1560","v":0.12203389830508475},5,"","",5,"",1,0,0,{"$f":"L1311*100/B$1537","v":0},0]
["2020-03-09T18:00:00",18,"Calabria",8,0,8,1,9,0,0,2,0,11,173,null,9,9,"",null,{"$f":"M1312*100/M1561","v":0.11993022241604885},-5,2,"",2,60,0.81818181818181823,0.18181818181818182,0,{"$f":"L1312*100/B$1537","v":0},0]
["2020-03-10T18:00:00",18,"Calabria",8,2,10,1,11,2,2,2,0,13,360,null,9,9,"",null,{"$f":"M1313*100/M1562","v":0.12809143758005714},2,"","",2,187,0.84615384615384615,0.15384615384615385,0,{"$f":"L1313*100/B$1537","v":0},0]
["2020-03-11T17:00:00",18,"Calabria",10,2,12,5,17,6,6,2,0,19,405,null,19,"x2",19,null,{"$f":"M1314*100/M1563","v":0.15246348900657999},4,"","",6,45,0.89473684210526316,0.10526315789473684,0,{"$f":"L1314*100/B$1537","v":0},0]
["2020-03-12T17:00:00",18,"Calabria",14,2,16,16,32,15,15,1,0,33,483,null,19,19,"",null,{"$f":"M1315*100/M1564","v":0.21835505855885662},9,-1,"",14,78,0.96969696969696972,3.0303030303030304E-2,0,{"$f":"L1315*100/B$1537","v":0},0]
["2020-03-13T17:00:00",18,"Calabria",18,3,21,16,37,5,5,1,0,38,504,null,19,19,"",null,{"$f":"M1316*100/M1565","v":0.21517553793884484},-10,"","",5,21,0.97368421052631582,2.6315789473684209E-2,0,{"$f":"L1316*100/B$1537","v":0},0]
["2020-03-14T17:00:00",18,"Calabria",22,4,26,33,59,22,22,1,0,60,711,null,60,"x2",60,null,{"$f":"M1317*100/M1566","v":0.28359408233681521},17,"","",22,207,0.98333333333333328,1.6666666666666666E-2,0,{"$f":"L1317*100/B$1537","v":0},0]
["2020-03-15T17:00:00",18,"Calabria",32,6,38,28,66,7,7,1,1,68,884,null,60,60,"",null,{"$f":"M1318*100/M1567","v":0.27478078150886975},-15,"",1,8,173,0.97058823529411764,1.4705882352941176E-2,1.4705882352941176E-2,{"$f":"L1318*100/B$1537","v":35.335689045936398},1.4705882352941176E-2]
["2020-03-16T17:00:00",18,"Calabria",36,7,43,44,87,21,21,1,1,89,1030,null,60,60,"",null,{"$f":"M1319*100/M1568","v":0.318084345961401},14,"","",21,146,0.97752808988764039,1.1235955056179775E-2,1.1235955056179775E-2,{"$f":"L1319*100/B$1537","v":35.335689045936398},1.1235955056179775E-2]
["2020-03-17T17:00:00",18,"Calabria",45,10,55,57,112,25,25,1,1,114,1293,null,60,60,"",null,{"$f":"M1320*100/M1569","v":0.36183584079223008},4,"","",25,263,0.98245614035087714,8.771929824561403E-3,8.771929824561403E-3,{"$f":"L1320*100/B$1537","v":35.335689045936398},8.771929824561403E-3]
["2020-03-18T17:00:00",18,"Calabria",45,11,56,70,126,14,14,2,1,129,1668,null,129,"x2",129,null,{"$f":"M1321*100/M1570","v":0.36121300366813203},-11,1,"",15,375,0.97674418604651159,1.5503875968992248E-2,7.7519379844961239E-3,{"$f":"L1321*100/B$1537","v":35.335689045936398},7.7519379844961239E-3]
["2020-03-19T17:00:00",18,"Calabria",60,13,73,91,164,38,38,2,3,169,2342,null,129,129,"",null,{"$f":"M1322*100/M1571","v":0.41184354819056901},24,"",2,40,674,0.97041420118343191,1.1834319526627219E-2,1.7751479289940829E-2,{"$f":"L1322*100/B$1537","v":106.00706713780919},1.7751479289940829E-2]
["2020-03-20T17:00:00",18,"Calabria",71,16,87,114,201,37,37,2,4,207,2690,null,129,129,"",null,{"$f":"M1323*100/M1572","v":0.44022883392526746},-1,"",1,38,{"$f":"IF(N1323-N1322=0,\"\",N1323-N1322)","v":348},0.97101449275362317,9.6618357487922701E-3,1.932367149758454E-2,{"$f":"L1323*100/B$1537","v":141.34275618374559},1.932367149758454E-2]
["2020-03-21T17:00:00",18,"Calabria",73,16,89,136,225,24,24,5,5,235,3050,null,129,129,"",null,{"$f":"M1324*100/M1573","v":0.4386128634887454},-13,3,1,{"$f":"IF(M1324-M1323=0,\"\",M1324-M1323)","v":28},360,0.95744680851063835,2.1276595744680851E-2,2.1276595744680851E-2,{"$f":"L1324*100/B$1537","v":176.67844522968198},2.1276595744680851E-2]
["2020-03-22T17:00:00",18,"Calabria",77,17,94,166,260,35,35,5,8,273,3666,null,273,"x2",273,null,{"$f":"M1325*100/M1574","v":0.46163211471473503},11,"",3,38,616,0.95238095238095233,1.8315018315018316E-2,2.9304029304029304E-2,{"$f":"L1325*100/B$1537","v":282.68551236749119},2.9304029304029304E-2]
["2020-03-23T17:00:00",18,"Calabria",82,20,102,178,280,20,20,5,7,292,4073,null,273,273,"",null,{"$f":"M1326*100/M1575","v":0.45677100442692448},-15,"",-1,19,407,0.95890410958904104,1.7123287671232876E-2,2.3972602739726026E-2,{"$f":"L1326*100/B$1537","v":247.34982332155477},2.3972602739726026E-2]
["2020-03-24T17:00:00",18,"Calabria",88,21,109,195,304,24,24,5,10,319,4486,null,273,273,"",null,{"$f":"M1327*100/M1576","v":0.46114259280675379},4,"",3,27,413,0.95297805642633227,1.5673981191222569E-2,3.1347962382445138E-2,{"$f":"L1327*100/B$1537","v":353.35689045936397},3.1347962382445138E-2]
["2020-03-25T17:00:00",18,"Calabria",93,23,116,217,333,29,29,7,11,351,5058,null,273,273,"",null,{"$f":"M1328*100/M1577","v":0.47186298497029011},5,2,1,32,572,0.94871794871794868,1.9943019943019943E-2,3.1339031339031341E-2,{"$f":"L1328*100/B$1537","v":388.69257950530033},3.1339031339031341E-2]
["2020-03-26T17:00:00",18,"Calabria",101,23,124,248,372,39,39,7,14,393,5933,null,273,273,"",null,{"$f":"M1329*100/M1578","v":0.48796235364233476},10,"",3,42,{"$f":"IF(N1329-N1328=0,\"\",N1329-N1328)","v":875},0.94656488549618323,1.7811704834605598E-2,3.5623409669211195E-2,{"$f":"L1329*100/B$1537","v":494.69964664310953},3.5623409669211195E-2]
["2020-03-27T17:00:00",18,"Calabria",103,22,125,344,469,97,101,7,18,494,6901,null,{"$f":"IF(Q1330=\"x2\",M1330,P1329)","v":273},{"$f":"IF(M1330>P1329*2,\"x2\",P1329)","v":273},{"$f":"IF(Q1330=\"x2\",M1330,\"\")","v":""},null,{"$f":"M1330*100/M1579","v":0.57111147078545166},{"$f":"IF(J1330-J1329=0,\"\",J1330-J1329)","v":62},"",4,101,968,0.94939271255060731,1.417004048582996E-2,3.643724696356275E-2,{"$f":"L1330*100/B$1537","v":636.0424028268551},3.643724696356275E-2]
["2020-03-28T17:00:00",18,"Calabria",107,22,129,394,523,54,61,11,21,555,7760,null,555,"x2",555,null,{"$f":"M1331*100/M1580","v":0.60018167661562416},-40,4,3,61,859,0.94234234234234238,1.9819819819819819E-2,3.783783783783784E-2,{"$f":"L1331*100/B$1537","v":742.04946996466424},3.783783783783784E-2]
["2020-03-29T17:00:00",18,"Calabria",124,19,143,434,577,54,59,12,25,614,8485,null,555,555,"",null,{"$f":"M1332*100/M1581","v":0.62852521778296433},-2,1,4,59,725,0.93973941368078173,1.9543973941368076E-2,4.071661237785016E-2,{"$f":"L1332*100/B$1537","v":883.39222614840992},4.071661237785016E-2]
["2020-03-30T17:00:00",18,"Calabria",130,18,148,454,602,25,33,14,31,647,9013,null,555,555,"",null,{"$f":"M1333*100/M1582","v":0.63594098624912765},-26,2,6,33,528,0.93044822256568782,2.1638330757341576E-2,4.7913446676970631E-2,{"$f":"L1333*100/B$1537","v":1095.4063604240282},4.7913446676970631E-2]
["2020-03-31T17:00:00",18,"Calabria",132,17,149,457,606,4,12,17,36,659,9327,null,555,555,"",null,{"$f":"M1334*100/M1583","v":0.62292044767090138},-21,3,5,12,314,0.91957511380880119,2.5796661608497723E-2,5.4628224582701064E-2,{"$f":"L1334*100/B$1537","v":1272.0848056537102},5.4628224582701064E-2]
["2020-04-01T17:00:00",18,"Calabria",144,16,160,450,610,4,10,21,38,669,9983,null,555,555,"",null,{"$f":"M1335*100/M1584","v":0.60502468934830977},-2,4,2,10,{"$f":"IF(N1335-N1334=0,\"\",N1335-N1334)","v":656},{"$f":"IF(M1335=0,0,H1335/M1335)","v":0.91180866965620333},{"$f":"IF(M1335=0,0,K1335/M1335)","v":3.1390134529147982E-2},{"$f":"IF(M1335=0,0,L1335/M1335)","v":5.6801195814648729E-2},{"$f":"L1335*100/B$1537","v":1342.756183745583},5.6801195814648729E-2]
["2020-04-02T17:00:00",18,"Calabria",163,19,182,445,627,17,22,23,41,691,10679,null,{"$f":"IF(Q1336=\"x2\",M1336,P1335)","v":555},{"$f":"IF(M1336>P1335*2,\"x2\",P1335)","v":555},{"$f":"IF(Q1336=\"x2\",M1336,\"\")","v":""},null,{"$f":"M1336*100/M1585","v":0.59960778188507657},{"$f":"IF(J1336-J1335=0,\"\",J1336-J1335)","v":12},{"$f":"IF(K1336-K1335=0,\"\",K1336-K1335)","v":2},{"$f":"IF(L1336-L1335=0,\"\",L1336-L1335)","v":3},{"$f":"IF(M1336-M1335=0,\"\",M1336-M1335)","v":22},696,0.90738060781476126,3.3285094066570188E-2,5.9334298118668596E-2,{"$f":"L1336*100/B$1537","v":1448.7632508833922},5.9334298118668596E-2]
["2020-04-03T17:00:00",18,"Calabria",183,17,200,462,662,35,42,26,45,733,11608,null,{"$f":"IF(Q1337=\"x2\",M1337,P1336)","v":555},{"$f":"IF(M1337>P1336*2,\"x2\",P1336)","v":555},{"$f":"IF(Q1337=\"x2\",M1337,\"\")","v":""},null,{"$f":"M1337*100/M1586","v":0.61171522277950707},{"$f":"IF(J1337-J1336=0,\"\",J1337-J1336)","v":20},{"$f":"IF(K1337-K1336=0,\"\",K1337-K1336)","v":3},{"$f":"IF(L1337-L1336=0,\"\",L1337-L1336)","v":4},{"$f":"IF(M1337-M1336=0,\"\",M1337-M1336)","v":42},929,0.903137789904502,3.5470668485675309E-2,6.1391541609822645E-2,{"$f":"L1337*100/B$1537","v":1590.1060070671379},6.1391541609822645E-2]
["2020-04-04T17:00:00",18,"Calabria",178,15,193,469,662,0,8,30,49,741,12314,null,{"$f":"IF(Q1338=\"x2\",M1338,P1337)","v":555},{"$f":"IF(M1338>P1337*2,\"x2\",P1337)","v":555},{"$f":"IF(Q1338=\"x2\",M1338,\"\")","v":""},null,{"$f":"M1338*100/M1587","v":0.59455035624879649},{"$f":"IF(J1338-J1337=0,\"\",J1338-J1337)","v":-34},{"$f":"IF(K1338-K1337=0,\"\",K1338-K1337)","v":4},{"$f":"IF(L1338-L1337=0,\"\",L1338-L1337)","v":4},{"$f":"IF(M1338-M1337=0,\"\",M1338-M1337)","v":8},706,0.89338731443994601,4.048582995951417E-2,6.6126855600539811E-2,{"$f":"L1338*100/B$1537","v":1731.4487632508833},6.6126855600539811E-2]
["2020-04-05T17:00:00",18,"Calabria",174,13,187,519,706,44,54,33,56,795,13077,null,{"$f":"IF(Q1339=\"x2\",M1339,P1338)","v":555},{"$f":"IF(M1339>P1338*2,\"x2\",P1338)","v":555},{"$f":"IF(Q1339=\"x2\",M1339,\"\")","v":""},null,{"$f":"M1339*100/M1588","v":0.61652759251791422},{"$f":"IF(J1339-J1338=0,\"\",J1339-J1338)","v":46},{"$f":"IF(K1339-K1338=0,\"\",K1339-K1338)","v":3},{"$f":"IF(L1339-L1338=0,\"\",L1339-L1338)","v":7},{"$f":"IF(M1339-M1338=0,\"\",M1339-M1338)","v":54},763,0.88805031446540883,4.1509433962264149E-2,7.0440251572327042E-2,{"$f":"L1339*100/B$1537","v":1978.7985865724381},7.0440251572327042E-2]
["2020-04-06T17:00:00",18,"Calabria",170,14,184,538,722,16,22,37,58,817,13633,null,{"$f":"IF(Q1340=\"x2\",M1340,P1339)","v":555},{"$f":"IF(M1340>P1339*2,\"x2\",P1339)","v":555},{"$f":"IF(Q1340=\"x2\",M1340,\"\")","v":""},null,{"$f":"M1340*100/M1589","v":0.61638513131191197},{"$f":"IF(J1340-J1339=0,\"\",J1340-J1339)","v":-32},{"$f":"IF(K1340-K1339=0,\"\",K1340-K1339)","v":4},{"$f":"IF(L1340-L1339=0,\"\",L1340-L1339)","v":2},{"$f":"IF(M1340-M1339=0,\"\",M1340-M1339)","v":22},556,0.88372093023255816,4.528763769889841E-2,7.0991432068543456E-2,{"$f":"L1340*100/B$1537","v":2049.4699646643107},7.0991432068543456E-2]
["2020-04-07T17:00:00",18,"Calabria",169,14,183,550,733,11,16,40,60,833,14072,null,{"$f":"IF(Q1341=\"x2\",M1341,P1340)","v":555},{"$f":"IF(M1341>P1340*2,\"x2\",P1340)","v":555},{"$f":"IF(Q1341=\"x2\",M1341,\"\")","v":""},null,{"$f":"M1341*100/M1590","v":0.61437021521396018},{"$f":"IF(J1341-J1340=0,\"\",J1341-J1340)","v":-6},{"$f":"IF(K1341-K1340=0,\"\",K1341-K1340)","v":3},{"$f":"IF(L1341-L1340=0,\"\",L1341-L1340)","v":2},{"$f":"IF(M1341-M1340=0,\"\",M1341-M1340)","v":16},{"$f":"IF(N1341-N1340=0,\"\",N1341-N1340)","v":439},{"$f":"IF(M1341=0,0,H1341/M1341)","v":0.87995198079231696},{"$f":"IF(M1341=0,0,K1341/M1341)","v":4.8019207683073231E-2},{"$f":"IF(M1341=0,0,L1341/M1341)","v":7.202881152460984E-2},{"$f":"L1341*100/B$1537","v":2120.1413427561838},7.202881152460984E-2]
["2020-04-08T17:00:00",18,"Calabria",170,15,185,570,755,22,26,44,60,859,14977,null,{"$f":"IF(Q1342=\"x2\",M1342,P1341)","v":555},{"$f":"IF(M1342>P1341*2,\"x2\",P1341)","v":555},{"$f":"IF(Q1342=\"x2\",M1342,\"\")","v":""},null,{"$f":"M1342*100/M1591","v":0.61611510378562928},{"$f":"IF(J1342-J1341=0,\"\",J1342-J1341)","v":10},{"$f":"IF(K1342-K1341=0,\"\",K1342-K1341)","v":4},{"$f":"IF(L1342-L1341=0,\"\",L1342-L1341)","v":""},{"$f":"IF(M1342-M1341=0,\"\",M1342-M1341)","v":26},{"$f":"IF(N1342-N1341=0,\"\",N1342-N1341)","v":905},{"$f":"IF(M1342=0,0,H1342/M1342)","v":0.87892898719441215},{"$f":"IF(M1342=0,0,K1342/M1342)","v":5.1222351571594875E-2},{"$f":"IF(M1342=0,0,L1342/M1342)","v":6.9848661233993012E-2},{"$f":"L1342*100/B$1537","v":2120.1413427561838},6.9848661233993012E-2]
["2020-04-09T17:00:00",18,"Calabria",168,15,183,582,765,10,15,48,61,874,15698,null,{"$f":"IF(Q1343=\"x2\",M1343,P1342)","v":555},{"$f":"IF(M1343>P1342*2,\"x2\",P1342)","v":555},{"$f":"IF(Q1343=\"x2\",M1343,\"\")","v":""},null,{"$f":"M1343*100/M1592","v":0.60852491888655258},{"$f":"IF(J1343-J1342=0,\"\",J1343-J1342)","v":-11},{"$f":"IF(K1343-K1342=0,\"\",K1343-K1342)","v":4},{"$f":"IF(L1343-L1342=0,\"\",L1343-L1342)","v":1},{"$f":"IF(M1343-M1342=0,\"\",M1343-M1342)","v":15},{"$f":"IF(N1343-N1342=0,\"\",N1343-N1342)","v":721},{"$f":"IF(M1343=0,0,H1343/M1343)","v":0.87528604118993136},{"$f":"IF(M1343=0,0,K1343/M1343)","v":5.4919908466819219E-2},{"$f":"IF(M1343=0,0,L1343/M1343)","v":6.9794050343249425E-2},{"$f":"L1343*100/B$1537","v":2155.4770318021201},6.9794050343249425E-2]
["2020-04-10T17:00:00",18,"Calabria",168,14,182,604,786,21,27,50,65,901,16637,null,{"$f":"IF(Q1344=\"x2\",M1344,P1343)","v":555},{"$f":"IF(M1344>P1343*2,\"x2\",P1343)","v":555},{"$f":"IF(Q1344=\"x2\",M1344,\"\")","v":""},null,{"$f":"M1344*100/M1593","v":0.61052874092846443},{"$f":"IF(J1344-J1343=0,\"\",J1344-J1343)","v":12},{"$f":"IF(K1344-K1343=0,\"\",K1344-K1343)","v":2},{"$f":"IF(L1344-L1343=0,\"\",L1344-L1343)","v":4},{"$f":"IF(M1344-M1343=0,\"\",M1344-M1343)","v":27},{"$f":"IF(N1344-N1343=0,\"\",N1344-N1343)","v":939},{"$f":"IF(M1344=0,0,H1344/M1344)","v":0.87236403995560485},{"$f":"IF(M1344=0,0,K1344/M1344)","v":5.549389567147614E-2},{"$f":"IF(M1344=0,0,L1344/M1344)","v":7.2142064372918979E-2},{"$f":"L1344*100/B$1537","v":2296.8197879858658},7.2142064372918979E-2]
["2020-04-11T17:00:00",18,"Calabria",169,15,184,608,792,6,14,57,66,915,17493,null,{"$f":"IF(Q1345=\"x2\",M1345,P1344)","v":555},{"$f":"IF(M1345>P1344*2,\"x2\",P1344)","v":555},{"$f":"IF(Q1345=\"x2\",M1345,\"\")","v":""},null,{"$f":"M1345*100/M1594","v":0.60090233859369147},{"$f":"IF(J1345-J1344=0,\"\",J1345-J1344)","v":-13},{"$f":"IF(K1345-K1344=0,\"\",K1345-K1344)","v":7},{"$f":"IF(L1345-L1344=0,\"\",L1345-L1344)","v":1},{"$f":"IF(M1345-M1344=0,\"\",M1345-M1344)","v":14},{"$f":"IF(N1345-N1344=0,\"\",N1345-N1344)","v":856},{"$f":"IF(M1345=0,0,H1345/M1345)","v":0.86557377049180328},{"$f":"IF(M1345=0,0,K1345/M1345)","v":6.2295081967213117E-2},{"$f":"IF(M1345=0,0,L1345/M1345)","v":7.2131147540983612E-2},{"$f":"L1345*100/B$1537","v":2332.1554770318021},7.2131147540983612E-2]
["2020-04-12T17:00:00",18,"Calabria",165,14,179,616,795,3,8,62,66,923,18211,null,{"$f":"IF(Q1346=\"x2\",M1346,P1345)","v":555},{"$f":"IF(M1346>P1345*2,\"x2\",P1345)","v":555},{"$f":"IF(Q1346=\"x2\",M1346,\"\")","v":""},null,{"$f":"M1346*100/M1595","v":0.5902931000300583},{"$f":"IF(J1346-J1345=0,\"\",J1346-J1345)","v":-6},{"$f":"IF(K1346-K1345=0,\"\",K1346-K1345)","v":5},{"$f":"IF(L1346-L1345=0,\"\",L1346-L1345)","v":""},{"$f":"IF(M1346-M1345=0,\"\",M1346-M1345)","v":8},{"$f":"IF(N1346-N1345=0,\"\",N1346-N1345)","v":718},{"$f":"IF(M1346=0,0,H1346/M1346)","v":0.86132177681473454},{"$f":"IF(M1346=0,0,K1346/M1346)","v":6.7172264355362943E-2},{"$f":"IF(M1346=0,0,L1346/M1346)","v":7.1505958829902488E-2},{"$f":"L1346*100/B$1537","v":2332.1554770318021},7.1505958829902488E-2]
["2020-04-13T17:00:00",18,"Calabria",160,12,172,619,791,-4,5,70,67,928,18596,null,{"$f":"IF(Q1347=\"x2\",M1347,P1346)","v":555},{"$f":"IF(M1347>P1346*2,\"x2\",P1346)","v":555},{"$f":"IF(Q1347=\"x2\",M1347,\"\")","v":""},null,{"$f":"M1347*100/M1596","v":0.58175982346598465},{"$f":"IF(J1347-J1346=0,\"\",J1347-J1346)","v":-3},{"$f":"IF(K1347-K1346=0,\"\",K1347-K1346)","v":8},{"$f":"IF(L1347-L1346=0,\"\",L1347-L1346)","v":1},{"$f":"IF(M1347-M1346=0,\"\",M1347-M1346)","v":5},{"$f":"IF(N1347-N1346=0,\"\",N1347-N1346)","v":385},{"$f":"IF(M1347=0,0,H1347/M1347)","v":0.85237068965517238},{"$f":"IF(M1347=0,0,K1347/M1347)","v":7.5431034482758619E-2},{"$f":"IF(M1347=0,0,L1347/M1347)","v":7.2198275862068964E-2},{"$f":"L1347*100/B$1537","v":2367.4911660777384},7.2198275862068964E-2]
["2020-04-14T17:00:00",18,"Calabria",161,12,173,643,816,25,28,72,68,956,19014,null,{"$f":"IF(Q1348=\"x2\",M1348,P1347)","v":555},{"$f":"IF(M1348>P1347*2,\"x2\",P1347)","v":555},{"$f":"IF(Q1348=\"x2\",M1348,\"\")","v":""},null,{"$f":"M1348*100/M1597","v":0.5883511397764758},{"$f":"IF(J1348-J1347=0,\"\",J1348-J1347)","v":23},{"$f":"IF(K1348-K1347=0,\"\",K1348-K1347)","v":2},{"$f":"IF(L1348-L1347=0,\"\",L1348-L1347)","v":1},{"$f":"IF(M1348-M1347=0,\"\",M1348-M1347)","v":28},{"$f":"IF(N1348-N1347=0,\"\",N1348-N1347)","v":418},{"$f":"IF(M1348=0,0,H1348/M1348)","v":0.85355648535564854},{"$f":"IF(M1348=0,0,K1348/M1348)","v":7.5313807531380755E-2},{"$f":"IF(M1348=0,0,L1348/M1348)","v":7.1129707112970716E-2},{"$f":"L1348*100/B$1537","v":2402.8268551236747},7.1129707112970716E-2]
["2020-04-15T17:00:00",18,"Calabria",156,11,167,652,819,3,15,81,71,971,19662,null,{"$f":"IF(Q1349=\"x2\",M1349,P1348)","v":555},{"$f":"IF(M1349>P1348*2,\"x2\",P1348)","v":555},{"$f":"IF(Q1349=\"x2\",M1349,\"\")","v":""},null,{"$f":"M1349*100/M1598","v":0.58793254821228547},{"$f":"IF(J1349-J1348=0,\"\",J1349-J1348)","v":-13},{"$f":"IF(K1349-K1348=0,\"\",K1349-K1348)","v":9},{"$f":"IF(L1349-L1348=0,\"\",L1349-L1348)","v":3},{"$f":"IF(M1349-M1348=0,\"\",M1349-M1348)","v":15},{"$f":"IF(N1349-N1348=0,\"\",N1349-N1348)","v":648},{"$f":"IF(M1349=0,0,H1349/M1349)","v":0.84346035015447995},{"$f":"IF(M1349=0,0,K1349/M1349)","v":8.3419155509783724E-2},{"$f":"IF(M1349=0,0,L1349/M1349)","v":7.312049433573635E-2},{"$f":"L1349*100/B$1537","v":2508.8339222614841},7.312049433573635E-2]
["2020-04-16T17:00:00",18,"Calabria",157,9,166,681,847,28,38,90,72,1009,20642,null,{"$f":"IF(Q1350=\"x2\",M1350,P1349)","v":555},{"$f":"IF(M1350>P1349*2,\"x2\",P1349)","v":555},{"$f":"IF(Q1350=\"x2\",M1350,\"\")","v":""},null,{"$f":"M1350*100/M1599","v":0.59724992748947858},{"$f":"IF(J1350-J1349=0,\"\",J1350-J1349)","v":23},{"$f":"IF(K1350-K1349=0,\"\",K1350-K1349)","v":9},{"$f":"IF(L1350-L1349=0,\"\",L1350-L1349)","v":1},{"$f":"IF(M1350-M1349=0,\"\",M1350-M1349)","v":38},{"$f":"IF(N1350-N1349=0,\"\",N1350-N1349)","v":980},{"$f":"IF(M1350=0,0,H1350/M1350)","v":0.83944499504459857},{"$f":"IF(M1350=0,0,K1350/M1350)","v":8.9197224975222991E-2},{"$f":"IF(M1350=0,0,L1350/M1350)","v":7.1357779980178393E-2},{"$f":"L1350*100/B$1537","v":2544.1696113074204},7.1357779980178393E-2]
["2020-04-17T17:00:00",18,"Calabria",154,7,161,658,819,-28,-18,99,73,991,21657,null,{"$f":"IF(Q1351=\"x2\",M1351,P1350)","v":555},{"$f":"IF(M1351>P1350*2,\"x2\",P1350)","v":555},{"$f":"IF(Q1351=\"x2\",M1351,\"\")","v":""},null,{"$f":"M1351*100/M1600","v":0.57471264367816088},{"$f":"IF(J1351-J1350=0,\"\",J1351-J1350)","v":-56},{"$f":"IF(K1351-K1350=0,\"\",K1351-K1350)","v":9},{"$f":"IF(L1351-L1350=0,\"\",L1351-L1350)","v":1},{"$f":"IF(M1351-M1350=0,\"\",M1351-M1350)","v":-18},{"$f":"IF(N1351-N1350=0,\"\",N1351-N1350)","v":1015},{"$f":"IF(M1351=0,0,H1351/M1351)","v":0.82643794147325933},{"$f":"IF(M1351=0,0,K1351/M1351)","v":9.9899091826437941E-2},{"$f":"IF(M1351=0,0,L1351/M1351)","v":7.3662966700302729E-2},{"$f":"L1351*100/B$1537","v":2579.5053003533567},7.3662966700302729E-2]
["2020-04-18T17:00:00",18,"Calabria",152,7,159,673,832,13,20,106,73,1011,22794,null,{"$f":"IF(Q1352=\"x2\",M1352,P1351)","v":555},{"$f":"IF(M1352>P1351*2,\"x2\",P1351)","v":555},{"$f":"IF(Q1352=\"x2\",M1352,\"\")","v":""},null,{"$f":"M1352*100/M1601","v":0.57467670882478328},{"$f":"IF(J1352-J1351=0,\"\",J1352-J1351)","v":38},{"$f":"IF(K1352-K1351=0,\"\",K1352-K1351)","v":7},{"$f":"IF(L1352-L1351=0,\"\",L1352-L1351)","v":""},{"$f":"IF(M1352-M1351=0,\"\",M1352-M1351)","v":20},{"$f":"IF(N1352-N1351=0,\"\",N1352-N1351)","v":1137},{"$f":"IF(M1352=0,0,H1352/M1352)","v":0.82294757665677543},{"$f":"IF(M1352=0,0,K1352/M1352)","v":0.10484668644906034},{"$f":"IF(M1352=0,0,L1352/M1352)","v":7.2205736894164194E-2},{"$f":"L1352*100/B$1537","v":2579.5053003533567},7.2205736894164194E-2]
["2020-04-19T17:00:00",18,"Calabria",142,6,148,696,844,12,24,116,75,1035,23760,22234,{"$f":"IF(Q1353=\"x2\",M1353,P1352)","v":555},{"$f":"IF(M1353>P1352*2,\"x2\",P1352)","v":555},{"$f":"IF(Q1353=\"x2\",M1353,\"\")","v":""},null,{"$f":"M1353*100/M1602","v":0.57830275126835484},{"$f":"IF(J1353-J1352=0,\"\",J1353-J1352)","v":4},{"$f":"IF(K1353-K1352=0,\"\",K1353-K1352)","v":10},{"$f":"IF(L1353-L1352=0,\"\",L1353-L1352)","v":2},{"$f":"IF(M1353-M1352=0,\"\",M1353-M1352)","v":24},{"$f":"IF(N1353-N1352=0,\"\",N1353-N1352)","v":966},{"$f":"IF(M1353=0,0,H1353/M1353)","v":0.81545893719806761},{"$f":"IF(M1353=0,0,K1353/M1353)","v":0.11207729468599034},{"$f":"IF(M1353=0,0,L1353/M1353)","v":7.2463768115942032E-2},{"$f":"L1353*100/B$1537","v":2650.1766784452298},7.2463768115942032E-2]
["2020-04-20T17:00:00",18,"Calabria",140,7,147,681,828,-16,3,135,75,1038,24373,22847,{"$f":"IF(Q1354=\"x2\",M1354,P1353)","v":555},{"$f":"IF(M1354>P1353*2,\"x2\",P1353)","v":555},{"$f":"IF(Q1354=\"x2\",M1354,\"\")","v":""},null,{"$f":"M1354*100/M1603","v":0.57275917628622508},{"$f":"IF(J1354-J1353=0,\"\",J1354-J1353)","v":-21},{"$f":"IF(K1354-K1353=0,\"\",K1354-K1353)","v":19},{"$f":"IF(L1354-L1353=0,\"\",L1354-L1353)","v":""},{"$f":"IF(M1354-M1353=0,\"\",M1354-M1353)","v":3},{"$f":"IF(N1354-N1353=0,\"\",N1354-N1353)","v":613},{"$f":"IF(M1354=0,0,H1354/M1354)","v":0.79768786127167635},{"$f":"IF(M1354=0,0,K1354/M1354)","v":0.13005780346820808},{"$f":"IF(M1354=0,0,L1354/M1354)","v":7.2254335260115612E-2},{"$f":"L1354*100/B$1537","v":2650.1766784452298},7.2254335260115612E-2]
["2020-04-21T17:00:00",18,"Calabria",133,7,140,679,819,-9,9,152,76,1047,25440,23914,555,{"$f":"IF(M1355>P1354*2,\"x2\",P1354)","v":555},{"$f":"IF(Q1355=\"x2\",M1355,\"\")","v":""},null,{"$f":"M1355*100/M1604","v":0.56915474812048472},{"$f":"IF(J1355-J1354=0,\"\",J1355-J1354)","v":6},{"$f":"IF(K1355-K1354=0,\"\",K1355-K1354)","v":17},{"$f":"IF(L1355-L1354=0,\"\",L1355-L1354)","v":1},{"$f":"IF(M1355-M1354=0,\"\",M1355-M1354)","v":9},{"$f":"IF(N1355-N1354=0,\"\",N1355-N1354)","v":1067},{"$f":"IF(M1355=0,0,H1355/M1355)","v":0.7822349570200573},{"$f":"IF(M1355=0,0,K1355/M1355)","v":0.1451766953199618},{"$f":"IF(M1355=0,0,L1355/M1355)","v":7.2588347659980901E-2},{"$f":"L1355*100/B$1537","v":2685.5123674911661},7.2588347659980901E-2]
["2020-04-22T17:00:00",18,"Calabria",128,7,135,686,821,2,13,163,76,1060,26560,24878,555,{"$f":"IF(M1356>P1355*2,\"x2\",P1355)","v":555},{"$f":"IF(Q1356=\"x2\",M1356,\"\")","v":""},null,{"$f":"M1356*100/M1605","v":0.56585542927607868},{"$f":"IF(J1356-J1355=0,\"\",J1356-J1355)","v":4},{"$f":"IF(K1356-K1355=0,\"\",K1356-K1355)","v":11},{"$f":"IF(L1356-L1355=0,\"\",L1356-L1355)","v":""},{"$f":"IF(M1356-M1355=0,\"\",M1356-M1355)","v":13},{"$f":"IF(N1356-N1355=0,\"\",N1356-N1355)","v":1120},{"$f":"IF(M1356=0,0,H1356/M1356)","v":0.77452830188679245},{"$f":"IF(M1356=0,0,K1356/M1356)","v":0.15377358490566037},{"$f":"IF(M1356=0,0,L1356/M1356)","v":7.1698113207547168E-2},{"$f":"L1356*100/B$1537","v":2685.5123674911661},7.1698113207547168E-2]
["2020-04-23T17:00:00",18,"Calabria",129,7,136,687,823,2,9,170,76,1069,27869,26187,{"$f":"IF(Q1357=\"x2\",M1357,P1356)","v":555},{"$f":"IF(M1357>P1356*2,\"x2\",P1356)","v":555},{"$f":"IF(Q1357=\"x2\",M1357,\"\")","v":""},null,{"$f":"M1357*100/M1606","v":0.56271154321929961},{"$f":"IF(J1357-J1356=0,\"\",J1357-J1356)","v":-4},{"$f":"IF(K1357-K1356=0,\"\",K1357-K1356)","v":7},{"$f":"IF(L1357-L1356=0,\"\",L1357-L1356)","v":""},{"$f":"IF(M1357-M1356=0,\"\",M1357-M1356)","v":9},{"$f":"IF(N1357-N1356=0,\"\",N1357-N1356)","v":1309},{"$f":"IF(M1357=0,0,H1357/M1357)","v":0.7698783910196445},{"$f":"IF(M1357=0,0,K1357/M1357)","v":0.15902712815715622},{"$f":"IF(M1357=0,0,L1357/M1357)","v":7.1094480823199246E-2},{"$f":"L1357*100/B$1537","v":2685.5123674911661},{"$f":"IF(M1357=0,0,L1357/M1357)","v":7.1094480823199246E-2}]
["2020-04-24T17:00:00",18,"Calabria",123,7,130,691,821,-2,10,178,80,1079,28764,26811,{"$f":"IF(Q1358=\"x2\",M1358,P1357)","v":555},{"$f":"IF(M1358>P1357*2,\"x2\",P1357)","v":555},{"$f":"IF(Q1358=\"x2\",M1358,\"\")","v":""},null,{"$f":"M1358*100/M1607","v":0.55908473838564932},{"$f":"IF(J1358-J1357=0,\"\",J1358-J1357)","v":1},{"$f":"IF(K1358-K1357=0,\"\",K1358-K1357)","v":8},{"$f":"IF(L1358-L1357=0,\"\",L1358-L1357)","v":4},{"$f":"IF(M1358-M1357=0,\"\",M1358-M1357)","v":10},{"$f":"IF(N1358-N1357=0,\"\",N1358-N1357)","v":895},{"$f":"IF(M1358=0,0,H1358/M1358)","v":0.76088971269694161},{"$f":"IF(M1358=0,0,K1358/M1358)","v":0.164967562557924},{"$f":"IF(M1358=0,0,L1358/M1358)","v":7.4142724745134378E-2},{"$f":"L1358*100/B$1537","v":2826.8551236749117},{"$f":"IF(M1358=0,0,L1358/M1358)","v":7.4142724745134378E-2}]
["2020-04-25T17:00:00",18,"Calabria",125,7,132,679,811,-10,9,197,80,1088,29959,28006,{"$f":"IF(Q1359=\"x2\",M1359,P1358)","v":555},{"$f":"IF(M1359>P1358*2,\"x2\",P1358)","v":555},{"$f":"IF(Q1359=\"x2\",M1359,\"\")","v":""},null,{"$f":"M1359*100/M1608","v":0.55694621476214612},{"$f":"IF(J1359-J1358=0,\"\",J1359-J1358)","v":-1},{"$f":"IF(K1359-K1358=0,\"\",K1359-K1358)","v":19},{"$f":"IF(L1359-L1358=0,\"\",L1359-L1358)","v":""},{"$f":"IF(M1359-M1358=0,\"\",M1359-M1358)","v":9},{"$f":"IF(N1359-N1358=0,\"\",N1359-N1358)","v":1195},{"$f":"IF(M1359=0,0,H1359/M1359)","v":0.74540441176470584},{"$f":"IF(M1359=0,0,K1359/M1359)","v":0.18106617647058823},{"$f":"IF(M1359=0,0,L1359/M1359)","v":7.3529411764705885E-2},{"$f":"L1359*100/B$1537","v":2826.8551236749117},{"$f":"IF(M1359=0,0,L1359/M1359)","v":7.3529411764705885E-2}]
["2020-04-26T17:00:00",18,"Calabria",118,8,126,671,797,-14,1,212,80,1089,30853,28900,{"$f":"IF(Q1360=\"x2\",M1360,P1359)","v":555},{"$f":"IF(M1360>P1359*2,\"x2\",P1359)","v":555},{"$f":"IF(Q1360=\"x2\",M1360,\"\")","v":""},null,{"$f":"M1360*100/M1609","v":0.55090426204628806},{"$f":"IF(J1360-J1359=0,\"\",J1360-J1359)","v":-8},{"$f":"IF(K1360-K1359=0,\"\",K1360-K1359)","v":15},{"$f":"IF(L1360-L1359=0,\"\",L1360-L1359)","v":""},{"$f":"IF(M1360-M1359=0,\"\",M1360-M1359)","v":1},{"$f":"IF(N1360-N1359=0,\"\",N1360-N1359)","v":894},{"$f":"IF(M1360=0,0,H1360/M1360)","v":0.73186409550045917},{"$f":"IF(M1360=0,0,K1360/M1360)","v":0.19467401285583102},{"$f":"IF(M1360=0,0,L1360/M1360)","v":7.3461891643709823E-2},{"$f":"L1360*100/B$1537","v":2826.8551236749117},{"$f":"IF(M1360=0,0,L1360/M1360)","v":7.3461891643709823E-2}]
["2020-04-27T17:00:00",18,"Calabria",114,6,120,662,782,-15,7,231,83,1096,31787,29834,{"$f":"IF(Q1361=\"x2\",M1361,P1360)","v":555},{"$f":"IF(M1361>P1360*2,\"x2\",P1360)","v":555},{"$f":"IF(Q1361=\"x2\",M1361,\"\")","v":""},null,{"$f":"M1361*100/M1610","v":0.54961035834996541},{"$f":"IF(J1361-J1360=0,\"\",J1361-J1360)","v":6},{"$f":"IF(K1361-K1360=0,\"\",K1361-K1360)","v":19},{"$f":"IF(L1361-L1360=0,\"\",L1361-L1360)","v":3},{"$f":"IF(M1361-M1360=0,\"\",M1361-M1360)","v":7},{"$f":"IF(N1361-N1360=0,\"\",N1361-N1360)","v":934},{"$f":"IF(M1361=0,0,H1361/M1361)","v":0.71350364963503654},{"$f":"IF(M1361=0,0,K1361/M1361)","v":0.21076642335766424},{"$f":"IF(M1361=0,0,L1361/M1361)","v":7.5729927007299275E-2},{"$f":"L1361*100/B$1537","v":2932.8621908127207},{"$f":"IF(M1361=0,0,L1361/M1361)","v":7.5729927007299275E-2}]
[{"$f":"A1361 + 1","v":"2020-04-28T17:00:00"},null,null,null,null,null,null,null,null,null,null,null,null,null,null,null,"Media x2",{"$f":"COUNT(N1298:N1361) / COUNT(R1298:R1361)","v":7.1111111111111107}]
[{"$f":"A1362+1","v":"2020-04-29T17:00:00"}]
[{"$f":"A1363+1","v":"2020-04-30T17:00:00"}]
[null,null,null,null,{"$f":"E1361/$M1361","v":5.4744525547445258E-3},null,null,{"$f":"H1361/$M1361","v":0.71350364963503654},null,null,{"$f":"K1361/$M1361","v":0.21076642335766424},{"$f":"L1361/$M1361","v":7.5729927007299275E-2},null,{"$f":"N1361/$M1361","v":29.002737226277372}]
[]
[]
[]
["Data","Codice","Regione","Ricoverati","Terap. Intens.","Ospedalizzati","Quarantena","Positivi","+ Positivi","Nuovi","Guariti","Deceduti","Totale","Tamponi",null,null,null,"x 2",null,"% su Tot.","+ Nuovi","+ Guariti","+ Deceduti","+ Totali","+ Tamponi","% Positivi","% Guariti","% Deceduti","P. Stimati","% Morti"]
["2020-02-24T18:00:00",19,"Sicilia",0,0,0,0,0,0,0,0,0,0,5,null,{"$f":"M1370","v":0},null,{"$f":"M1370","v":0},null,{"$f":"M1370*100/M1547","v":0},null,null,null,null,null,{"$f":"IF(M1370=0,0,H1370/M1370)","v":0},{"$f":"IF(M1370=0,0,K1370/M1370)","v":0},{"$f":"IF(M1370=0,0,L1370/M1370)","v":0},{"$f":"L1370*100/B$1537","v":0},{"$f":"IF(M1370=0,0,L1370/M1370)","v":0}]
["2020-02-25T18:00:00",19,"Sicilia",1,0,2,2,3,3,3,0,0,3,5,null,{"$f":"IF(Q1371=\"x2\",M1371,P1370)","v":3},{"$f":"IF(M1371>P1370*2,\"x2\",P1370)","v":"x2"},{"$f":"IF(Q1371=\"x2\",M1371,\"\")","v":3},null,{"$f":"M1371*100/M1548","v":0.93167701863354035},{"$f":"IF(J1371-J1370=0,\"\",J1371-J1370)","v":3},{"$f":"IF(K1371-K1370=0,\"\",K1371-K1370)","v":""},{"$f":"IF(L1371-L1370=0,\"\",L1371-L1370)","v":""},{"$f":"IF(M1371-M1370=0,\"\",M1371-M1370)","v":3},{"$f":"IF(N1371-N1370=0,\"\",N1371-N1370)","v":""},1,0,0,{"$f":"L1371*100/B$1537","v":0},0]
["2020-02-26T18:00:00",19,"Sicilia",1,0,1,2,3,0,0,0,0,3,5,null,3,3,"",null,{"$f":"M1372*100/M1549","v":0.75},-3,"","","","",1,0,0,{"$f":"L1372*100/B$1537","v":0},0]
["2020-02-27T18:00:00",19,"Sicilia",1,0,1,1,2,-1,-1,2,0,4,5,null,3,3,"",null,{"$f":"M1373*100/M1550","v":0.61538461538461542},-1,2,"",1,"",0.5,0.5,0,{"$f":"L1373*100/B$1537","v":0},0]
["2020-02-28T18:00:00",19,"Sicilia",1,0,1,1,2,0,0,2,0,4,5,null,3,3,"",null,{"$f":"M1374*100/M1551","v":0.45045045045045046},1,"","","","",0.5,0.5,0,{"$f":"L1374*100/B$1537","v":0},0]
["2020-02-29T17:00:00",19,"Sicilia",1,0,1,1,2,0,0,2,0,4,6,null,3,3,"",null,{"$f":"M1375*100/M1552","v":0.3546099290780142},"","","","",1,0.5,0.5,0,{"$f":"L1375*100/B$1537","v":0},0]
["2020-03-01T17:00:00",19,"Sicilia",1,0,1,6,7,5,5,2,0,9,291,null,9,"x2",9,null,{"$f":"M1376*100/M1553","v":0.53128689492325853},5,"","",5,285,0.77777777777777779,0.22222222222222221,0,{"$f":"L1376*100/B$1537","v":0},0]
["2020-03-02T18:00:00",19,"Sicilia",2,0,2,3,5,-2,-2,2,0,7,307,null,9,9,"",null,{"$f":"M1377*100/M1554","v":0.34381139489194501},-7,"","",-2,16,0.7142857142857143,0.2857142857142857,0,{"$f":"L1377*100/B$1537","v":0},0]
["2020-03-03T18:00:00",19,"Sicilia",2,0,2,3,5,0,0,2,0,7,307,null,9,9,"",null,{"$f":"M1378*100/M1555","v":0.27977617905675461},2,"","","","",0.7142857142857143,0.2857142857142857,0,{"$f":"L1378*100/B$1537","v":0},0]
["2020-03-04T17:00:00",19,"Sicilia",5,0,5,11,16,11,11,2,0,18,367,null,9,9,"",null,{"$f":"M1379*100/M1556","v":0.58271285205568146},11,"","",11,60,0.88888888888888884,0.1111111111111111,0,{"$f":"L1379*100/B$1537","v":0},0]
["2020-03-05T17:00:00",19,"Sicilia",5,0,5,11,16,0,0,2,0,18,367,null,9,9,"",null,{"$f":"M1380*100/M1557","v":0.46656298600311041},-11,"","","","",0.88888888888888884,0.1111111111111111,0,{"$f":"L1380*100/B$1537","v":0},0]
["2020-03-06T17:00:00",19,"Sicilia",7,0,7,15,22,6,6,2,0,24,367,null,24,"x2",24,null,{"$f":"M1381*100/M1558","v":0.51768766177739434},6,"","",6,"",0.91666666666666663,8.3333333333333329E-2,0,{"$f":"L1381*100/B$1537","v":0},0]
["2020-03-07T18:00:00",19,"Sicilia",8,0,8,25,33,11,11,2,0,35,643,null,24,24,"",null,{"$f":"M1382*100/M1559","v":0.59493455719870814},5,"","",11,276,0.94285714285714284,5.7142857142857141E-2,0,{"$f":"L1382*100/B$1537","v":0},0]
["2020-03-08T18:00:00",19,"Sicilia",18,0,18,33,51,18,18,2,0,53,791,null,53,"x2",53,null,{"$f":"M1383*100/M1560","v":0.71864406779661016},7,"","",18,148,0.96226415094339623,3.7735849056603772E-2,0,{"$f":"L1383*100/B$1537","v":0},0]
["2020-03-09T18:00:00",19,"Sicilia",19,0,19,33,52,1,1,2,0,54,836,null,53,53,"",null,{"$f":"M1384*100/M1561","v":0.58874836458787616},-17,"","",1,45,0.96296296296296291,3.7037037037037035E-2,0,{"$f":"L1384*100/B$1537","v":0},0]
["2020-03-10T18:00:00",19,"Sicilia",17,2,19,41,60,8,8,2,0,62,955,null,53,53,"",null,{"$f":"M1385*100/M1562","v":0.61089762538181103},7,"","",8,119,0.967741935483871,3.2258064516129031E-2,0,{"$f":"L1385*100/B$1537","v":0},0]
["2020-03-11T17:00:00",19,"Sicilia",23,1,24,57,81,21,21,2,0,83,1194,null,53,53,"",null,{"$f":"M1386*100/M1563","v":0.66602471513400741},13,"","",21,239,0.97590361445783136,2.4096385542168676E-2,0,{"$f":"L1386*100/B$1537","v":0},0]
["2020-03-12T17:00:00",19,"Sicilia",28,5,33,78,111,30,30,2,2,115,1477,null,115,"x2",115,null,{"$f":"M1387*100/M1564","v":0.7609342949778336},9,"",2,32,283,0.9652173913043478,1.7391304347826087E-2,1.7391304347826087E-2,{"$f":"L1387*100/B$1537","v":70.671378091872796},1.7391304347826087E-2]
["2020-03-13T17:00:00",19,"Sicilia",37,7,44,82,126,15,15,2,2,130,1950,null,115,115,"",null,{"$f":"M1388*100/M1565","v":0.73612684031710074},-15,"","",15,473,0.96923076923076923,1.5384615384615385E-2,1.5384615384615385E-2,{"$f":"L1388*100/B$1537","v":70.671378091872796},1.5384615384615385E-2]
["2020-03-14T17:00:00",19,"Sicilia",42,11,53,97,150,24,24,4,2,156,2100,null,115,115,"",null,{"$f":"M1389*100/M1566","v":0.73734461407571961},9,2,"",26,150,0.96153846153846156,2.564102564102564E-2,1.282051282051282E-2,{"$f":"L1389*100/B$1537","v":70.671378091872796},1.282051282051282E-2]
["2020-03-15T17:00:00",19,"Sicilia",56,15,71,108,179,29,29,7,2,188,2452,null,115,115,"",null,{"$f":"M1390*100/M1567","v":0.7596880429951105},5,3,"",32,352,0.9521276595744681,3.7234042553191488E-2,1.0638297872340425E-2,{"$f":"L1390*100/B$1537","v":70.671378091872796},1.0638297872340425E-2]
["2020-03-16T17:00:00",19,"Sicilia",75,20,95,108,203,24,24,8,2,213,2653,null,115,115,"",null,{"$f":"M1391*100/M1568","v":0.76125804145818443},-5,1,"",25,201,0.95305164319248825,3.7558685446009391E-2,9.3896713615023476E-3,{"$f":"L1391*100/B$1537","v":70.671378091872796},9.3896713615023476E-3]
["2020-03-17T17:00:00",19,"Sicilia",86,28,114,112,226,23,23,8,3,237,2916,null,237,"x2",237,null,{"$f":"M1392*100/M1569","v":0.75223766901542566},-1,"",1,24,263,0.95358649789029537,3.3755274261603373E-2,1.2658227848101266E-2,{"$f":"L1392*100/B$1537","v":106.00706713780919},1.2658227848101266E-2]
["2020-03-18T17:00:00",19,"Sicilia",100,29,129,138,267,41,41,12,3,282,3294,null,237,237,"",null,{"$f":"M1393*100/M1570","v":0.78962842662335841},18,4,"",45,378,0.94680851063829785,4.2553191489361701E-2,1.0638297872340425E-2,{"$f":"L1393*100/B$1537","v":106.00706713780919},1.0638297872340425E-2]
["2020-03-19T17:00:00",19,"Sicilia",143,36,179,142,321,54,54,15,4,340,3961,null,237,237,"",null,{"$f":"M1394*100/M1571","v":0.82856098452540516},13,3,1,58,667,0.94411764705882351,4.4117647058823532E-2,1.1764705882352941E-2,{"$f":"L1394*100/B$1537","v":141.34275618374559},1.1764705882352941E-2]
["2020-03-20T17:00:00",19,"Sicilia",168,42,210,169,379,58,58,25,4,408,4468,null,237,237,"",null,{"$f":"M1395*100/M1572","v":0.86769741179473003},4,10,"",68,{"$f":"IF(N1395-N1394=0,\"\",N1395-N1394)","v":507},0.92892156862745101,6.1274509803921566E-2,9.8039215686274508E-3,{"$f":"L1395*100/B$1537","v":141.34275618374559},9.8039215686274508E-3]
["2020-03-21T17:00:00",19,"Sicilia",206,48,254,204,458,79,79,26,6,490,4883,null,490,"x2",490,null,{"$f":"M1396*100/M1573","v":0.91455448131695849},21,1,2,{"$f":"IF(M1396-M1395=0,\"\",M1396-M1395)","v":82},415,0.9346938775510204,5.3061224489795916E-2,1.2244897959183673E-2,{"$f":"L1396*100/B$1537","v":212.01413427561837},1.2244897959183673E-2]
["2020-03-22T17:00:00",19,"Sicilia",220,55,275,321,596,138,138,26,8,630,5580,null,490,490,"",null,{"$f":"M1397*100/M1574","v":1.0653048801109271},59,"",2,140,697,0.946031746031746,4.1269841269841269E-2,1.2698412698412698E-2,{"$f":"L1397*100/B$1537","v":282.68551236749119},1.2698412698412698E-2]
["2020-03-23T17:00:00",19,"Sicilia",250,60,310,371,681,85,85,27,13,721,6375,null,490,490,"",null,{"$f":"M1398*100/M1575","v":1.1278489527116868},-53,1,5,91,795,0.9445214979195562,3.7447988904299581E-2,1.8030513176144243E-2,{"$f":"L1398*100/B$1537","v":459.36395759717311},1.8030513176144243E-2]
["2020-03-24T17:00:00",19,"Sicilia",250,60,310,489,799,118,118,27,20,846,7170,null,490,490,"",null,{"$f":"M1399*100/M1576","v":1.2229675031802938},33,"",7,125,795,0.94444444444444442,3.1914893617021274E-2,2.3640661938534278E-2,{"$f":"L1399*100/B$1537","v":706.71378091872793},2.3640661938534278E-2]
["2020-03-25T17:00:00",19,"Sicilia",259,80,339,597,936,137,137,33,25,994,8312,null,994,"x2",994,null,{"$f":"M1400*100/M1577","v":1.336272954588229},19,6,5,148,1142,0.94164989939637822,3.3199195171026159E-2,2.5150905432595575E-2,{"$f":"L1400*100/B$1537","v":883.39222614840992},2.5150905432595575E-2]
["2020-03-26T17:00:00",19,"Sicilia",346,68,414,681,1095,159,159,36,33,1164,9658,null,994,994,"",null,{"$f":"M1401*100/M1578","v":1.4452625436124114},22,3,8,170,{"$f":"IF(N1401-N1400=0,\"\",N1401-N1400)","v":1346},0.94072164948453607,3.0927835051546393E-2,2.8350515463917526E-2,{"$f":"L1401*100/B$1537","v":1166.077738515901},2.8350515463917526E-2]
["2020-03-27T17:00:00",19,"Sicilia",425,75,500,658,1158,63,86,53,39,1250,11079,null,{"$f":"IF(Q1402=\"x2\",M1402,P1401)","v":994},{"$f":"IF(M1402>P1401*2,\"x2\",P1401)","v":994},{"$f":"IF(Q1402=\"x2\",M1402,\"\")","v":""},null,{"$f":"M1402*100/M1579","v":1.4451201183842401},{"$f":"IF(J1402-J1401=0,\"\",J1402-J1401)","v":-73},17,6,86,1421,0.9264,4.24E-2,3.1199999999999999E-2,{"$f":"L1402*100/B$1537","v":1378.0918727915193},3.1199999999999999E-2]
["2020-03-28T17:00:00",19,"Sicilia",441,71,512,730,1242,84,109,60,57,1359,13096,null,994,994,"",null,{"$f":"M1403*100/M1580","v":1.4696340513885284},23,7,18,109,2017,0.91390728476821192,4.4150110375275942E-2,4.194260485651214E-2,{"$f":"L1403*100/B$1537","v":2014.1342756183744},4.194260485651214E-2]
["2020-03-29T17:00:00",19,"Sicilia",451,71,522,808,1330,88,101,65,65,1460,13814,null,994,994,"",null,{"$f":"M1404*100/M1581","v":1.4945387914708923},-8,5,8,101,718,0.91095890410958902,4.4520547945205477E-2,4.4520547945205477E-2,{"$f":"L1404*100/B$1537","v":2296.8197879858658},4.4520547945205477E-2]
["2020-03-30T17:00:00",19,"Sicilia",484,75,559,849,1408,78,95,71,76,1555,14758,null,994,994,"",null,{"$f":"M1405*100/M1582","v":1.5284207629326021},-6,6,11,95,944,0.90546623794212222,4.5659163987138263E-2,4.8874598070739551E-2,{"$f":"L1405*100/B$1537","v":2685.5123674911661},4.8874598070739551E-2]
["2020-03-31T17:00:00",19,"Sicilia",503,72,575,917,1492,84,92,74,81,1647,15634,null,994,994,"",null,{"$f":"M1406*100/M1583","v":1.5568284936479129},-3,3,5,92,876,0.9058894960534305,4.4930176077717064E-2,4.9180327868852458E-2,{"$f":"L1406*100/B$1537","v":2862.190812720848},4.9180327868852458E-2]
["2020-04-01T17:00:00",19,"Sicilia",496,72,568,976,1544,52,71,86,88,1718,16836,null,994,994,"",null,{"$f":"M1407*100/M1584","v":1.5537106372203231},-21,12,7,71,{"$f":"IF(N1407-N1406=0,\"\",N1407-N1406)","v":1202},{"$f":"IF(M1407=0,0,H1407/M1407)","v":0.89871944121071012},{"$f":"IF(M1407=0,0,K1407/M1407)","v":5.0058207217694994E-2},{"$f":"IF(M1407=0,0,L1407/M1407)","v":5.1222351571594875E-2},{"$f":"L1407*100/B$1537","v":3109.5406360424026},5.1222351571594875E-2]
["2020-04-02T17:00:00",19,"Sicilia",503,73,576,1030,1606,62,73,92,93,1791,17833,null,{"$f":"IF(Q1408=\"x2\",M1408,P1407)","v":994},{"$f":"IF(M1408>P1407*2,\"x2\",P1407)","v":994},{"$f":"IF(Q1408=\"x2\",M1408,\"\")","v":""},null,{"$f":"M1408*100/M1585","v":1.5541208934242725},{"$f":"IF(J1408-J1407=0,\"\",J1408-J1407)","v":2},{"$f":"IF(K1408-K1407=0,\"\",K1408-K1407)","v":6},{"$f":"IF(L1408-L1407=0,\"\",L1408-L1407)","v":5},{"$f":"IF(M1408-M1407=0,\"\",M1408-M1407)","v":73},997,0.89670575097710781,5.13679508654383E-2,5.1926298157453935E-2,{"$f":"L1408*100/B$1537","v":3286.2190812720846},5.1926298157453935E-2]
["2020-04-03T17:00:00",19,"Sicilia",535,73,608,1056,1664,58,68,94,101,1859,18686,null,{"$f":"IF(Q1409=\"x2\",M1409,P1408)","v":994},{"$f":"IF(M1409>P1408*2,\"x2\",P1408)","v":994},{"$f":"IF(Q1409=\"x2\",M1409,\"\")","v":""},null,{"$f":"M1409*100/M1586","v":1.5514032730519833},{"$f":"IF(J1409-J1408=0,\"\",J1409-J1408)","v":-5},{"$f":"IF(K1409-K1408=0,\"\",K1409-K1408)","v":2},{"$f":"IF(L1409-L1408=0,\"\",L1409-L1408)","v":8},{"$f":"IF(M1409-M1408=0,\"\",M1409-M1408)","v":68},853,0.8951048951048951,5.0564819795589029E-2,5.4330285099515867E-2,{"$f":"L1409*100/B$1537","v":3568.904593639576},5.4330285099515867E-2]
["2020-04-04T17:00:00",19,"Sicilia",553,74,627,1099,1726,62,73,95,111,1932,19896,null,{"$f":"IF(Q1410=\"x2\",M1410,P1409)","v":994},{"$f":"IF(M1410>P1409*2,\"x2\",P1409)","v":994},{"$f":"IF(Q1410=\"x2\",M1410,\"\")","v":""},null,{"$f":"M1410*100/M1587","v":1.5501636818794531},{"$f":"IF(J1410-J1409=0,\"\",J1410-J1409)","v":5},{"$f":"IF(K1410-K1409=0,\"\",K1410-K1409)","v":1},{"$f":"IF(L1410-L1409=0,\"\",L1410-L1409)","v":10},{"$f":"IF(M1410-M1409=0,\"\",M1410-M1409)","v":73},1210,0.89337474120082816,4.917184265010352E-2,5.745341614906832E-2,{"$f":"L1410*100/B$1537","v":3922.2614840989399},5.745341614906832E-2]
["2020-04-05T17:00:00",19,"Sicilia",556,76,632,1142,1774,48,62,104,116,1994,21904,null,{"$f":"IF(Q1411=\"x2\",M1411,P1410)","v":1994},{"$f":"IF(M1411>P1410*2,\"x2\",P1410)","v":"x2"},{"$f":"IF(Q1411=\"x2\",M1411,\"\")","v":1994},null,{"$f":"M1411*100/M1588","v":1.5463597729317244},{"$f":"IF(J1411-J1410=0,\"\",J1411-J1410)","v":-11},{"$f":"IF(K1411-K1410=0,\"\",K1411-K1410)","v":9},{"$f":"IF(L1411-L1410=0,\"\",L1411-L1410)","v":5},{"$f":"IF(M1411-M1410=0,\"\",M1411-M1410)","v":62},2008,0.88966900702106322,5.2156469408224673E-2,5.8174523570712136E-2,{"$f":"L1411*100/B$1537","v":4098.9399293286215},5.8174523570712136E-2]
["2020-04-06T17:00:00",19,"Sicilia",563,74,637,1178,1815,41,52,108,123,2046,23464,null,{"$f":"IF(Q1412=\"x2\",M1412,P1411)","v":1994},{"$f":"IF(M1412>P1411*2,\"x2\",P1411)","v":1994},{"$f":"IF(Q1412=\"x2\",M1412,\"\")","v":""},null,{"$f":"M1412*100/M1589","v":1.543603401057738},{"$f":"IF(J1412-J1411=0,\"\",J1412-J1411)","v":-10},{"$f":"IF(K1412-K1411=0,\"\",K1412-K1411)","v":4},{"$f":"IF(L1412-L1411=0,\"\",L1412-L1411)","v":7},{"$f":"IF(M1412-M1411=0,\"\",M1412-M1411)","v":52},1560,0.88709677419354838,5.2785923753665691E-2,6.0117302052785926E-2,{"$f":"L1412*100/B$1537","v":4346.2897526501765},6.0117302052785926E-2]
["2020-04-07T17:00:00",19,"Sicilia",562,73,635,1224,1859,44,51,113,125,2097,24857,null,{"$f":"IF(Q1413=\"x2\",M1413,P1412)","v":1994},{"$f":"IF(M1413>P1412*2,\"x2\",P1412)","v":1994},{"$f":"IF(Q1413=\"x2\",M1413,\"\")","v":""},null,{"$f":"M1413*100/M1590","v":1.5466198575074124},{"$f":"IF(J1413-J1412=0,\"\",J1413-J1412)","v":-1},{"$f":"IF(K1413-K1412=0,\"\",K1413-K1412)","v":5},{"$f":"IF(L1413-L1412=0,\"\",L1413-L1412)","v":2},{"$f":"IF(M1413-M1412=0,\"\",M1413-M1412)","v":51},{"$f":"IF(N1413-N1412=0,\"\",N1413-N1412)","v":1393},{"$f":"IF(M1413=0,0,H1413/M1413)","v":0.88650453028135434},{"$f":"IF(M1413=0,0,K1413/M1413)","v":5.3886504530281355E-2},{"$f":"IF(M1413=0,0,L1413/M1413)","v":5.9608965188364331E-2},{"$f":"L1413*100/B$1537","v":4416.9611307420491},5.9608965188364331E-2]
["2020-04-08T17:00:00",19,"Sicilia",563,65,628,1265,1893,34,62,133,133,2159,27438,null,{"$f":"IF(Q1414=\"x2\",M1414,P1413)","v":1994},{"$f":"IF(M1414>P1413*2,\"x2\",P1413)","v":1994},{"$f":"IF(Q1414=\"x2\",M1414,\"\")","v":""},null,{"$f":"M1414*100/M1591","v":1.5485360990374546},{"$f":"IF(J1414-J1413=0,\"\",J1414-J1413)","v":11},{"$f":"IF(K1414-K1413=0,\"\",K1414-K1413)","v":20},{"$f":"IF(L1414-L1413=0,\"\",L1414-L1413)","v":8},{"$f":"IF(M1414-M1413=0,\"\",M1414-M1413)","v":62},{"$f":"IF(N1414-N1413=0,\"\",N1414-N1413)","v":2581},{"$f":"IF(M1414=0,0,H1414/M1414)","v":0.87679481241315427},{"$f":"IF(M1414=0,0,K1414/M1414)","v":6.160259379342288E-2},{"$f":"IF(M1414=0,0,L1414/M1414)","v":6.160259379342288E-2},{"$f":"L1414*100/B$1537","v":4699.6466431095405},6.160259379342288E-2]
["2020-04-09T17:00:00",19,"Sicilia",566,63,629,1313,1942,49,73,152,138,2232,28742,null,{"$f":"IF(Q1415=\"x2\",M1415,P1414)","v":1994},{"$f":"IF(M1415>P1414*2,\"x2\",P1414)","v":1994},{"$f":"IF(Q1415=\"x2\",M1415,\"\")","v":""},null,{"$f":"M1415*100/M1592","v":1.5540361772938047},{"$f":"IF(J1415-J1414=0,\"\",J1415-J1414)","v":11},{"$f":"IF(K1415-K1414=0,\"\",K1415-K1414)","v":19},{"$f":"IF(L1415-L1414=0,\"\",L1415-L1414)","v":5},{"$f":"IF(M1415-M1414=0,\"\",M1415-M1414)","v":73},{"$f":"IF(N1415-N1414=0,\"\",N1415-N1414)","v":1304},{"$f":"IF(M1415=0,0,H1415/M1415)","v":0.87007168458781359},{"$f":"IF(M1415=0,0,K1415/M1415)","v":6.8100358422939072E-2},{"$f":"IF(M1415=0,0,L1415/M1415)","v":6.1827956989247312E-2},{"$f":"L1415*100/B$1537","v":4876.3250883392229},6.1827956989247312E-2]
["2020-04-10T17:00:00",19,"Sicilia",568,62,630,1337,1967,25,70,187,148,2302,31156,null,{"$f":"IF(Q1416=\"x2\",M1416,P1415)","v":1994},{"$f":"IF(M1416>P1415*2,\"x2\",P1415)","v":1994},{"$f":"IF(Q1416=\"x2\",M1416,\"\")","v":""},null,{"$f":"M1416*100/M1593","v":1.5598636643921477},{"$f":"IF(J1416-J1415=0,\"\",J1416-J1415)","v":-3},{"$f":"IF(K1416-K1415=0,\"\",K1416-K1415)","v":35},{"$f":"IF(L1416-L1415=0,\"\",L1416-L1415)","v":10},{"$f":"IF(M1416-M1415=0,\"\",M1416-M1415)","v":70},{"$f":"IF(N1416-N1415=0,\"\",N1416-N1415)","v":2414},{"$f":"IF(M1416=0,0,H1416/M1416)","v":0.85447437011294525},{"$f":"IF(M1416=0,0,K1416/M1416)","v":8.1233709817549959E-2},{"$f":"IF(M1416=0,0,L1416/M1416)","v":6.4291920069504779E-2},{"$f":"L1416*100/B$1537","v":5229.681978798586},6.4291920069504779E-2]
["2020-04-11T17:00:00",19,"Sicilia",562,58,620,1381,2001,34,62,209,154,2364,33787,null,{"$f":"IF(Q1417=\"x2\",M1417,P1416)","v":1994},{"$f":"IF(M1417>P1416*2,\"x2\",P1416)","v":1994},{"$f":"IF(Q1417=\"x2\",M1417,\"\")","v":""},null,{"$f":"M1417*100/M1594","v":1.5524952223338653},{"$f":"IF(J1417-J1416=0,\"\",J1417-J1416)","v":-8},{"$f":"IF(K1417-K1416=0,\"\",K1417-K1416)","v":22},{"$f":"IF(L1417-L1416=0,\"\",L1417-L1416)","v":6},{"$f":"IF(M1417-M1416=0,\"\",M1417-M1416)","v":62},{"$f":"IF(N1417-N1416=0,\"\",N1417-N1416)","v":2631},{"$f":"IF(M1417=0,0,H1417/M1417)","v":0.84644670050761417},{"$f":"IF(M1417=0,0,K1417/M1417)","v":8.8409475465313025E-2},{"$f":"IF(M1417=0,0,L1417/M1417)","v":6.5143824027072764E-2},{"$f":"L1417*100/B$1537","v":5441.6961130742047},6.5143824027072764E-2]
["2020-04-12T17:00:00",19,"Sicilia",552,53,605,1425,2030,29,52,223,163,2416,36098,null,{"$f":"IF(Q1418=\"x2\",M1418,P1417)","v":1994},{"$f":"IF(M1418>P1417*2,\"x2\",P1417)","v":1994},{"$f":"IF(Q1418=\"x2\",M1418,\"\")","v":""},null,{"$f":"M1418*100/M1595","v":1.5451225673592857},{"$f":"IF(J1418-J1417=0,\"\",J1418-J1417)","v":-10},{"$f":"IF(K1418-K1417=0,\"\",K1418-K1417)","v":14},{"$f":"IF(L1418-L1417=0,\"\",L1418-L1417)","v":9},{"$f":"IF(M1418-M1417=0,\"\",M1418-M1417)","v":52},{"$f":"IF(N1418-N1417=0,\"\",N1418-N1417)","v":2311},{"$f":"IF(M1418=0,0,H1418/M1418)","v":0.84023178807947019},{"$f":"IF(M1418=0,0,K1418/M1418)","v":9.2301324503311258E-2},{"$f":"IF(M1418=0,0,L1418/M1418)","v":6.7466887417218541E-2},{"$f":"L1418*100/B$1537","v":5759.7173144876324},6.7466887417218541E-2]
["2020-04-13T17:00:00",19,"Sicilia",554,51,605,1445,2050,20,42,237,171,2458,37311,null,{"$f":"IF(Q1419=\"x2\",M1419,P1418)","v":1994},{"$f":"IF(M1419>P1418*2,\"x2\",P1418)","v":1994},{"$f":"IF(Q1419=\"x2\",M1419,\"\")","v":""},null,{"$f":"M1419*100/M1596","v":1.540911256551067},{"$f":"IF(J1419-J1418=0,\"\",J1419-J1418)","v":-10},{"$f":"IF(K1419-K1418=0,\"\",K1419-K1418)","v":14},{"$f":"IF(L1419-L1418=0,\"\",L1419-L1418)","v":8},{"$f":"IF(M1419-M1418=0,\"\",M1419-M1418)","v":42},{"$f":"IF(N1419-N1418=0,\"\",N1419-N1418)","v":1213},{"$f":"IF(M1419=0,0,H1419/M1419)","v":0.83401139137510172},{"$f":"IF(M1419=0,0,K1419/M1419)","v":9.6419853539462974E-2},{"$f":"IF(M1419=0,0,L1419/M1419)","v":6.9568755085435308E-2},{"$f":"L1419*100/B$1537","v":6042.4028268551237},6.9568755085435308E-2]
["2020-04-14T17:00:00",19,"Sicilia",552,53,605,1466,2071,21,43,255,175,2501,37877,null,{"$f":"IF(Q1420=\"x2\",M1420,P1419)","v":1994},{"$f":"IF(M1420>P1419*2,\"x2\",P1419)","v":1994},{"$f":"IF(Q1420=\"x2\",M1420,\"\")","v":""},null,{"$f":"M1420*100/M1597","v":1.5391905863817636},{"$f":"IF(J1420-J1419=0,\"\",J1420-J1419)","v":1},{"$f":"IF(K1420-K1419=0,\"\",K1420-K1419)","v":18},{"$f":"IF(L1420-L1419=0,\"\",L1420-L1419)","v":4},{"$f":"IF(M1420-M1419=0,\"\",M1420-M1419)","v":43},{"$f":"IF(N1420-N1419=0,\"\",N1420-N1419)","v":566},{"$f":"IF(M1420=0,0,H1420/M1420)","v":0.82806877249100364},{"$f":"IF(M1420=0,0,K1420/M1420)","v":0.10195921631347461},{"$f":"IF(M1420=0,0,L1420/M1420)","v":6.9972011195521794E-2},{"$f":"L1420*100/B$1537","v":6183.745583038869},6.9972011195521794E-2]
["2020-04-15T17:00:00",19,"Sicilia",541,49,590,1491,2081,10,34,273,181,2535,39867,null,{"$f":"IF(Q1421=\"x2\",M1421,P1420)","v":1994},{"$f":"IF(M1421>P1420*2,\"x2\",P1420)","v":1994},{"$f":"IF(Q1421=\"x2\",M1421,\"\")","v":""},null,{"$f":"M1421*100/M1598","v":1.5349217401834641},{"$f":"IF(J1421-J1420=0,\"\",J1421-J1420)","v":-9},{"$f":"IF(K1421-K1420=0,\"\",K1421-K1420)","v":18},{"$f":"IF(L1421-L1420=0,\"\",L1421-L1420)","v":6},{"$f":"IF(M1421-M1420=0,\"\",M1421-M1420)","v":34},{"$f":"IF(N1421-N1420=0,\"\",N1421-N1420)","v":1990},{"$f":"IF(M1421=0,0,H1421/M1421)","v":0.82090729783037475},{"$f":"IF(M1421=0,0,K1421/M1421)","v":0.1076923076923077},{"$f":"IF(M1421=0,0,L1421/M1421)","v":7.1400394477317553E-2},{"$f":"L1421*100/B$1537","v":6395.7597173144877},7.1400394477317553E-2]
["2020-04-16T17:00:00",19,"Sicilia",525,48,573,1535,2108,27,44,284,187,2579,42405,null,{"$f":"IF(Q1422=\"x2\",M1422,P1421)","v":1994},{"$f":"IF(M1422>P1421*2,\"x2\",P1421)","v":1994},{"$f":"IF(Q1422=\"x2\",M1422,\"\")","v":""},null,{"$f":"M1422*100/M1599","v":1.5265684469726117},{"$f":"IF(J1422-J1421=0,\"\",J1422-J1421)","v":10},{"$f":"IF(K1422-K1421=0,\"\",K1422-K1421)","v":11},{"$f":"IF(L1422-L1421=0,\"\",L1422-L1421)","v":6},{"$f":"IF(M1422-M1421=0,\"\",M1422-M1421)","v":44},{"$f":"IF(N1422-N1421=0,\"\",N1422-N1421)","v":2538},{"$f":"IF(M1422=0,0,H1422/M1422)","v":0.8173710740597131},{"$f":"IF(M1422=0,0,K1422/M1422)","v":0.11012020162853819},{"$f":"IF(M1422=0,0,L1422/M1422)","v":7.2508724311748735E-2},{"$f":"L1422*100/B$1537","v":6607.7738515901056},7.2508724311748735E-2]
["2020-04-17T17:00:00",19,"Sicilia",521,46,567,1572,2139,31,46,296,190,2625,45172,null,{"$f":"IF(Q1423=\"x2\",M1423,P1422)","v":1994},{"$f":"IF(M1423>P1422*2,\"x2\",P1422)","v":1994},{"$f":"IF(Q1423=\"x2\",M1423,\"\")","v":""},null,{"$f":"M1423*100/M1600","v":1.5223215839103656},{"$f":"IF(J1423-J1422=0,\"\",J1423-J1422)","v":2},{"$f":"IF(K1423-K1422=0,\"\",K1423-K1422)","v":12},{"$f":"IF(L1423-L1422=0,\"\",L1423-L1422)","v":3},{"$f":"IF(M1423-M1422=0,\"\",M1423-M1422)","v":46},{"$f":"IF(N1423-N1422=0,\"\",N1423-N1422)","v":2767},{"$f":"IF(M1423=0,0,H1423/M1423)","v":0.81485714285714284},{"$f":"IF(M1423=0,0,K1423/M1423)","v":0.11276190476190476},{"$f":"IF(M1423=0,0,L1423/M1423)","v":7.2380952380952379E-2},{"$f":"L1423*100/B$1537","v":6713.7809187279154},7.2380952380952379E-2]
["2020-04-18T17:00:00",19,"Sicilia",526,42,568,1603,2171,32,47,305,196,2672,47715,null,{"$f":"IF(Q1424=\"x2\",M1424,P1423)","v":1994},{"$f":"IF(M1424>P1423*2,\"x2\",P1423)","v":1994},{"$f":"IF(Q1424=\"x2\",M1424,\"\")","v":""},null,{"$f":"M1424*100/M1601","v":1.5188290464686656},{"$f":"IF(J1424-J1423=0,\"\",J1424-J1423)","v":1},{"$f":"IF(K1424-K1423=0,\"\",K1424-K1423)","v":9},{"$f":"IF(L1424-L1423=0,\"\",L1424-L1423)","v":6},{"$f":"IF(M1424-M1423=0,\"\",M1424-M1423)","v":47},{"$f":"IF(N1424-N1423=0,\"\",N1424-N1423)","v":2543},{"$f":"IF(M1424=0,0,H1424/M1424)","v":0.8125},{"$f":"IF(M1424=0,0,K1424/M1424)","v":0.11414670658682635},{"$f":"IF(M1424=0,0,L1424/M1424)","v":7.3353293413173648E-2},{"$f":"L1424*100/B$1537","v":6925.7950530035332},7.3353293413173648E-2]
["2020-04-19T17:00:00",19,"Sicilia",522,41,563,1639,2202,31,45,315,200,2717,49772,49772,{"$f":"IF(Q1425=\"x2\",M1425,P1424)","v":1994},{"$f":"IF(M1425>P1424*2,\"x2\",P1424)","v":1994},{"$f":"IF(Q1425=\"x2\",M1425,\"\")","v":""},null,{"$f":"M1425*100/M1602","v":1.5181145654068793},{"$f":"IF(J1425-J1424=0,\"\",J1425-J1424)","v":-2},{"$f":"IF(K1425-K1424=0,\"\",K1425-K1424)","v":10},{"$f":"IF(L1425-L1424=0,\"\",L1425-L1424)","v":4},{"$f":"IF(M1425-M1424=0,\"\",M1425-M1424)","v":45},{"$f":"IF(N1425-N1424=0,\"\",N1425-N1424)","v":2057},{"$f":"IF(M1425=0,0,H1425/M1425)","v":0.81045270518954726},{"$f":"IF(M1425=0,0,K1425/M1425)","v":0.1159366948840633},{"$f":"IF(M1425=0,0,L1425/M1425)","v":7.3610599926389395E-2},{"$f":"L1425*100/B$1537","v":7067.1378091872793},7.3610599926389395E-2]
["2020-04-20T17:00:00",19,"Sicilia",526,39,565,1645,2210,8,42,346,203,2759,51373,51373,{"$f":"IF(Q1426=\"x2\",M1426,P1425)","v":1994},{"$f":"IF(M1426>P1425*2,\"x2\",P1425)","v":1994},{"$f":"IF(Q1426=\"x2\",M1426,\"\")","v":""},null,{"$f":"M1426*100/M1603","v":1.5223916834043305},{"$f":"IF(J1426-J1425=0,\"\",J1426-J1425)","v":-3},{"$f":"IF(K1426-K1425=0,\"\",K1426-K1425)","v":31},{"$f":"IF(L1426-L1425=0,\"\",L1426-L1425)","v":3},{"$f":"IF(M1426-M1425=0,\"\",M1426-M1425)","v":42},{"$f":"IF(N1426-N1425=0,\"\",N1426-N1425)","v":1601},{"$f":"IF(M1426=0,0,H1426/M1426)","v":0.80101486045668724},{"$f":"IF(M1426=0,0,K1426/M1426)","v":0.12540775643349039},{"$f":"IF(M1426=0,0,L1426/M1426)","v":7.3577383109822397E-2},{"$f":"L1426*100/B$1537","v":7173.1448763250883},7.3577383109822397E-2]
["2020-04-21T17:00:00",19,"Sicilia",514,37,551,1708,2259,49,76,370,206,2835,55093,55093,1994,{"$f":"IF(M1427>P1426*2,\"x2\",P1426)","v":1994},{"$f":"IF(Q1427=\"x2\",M1427,\"\")","v":""},null,{"$f":"M1427*100/M1604","v":1.5411210228477308},{"$f":"IF(J1427-J1426=0,\"\",J1427-J1426)","v":34},{"$f":"IF(K1427-K1426=0,\"\",K1427-K1426)","v":24},{"$f":"IF(L1427-L1426=0,\"\",L1427-L1426)","v":3},{"$f":"IF(M1427-M1426=0,\"\",M1427-M1426)","v":76},{"$f":"IF(N1427-N1426=0,\"\",N1427-N1426)","v":3720},{"$f":"IF(M1427=0,0,H1427/M1427)","v":0.79682539682539677},{"$f":"IF(M1427=0,0,K1427/M1427)","v":0.13051146384479717},{"$f":"IF(M1427=0,0,L1427/M1427)","v":7.266313932980599E-2},{"$f":"L1427*100/B$1537","v":7279.1519434628972},7.266313932980599E-2]
["2020-04-22T17:00:00",19,"Sicilia",500,35,535,1752,2287,28,48,388,208,2883,58732,58732,1994,{"$f":"IF(M1428>P1427*2,\"x2\",P1427)","v":1994},{"$f":"IF(Q1428=\"x2\",M1428,\"\")","v":""},null,{"$f":"M1428*100/M1605","v":1.5390200024555991},{"$f":"IF(J1428-J1427=0,\"\",J1428-J1427)","v":-28},{"$f":"IF(K1428-K1427=0,\"\",K1428-K1427)","v":18},{"$f":"IF(L1428-L1427=0,\"\",L1428-L1427)","v":2},{"$f":"IF(M1428-M1427=0,\"\",M1428-M1427)","v":48},{"$f":"IF(N1428-N1427=0,\"\",N1428-N1427)","v":3639},{"$f":"IF(M1428=0,0,H1428/M1428)","v":0.79327089836975373},{"$f":"IF(M1428=0,0,K1428/M1428)","v":0.13458203260492543},{"$f":"IF(M1428=0,0,L1428/M1428)","v":7.2147069025320851E-2},{"$f":"L1428*100/B$1537","v":7349.8233215547698},7.2147069025320851E-2]
["2020-04-23T17:00:00",19,"Sicilia",476,34,510,1791,2301,14,43,412,213,2926,62150,62150,{"$f":"IF(Q1429=\"x2\",M1429,P1428)","v":1994},{"$f":"IF(M1429>P1428*2,\"x2\",P1428)","v":1994},{"$f":"IF(Q1429=\"x2\",M1429,\"\")","v":""},null,{"$f":"M1429*100/M1606","v":1.540218873208298},{"$f":"IF(J1429-J1428=0,\"\",J1429-J1428)","v":-5},{"$f":"IF(K1429-K1428=0,\"\",K1429-K1428)","v":24},{"$f":"IF(L1429-L1428=0,\"\",L1429-L1428)","v":5},{"$f":"IF(M1429-M1428=0,\"\",M1429-M1428)","v":43},{"$f":"IF(N1429-N1428=0,\"\",N1429-N1428)","v":3418},{"$f":"IF(M1429=0,0,H1429/M1429)","v":0.78639781271360221},{"$f":"IF(M1429=0,0,K1429/M1429)","v":0.14080656185919344},{"$f":"IF(M1429=0,0,L1429/M1429)","v":7.2795625427204372E-2},{"$f":"L1429*100/B$1537","v":7526.5017667844522},{"$f":"IF(M1429=0,0,L1429/M1429)","v":7.2795625427204372E-2}]
["2020-04-24T17:00:00",19,"Sicilia",461,32,493,1827,2320,19,55,443,218,2981,65165,63626,{"$f":"IF(Q1430=\"x2\",M1430,P1429)","v":1994},{"$f":"IF(M1430>P1429*2,\"x2\",P1429)","v":1994},{"$f":"IF(Q1430=\"x2\",M1430,\"\")","v":""},null,{"$f":"M1430*100/M1607","v":1.5446076043814834},{"$f":"IF(J1430-J1429=0,\"\",J1430-J1429)","v":12},{"$f":"IF(K1430-K1429=0,\"\",K1430-K1429)","v":31},{"$f":"IF(L1430-L1429=0,\"\",L1430-L1429)","v":5},{"$f":"IF(M1430-M1429=0,\"\",M1430-M1429)","v":55},{"$f":"IF(N1430-N1429=0,\"\",N1430-N1429)","v":3015},{"$f":"IF(M1430=0,0,H1430/M1430)","v":0.77826232807782625},{"$f":"IF(M1430=0,0,K1430/M1430)","v":0.1486078497148608},{"$f":"IF(M1430=0,0,L1430/M1430)","v":7.3129822207312983E-2},{"$f":"L1430*100/B$1537","v":7703.1802120141338},{"$f":"IF(M1430=0,0,L1430/M1430)","v":7.3129822207312983E-2}]
["2020-04-25T17:00:00",19,"Sicilia",452,33,485,1787,2272,-48,39,524,224,3020,68251,64892,{"$f":"IF(Q1431=\"x2\",M1431,P1430)","v":1994},{"$f":"IF(M1431>P1430*2,\"x2\",P1430)","v":1994},{"$f":"IF(Q1431=\"x2\",M1431,\"\")","v":""},null,{"$f":"M1431*100/M1608","v":1.5459352652405158},{"$f":"IF(J1431-J1430=0,\"\",J1431-J1430)","v":-16},{"$f":"IF(K1431-K1430=0,\"\",K1431-K1430)","v":81},{"$f":"IF(L1431-L1430=0,\"\",L1431-L1430)","v":6},{"$f":"IF(M1431-M1430=0,\"\",M1431-M1430)","v":39},{"$f":"IF(N1431-N1430=0,\"\",N1431-N1430)","v":3086},{"$f":"IF(M1431=0,0,H1431/M1431)","v":0.75231788079470197},{"$f":"IF(M1431=0,0,K1431/M1431)","v":0.17350993377483442},{"$f":"IF(M1431=0,0,L1431/M1431)","v":7.4172185430463583E-2},{"$f":"L1431*100/B$1537","v":7915.1943462897525},{"$f":"IF(M1431=0,0,L1431/M1431)","v":7.4172185430463583E-2}]
["2020-04-26T17:00:00",19,"Sicilia",445,33,478,1629,2107,-165,35,720,228,3055,70104,65689,{"$f":"IF(Q1432=\"x2\",M1432,P1431)","v":1994},{"$f":"IF(M1432>P1431*2,\"x2\",P1431)","v":1994},{"$f":"IF(Q1432=\"x2\",M1432,\"\")","v":""},null,{"$f":"M1432*100/M1609","v":1.5454660427469331},{"$f":"IF(J1432-J1431=0,\"\",J1432-J1431)","v":-4},{"$f":"IF(K1432-K1431=0,\"\",K1432-K1431)","v":196},{"$f":"IF(L1432-L1431=0,\"\",L1432-L1431)","v":4},{"$f":"IF(M1432-M1431=0,\"\",M1432-M1431)","v":35},{"$f":"IF(N1432-N1431=0,\"\",N1432-N1431)","v":1853},{"$f":"IF(M1432=0,0,H1432/M1432)","v":0.68968903436988538},{"$f":"IF(M1432=0,0,K1432/M1432)","v":0.23567921440261866},{"$f":"IF(M1432=0,0,L1432/M1432)","v":7.4631751227495907E-2},{"$f":"L1432*100/B$1537","v":8056.5371024734977},{"$f":"IF(M1432=0,0,L1432/M1432)","v":7.4631751227495907E-2}]
["2020-04-27T17:00:00",19,"Sicilia",440,35,475,1648,2123,16,30,731,231,3085,70650,66749,{"$f":"IF(Q1433=\"x2\",M1433,P1432)","v":1994},{"$f":"IF(M1433>P1432*2,\"x2\",P1432)","v":1994},{"$f":"IF(Q1433=\"x2\",M1433,\"\")","v":""},null,{"$f":"M1433*100/M1610","v":1.5470328061219374},{"$f":"IF(J1433-J1432=0,\"\",J1433-J1432)","v":-5},{"$f":"IF(K1433-K1432=0,\"\",K1433-K1432)","v":11},{"$f":"IF(L1433-L1432=0,\"\",L1433-L1432)","v":3},{"$f":"IF(M1433-M1432=0,\"\",M1433-M1432)","v":30},{"$f":"IF(N1433-N1432=0,\"\",N1433-N1432)","v":546},{"$f":"IF(M1433=0,0,H1433/M1433)","v":0.68816855753646677},{"$f":"IF(M1433=0,0,K1433/M1433)","v":0.23695299837925446},{"$f":"IF(M1433=0,0,L1433/M1433)","v":7.4878444084278767E-2},{"$f":"L1433*100/B$1537","v":8162.5441696113076},{"$f":"IF(M1433=0,0,L1433/M1433)","v":7.4878444084278767E-2}]
[{"$f":"A1433 + 1","v":"2020-04-28T17:00:00"},null,null,null,null,null,null,null,null,null,null,null,null,null,null,null,"Media x2",{"$f":"COUNT(N1370:N1433) / COUNT(R1370:R1433)","v":6.4}]
[{"$f":"A1434+1","v":"2020-04-29T17:00:00"}]
[{"$f":"A1435+1","v":"2020-04-30T17:00:00"}]
[null,null,null,null,{"$f":"E1433/$M1433","v":1.1345218800648298E-2},null,null,{"$f":"H1433/$M1433","v":0.68816855753646677},null,null,{"$f":"K1433/$M1433","v":0.23695299837925446},{"$f":"L1433/$M1433","v":7.4878444084278767E-2},null,{"$f":"N1433/$M1433","v":22.901134521880063}]
[]
[]
[]
["Data","Codice","Regione","Ricoverati","Terap. Intens.","Ospedalizzati","Quarantena","Positivi","+ Positivi","Nuovi","Guariti","Deceduti","Totale","Tamponi",null,null,null,"x 2",null,"% su Tot.","+ Nuovi","+ Guariti","+ Deceduti","+ Totali","+ Tamponi","% Positivi","% Guariti","% Deceduti","P. Stimati","% Morti"]
["2020-02-24T18:00:00",20,"Sardegna",0,0,0,0,0,0,0,0,0,0,1,null,{"$f":"M1442","v":0},null,{"$f":"M1442","v":0},null,{"$f":"M1442*100/M1547","v":0},null,null,null,null,null,{"$f":"IF(M1442=0,0,H1442/M1442)","v":0},{"$f":"IF(M1442=0,0,K1442/M1442)","v":0},{"$f":"IF(M1442=0,0,L1442/M1442)","v":0},{"$f":"L1442*100/B$1537","v":0},{"$f":"IF(M1442=0,0,L1442/M1442)","v":0}]
["2020-02-25T18:00:00",20,"Sardegna",0,0,0,0,0,0,0,0,0,0,1,null,{"$f":"IF(Q1443=\"x2\",M1443,P1442)","v":0},{"$f":"IF(M1443>P1442*2,\"x2\",P1442)","v":0},{"$f":"IF(Q1443=\"x2\",M1443,\"\")","v":""},null,{"$f":"M1443*100/M1548","v":0},{"$f":"IF(J1443-J1442=0,\"\",J1443-J1442)","v":""},{"$f":"IF(K1443-K1442=0,\"\",K1443-K1442)","v":""},{"$f":"IF(L1443-L1442=0,\"\",L1443-L1442)","v":""},{"$f":"IF(M1443-M1442=0,\"\",M1443-M1442)","v":""},{"$f":"IF(N1443-N1442=0,\"\",N1443-N1442)","v":""},0,0,0,{"$f":"L1443*100/B$1537","v":0},0]
["2020-02-26T18:00:00",20,"Sardegna",0,0,0,0,0,0,0,0,0,0,1,null,0,0,"",null,{"$f":"M1444*100/M1549","v":0},"","","","","",0,0,0,{"$f":"L1444*100/B$1537","v":0},0]
["2020-02-27T18:00:00",20,"Sardegna",0,0,0,0,0,0,0,0,0,0,1,null,0,0,"",null,{"$f":"M1445*100/M1550","v":0},"","","","","",0,0,0,{"$f":"L1445*100/B$1537","v":0},0]
["2020-02-28T18:00:00",20,"Sardegna",0,0,0,0,0,0,0,0,0,0,1,null,0,0,"",null,{"$f":"M1446*100/M1551","v":0},"","","","","",0,0,0,{"$f":"L1446*100/B$1537","v":0},0]
["2020-02-29T17:00:00",20,"Sardegna",0,0,0,0,0,0,0,0,0,0,1,null,0,0,"",null,{"$f":"M1447*100/M1552","v":0},"","","","","",0,0,0,{"$f":"L1447*100/B$1537","v":0},0]
["2020-03-01T17:00:00",20,"Sardegna",0,0,0,0,0,0,0,0,0,0,29,null,0,0,"",null,{"$f":"M1448*100/M1553","v":0},"","","","",28,0,0,0,{"$f":"L1448*100/B$1537","v":0},0]
["2020-03-02T18:00:00",20,"Sardegna",0,0,0,0,0,0,0,0,0,0,29,null,0,0,"",null,{"$f":"M1449*100/M1554","v":0},"","","","","",0,0,0,{"$f":"L1449*100/B$1537","v":0},0]
["2020-03-03T18:00:00",20,"Sardegna",1,0,1,0,1,1,1,0,0,1,29,null,1,"x2",1,null,{"$f":"M1450*100/M1555","v":3.9968025579536368E-2},1,"","",1,"",1,0,0,{"$f":"L1450*100/B$1537","v":0},0]
["2020-03-04T17:00:00",20,"Sardegna",1,0,1,1,2,1,1,0,0,2,42,null,1,1,"",null,{"$f":"M1451*100/M1556","v":6.4745872450631278E-2},"","","",1,13,1,0,0,{"$f":"L1451*100/B$1537","v":0},0]
["2020-03-05T17:00:00",20,"Sardegna",2,0,2,0,2,0,0,0,0,2,50,null,1,1,"",null,{"$f":"M1452*100/M1557","v":5.1840331778123382E-2},-1,"","","",8,1,0,0,{"$f":"L1452*100/B$1537","v":0},0]
["2020-03-06T17:00:00",20,"Sardegna",2,0,2,3,5,3,3,0,0,5,99,null,5,"x2",5,null,{"$f":"M1453*100/M1558","v":0.10785159620362382},3,"","",3,49,1,0,0,{"$f":"L1453*100/B$1537","v":0},0]
["2020-03-07T18:00:00",20,"Sardegna",2,0,2,3,5,0,0,0,0,5,99,null,5,5,"",null,{"$f":"M1454*100/M1559","v":8.4990651028386877E-2},-3,"","","","",1,0,0,{"$f":"L1454*100/B$1537","v":0},0]
["2020-03-08T18:00:00",20,"Sardegna",5,0,5,6,11,6,6,0,0,11,149,null,11,"x2",11,null,{"$f":"M1455*100/M1560","v":0.14915254237288136},6,"","",6,50,1,0,0,{"$f":"L1455*100/B$1537","v":0},0]
["2020-03-09T18:00:00",20,"Sardegna",8,0,8,11,19,8,8,0,0,19,185,null,11,11,"",null,{"$f":"M1456*100/M1561","v":0.20715220235499346},2,"","",8,36,1,0,0,{"$f":"L1456*100/B$1537","v":0},0]
["2020-03-10T18:00:00",20,"Sardegna",9,0,9,11,20,1,1,0,0,20,204,null,11,11,"",null,{"$f":"M1457*100/M1562","v":0.19706375012316485},-7,"","",1,19,1,0,0,{"$f":"L1457*100/B$1537","v":0},0]
["2020-03-11T17:00:00",20,"Sardegna",10,0,10,27,37,17,17,0,0,37,283,null,37,"x2",37,null,{"$f":"M1458*100/M1563","v":0.29690258385491897},16,"","",17,79,1,0,0,{"$f":"L1458*100/B$1537","v":0},0]
["2020-03-12T17:00:00",20,"Sardegna",12,0,12,27,39,2,2,0,0,39,302,null,37,37,"",null,{"$f":"M1459*100/M1564","v":0.25805597829683052},-15,"","",2,19,1,0,0,{"$f":"L1459*100/B$1537","v":0},0]
["2020-03-13T17:00:00",20,"Sardegna",12,0,12,31,43,4,4,0,0,43,504,null,37,37,"",null,{"$f":"M1460*100/M1565","v":0.2434881087202718},2,"","",4,202,1,0,0,{"$f":"L1460*100/B$1537","v":0},0]
["2020-03-14T17:00:00",20,"Sardegna",14,0,14,33,47,4,4,0,0,47,530,null,37,37,"",null,{"$f":"M1461*100/M1566","v":0.22214869783050528},"","","",4,26,1,0,0,{"$f":"L1461*100/B$1537","v":0},0]
["2020-03-15T17:00:00",20,"Sardegna",16,0,16,59,75,28,28,0,2,77,613,null,77,"x2",77,null,{"$f":"M1462*100/M1567","v":0.31114882612033784},24,"",2,30,83,0.97402597402597402,0,2.5974025974025976E-2,{"$f":"L1462*100/B$1537","v":70.671378091872796},2.5974025974025976E-2]
["2020-03-16T17:00:00",20,"Sardegna",39,0,39,66,105,30,30,0,2,107,797,null,77,77,"",null,{"$f":"M1463*100/M1568","v":0.38241601143674053},2,"","",30,184,0.98130841121495327,0,1.8691588785046728E-2,{"$f":"L1463*100/B$1537","v":70.671378091872796},1.8691588785046728E-2]
["2020-03-17T17:00:00",20,"Sardegna",36,4,40,75,115,10,10,0,2,117,1003,null,77,77,"",null,{"$f":"M1464*100/M1569","v":0.37135783660255189},-20,"","",10,206,0.98290598290598286,0,1.7094017094017096E-2,{"$f":"L1464*100/B$1537","v":70.671378091872796},1.7094017094017096E-2]
["2020-03-18T17:00:00",20,"Sardegna",42,7,49,83,132,17,17,0,2,134,1135,null,77,77,"",null,{"$f":"M1465*100/M1570","v":0.3752135076862767},7,"","",17,132,0.9850746268656716,0,1.4925373134328358E-2,{"$f":"L1465*100/B$1537","v":70.671378091872796},1.4925373134328358E-2]
["2020-03-19T17:00:00",20,"Sardegna",43,9,52,152,204,72,72,0,2,206,1334,null,206,"x2",206,null,{"$f":"M1466*100/M1571","v":0.50201047885951022},55,"","",72,199,0.99029126213592233,0,9.7087378640776691E-3,{"$f":"L1466*100/B$1537","v":70.671378091872796},9.7087378640776691E-3]
["2020-03-20T17:00:00",20,"Sardegna",56,15,71,217,288,84,84,3,2,293,1912,null,206,206,"",null,{"$f":"M1467*100/M1572","v":0.62312583739180372},12,3,"",87,{"$f":"IF(N1467-N1466=0,\"\",N1467-N1466)","v":578},0.98293515358361772,1.0238907849829351E-2,6.8259385665529011E-3,{"$f":"L1467*100/B$1537","v":70.671378091872796},6.8259385665529011E-3]
["2020-03-21T17:00:00",20,"Sardegna",65,16,81,240,321,33,33,5,4,330,2297,null,206,206,"",null,{"$f":"M1468*100/M1573","v":0.61592444660121692},-51,2,2,{"$f":"IF(M1468-M1467=0,\"\",M1468-M1467)","v":37},385,0.97272727272727277,1.5151515151515152E-2,1.2121212121212121E-2,{"$f":"L1468*100/B$1537","v":141.34275618374559},1.2121212121212121E-2]
["2020-03-22T17:00:00",20,"Sardegna",67,16,83,244,327,6,6,5,7,339,2402,null,206,206,"",null,{"$f":"M1469*100/M1574","v":0.57323548310730832},-27,"",3,9,105,0.96460176991150437,1.4749262536873156E-2,2.0648967551622419E-2,{"$f":"L1469*100/B$1537","v":247.34982332155477},2.0648967551622419E-2]
["2020-03-23T17:00:00",20,"Sardegna",76,18,94,249,343,16,16,5,11,359,2568,null,206,206,"",null,{"$f":"M1470*100/M1575","v":0.56157804996323935},10,"",4,20,166,0.95543175487465182,1.3927576601671309E-2,3.0640668523676879E-2,{"$f":"L1470*100/B$1537","v":388.69257950530033},3.0640668523676879E-2]
["2020-03-24T17:00:00",20,"Sardegna",80,19,99,296,395,52,52,11,15,421,2859,null,421,"x2",421,null,{"$f":"M1471*100/M1576","v":0.60859257545969703},36,6,4,62,291,0.93824228028503565,2.6128266033254157E-2,3.5629453681710214E-2,{"$f":"L1471*100/B$1537","v":530.03533568904595},3.5629453681710214E-2]
["2020-03-25T17:00:00",20,"Sardegna",82,19,101,311,412,17,17,12,18,442,3019,null,421,421,"",null,{"$f":"M1472*100/M1577","v":0.59419783292555051},-35,1,3,21,160,0.9321266968325792,2.7149321266968326E-2,4.072398190045249E-2,{"$f":"L1472*100/B$1537","v":636.0424028268551},4.072398190045249E-2]
["2020-03-26T17:00:00",20,"Sardegna",92,20,112,350,462,50,50,13,19,494,3461,null,421,421,"",null,{"$f":"M1473*100/M1578","v":0.61336743689392714},33,1,1,52,{"$f":"IF(N1473-N1472=0,\"\",N1473-N1472)","v":442},0.93522267206477738,2.6315789473684209E-2,3.8461538461538464E-2,{"$f":"L1473*100/B$1537","v":671.37809187279152},3.8461538461538464E-2]
["2020-03-27T17:00:00",20,"Sardegna",93,19,112,384,496,34,36,13,21,530,3801,null,{"$f":"IF(Q1474=\"x2\",M1474,P1473)","v":421},{"$f":"IF(M1474>P1473*2,\"x2\",P1473)","v":421},{"$f":"IF(Q1474=\"x2\",M1474,\"\")","v":""},null,{"$f":"M1474*100/M1579","v":0.61273093019491776},{"$f":"IF(J1474-J1473=0,\"\",J1474-J1473)","v":-14},"",2,36,340,0.9358490566037736,2.4528301886792454E-2,3.962264150943396E-2,{"$f":"L1474*100/B$1537","v":742.04946996466424},3.962264150943396E-2]
["2020-03-28T17:00:00",20,"Sardegna",95,22,117,452,569,73,94,29,26,624,4225,null,421,421,"",null,{"$f":"M1475*100/M1580","v":0.67479885803270179},58,16,5,94,424,0.91185897435897434,4.6474358974358976E-2,4.1666666666666664E-2,{"$f":"L1475*100/B$1537","v":918.72791519434622},4.1666666666666664E-2]
["2020-03-29T17:00:00",20,"Sardegna",105,23,128,454,582,13,14,29,27,638,4598,null,421,421,"",null,{"$f":"M1476*100/M1581","v":0.65309297873865024},-80,"",1,14,373,0.91222570532915359,4.5454545454545456E-2,4.2319749216300939E-2,{"$f":"L1476*100/B$1537","v":954.06360424028264},4.2319749216300939E-2]
["2020-03-30T17:00:00",20,"Sardegna",113,24,137,485,622,40,44,32,28,682,4993,null,421,421,"",null,{"$f":"M1477*100/M1582","v":0.67034273975564929},30,3,1,44,395,0.91202346041055715,4.6920821114369501E-2,4.1055718475073312E-2,{"$f":"L1477*100/B$1537","v":989.39929328621906},4.1055718475073312E-2]
["2020-03-31T17:00:00",20,"Sardegna",113,28,141,516,657,35,40,34,31,722,5257,null,421,421,"",null,{"$f":"M1478*100/M1583","v":0.68247126436781613},-4,2,3,40,264,0.90997229916897504,4.7091412742382273E-2,4.2936288088642659E-2,{"$f":"L1478*100/B$1537","v":1095.4063604240282},4.2936288088642659E-2]
["2020-04-01T17:00:00",20,"Sardegna",119,27,146,529,675,18,23,36,34,745,5501,null,421,421,"",null,{"$f":"M1479*100/M1584","v":0.6737569410530504},-17,2,3,23,{"$f":"IF(N1479-N1478=0,\"\",N1479-N1478)","v":244},{"$f":"IF(M1479=0,0,H1479/M1479)","v":0.90604026845637586},{"$f":"IF(M1479=0,0,K1479/M1479)","v":4.832214765100671E-2},{"$f":"IF(M1479=0,0,L1479/M1479)","v":4.5637583892617448E-2},{"$f":"L1479*100/B$1537","v":1201.4134275618374},4.5637583892617448E-2]
["2020-04-02T17:00:00",20,"Sardegna",117,24,141,577,718,43,49,36,40,794,5970,null,{"$f":"IF(Q1480=\"x2\",M1480,P1479)","v":421},{"$f":"IF(M1480>P1479*2,\"x2\",P1479)","v":421},{"$f":"IF(Q1480=\"x2\",M1480,\"\")","v":""},null,{"$f":"M1480*100/M1585","v":0.68898491869283773},{"$f":"IF(J1480-J1479=0,\"\",J1480-J1479)","v":26},{"$f":"IF(K1480-K1479=0,\"\",K1480-K1479)","v":""},{"$f":"IF(L1480-L1479=0,\"\",L1480-L1479)","v":6},{"$f":"IF(M1480-M1479=0,\"\",M1480-M1479)","v":49},469,0.90428211586901763,4.534005037783375E-2,5.0377833753148617E-2,{"$f":"L1480*100/B$1537","v":1413.4275618374559},5.0377833753148617E-2]
["2020-04-03T17:00:00",20,"Sardegna",122,24,146,598,744,26,31,40,41,825,6478,null,{"$f":"IF(Q1481=\"x2\",M1481,P1480)","v":421},{"$f":"IF(M1481>P1480*2,\"x2\",P1480)","v":421},{"$f":"IF(Q1481=\"x2\",M1481,\"\")","v":""},null,{"$f":"M1481*100/M1586","v":0.6884925767982174},{"$f":"IF(J1481-J1480=0,\"\",J1481-J1480)","v":-18},{"$f":"IF(K1481-K1480=0,\"\",K1481-K1480)","v":4},{"$f":"IF(L1481-L1480=0,\"\",L1481-L1480)","v":1},{"$f":"IF(M1481-M1480=0,\"\",M1481-M1480)","v":31},508,0.90181818181818185,4.8484848484848485E-2,4.9696969696969698E-2,{"$f":"L1481*100/B$1537","v":1448.7632508833922},4.9696969696969698E-2]
["2020-04-04T17:00:00",20,"Sardegna",123,24,147,642,789,45,49,44,41,874,6789,null,{"$f":"IF(Q1482=\"x2\",M1482,P1481)","v":874},{"$f":"IF(M1482>P1481*2,\"x2\",P1481)","v":"x2"},{"$f":"IF(Q1482=\"x2\",M1482,\"\")","v":874},null,{"$f":"M1482*100/M1587","v":0.70126452275499074},{"$f":"IF(J1482-J1481=0,\"\",J1482-J1481)","v":18},{"$f":"IF(K1482-K1481=0,\"\",K1482-K1481)","v":4},{"$f":"IF(L1482-L1481=0,\"\",L1482-L1481)","v":""},{"$f":"IF(M1482-M1481=0,\"\",M1482-M1481)","v":49},311,0.902745995423341,5.0343249427917618E-2,4.691075514874142E-2,{"$f":"L1482*100/B$1537","v":1448.7632508833922},4.691075514874142E-2]
["2020-04-05T17:00:00",20,"Sardegna",126,25,151,664,815,26,33,49,43,907,7157,null,{"$f":"IF(Q1483=\"x2\",M1483,P1482)","v":874},{"$f":"IF(M1483>P1482*2,\"x2\",P1482)","v":874},{"$f":"IF(Q1483=\"x2\",M1483,\"\")","v":""},null,{"$f":"M1483*100/M1588","v":0.70338430995440027},{"$f":"IF(J1483-J1482=0,\"\",J1483-J1482)","v":-16},{"$f":"IF(K1483-K1482=0,\"\",K1483-K1482)","v":5},{"$f":"IF(L1483-L1482=0,\"\",L1483-L1482)","v":2},{"$f":"IF(M1483-M1482=0,\"\",M1483-M1482)","v":33},368,0.89856670341786105,5.4024255788313123E-2,4.7409040793825796E-2,{"$f":"L1483*100/B$1537","v":1519.434628975265},4.7409040793825796E-2]
["2020-04-06T17:00:00",20,"Sardegna",123,26,149,670,819,4,15,56,47,922,7521,null,{"$f":"IF(Q1484=\"x2\",M1484,P1483)","v":874},{"$f":"IF(M1484>P1483*2,\"x2\",P1483)","v":874},{"$f":"IF(Q1484=\"x2\",M1484,\"\")","v":""},null,{"$f":"M1484*100/M1589","v":0.69560231465065225},{"$f":"IF(J1484-J1483=0,\"\",J1484-J1483)","v":-18},{"$f":"IF(K1484-K1483=0,\"\",K1484-K1483)","v":7},{"$f":"IF(L1484-L1483=0,\"\",L1484-L1483)","v":4},{"$f":"IF(M1484-M1483=0,\"\",M1484-M1483)","v":15},364,0.88828633405639912,6.0737527114967459E-2,5.0976138828633402E-2,{"$f":"L1484*100/B$1537","v":1660.7773851590105},5.0976138828633402E-2]
["2020-04-07T17:00:00",20,"Sardegna",122,26,148,673,821,2,13,62,52,935,7680,null,{"$f":"IF(Q1485=\"x2\",M1485,P1484)","v":874},{"$f":"IF(M1485>P1484*2,\"x2\",P1484)","v":874},{"$f":"IF(Q1485=\"x2\",M1485,\"\")","v":""},null,{"$f":"M1485*100/M1590","v":0.68959922115852668},{"$f":"IF(J1485-J1484=0,\"\",J1485-J1484)","v":-2},{"$f":"IF(K1485-K1484=0,\"\",K1485-K1484)","v":6},{"$f":"IF(L1485-L1484=0,\"\",L1485-L1484)","v":5},{"$f":"IF(M1485-M1484=0,\"\",M1485-M1484)","v":13},{"$f":"IF(N1485-N1484=0,\"\",N1485-N1484)","v":159},{"$f":"IF(M1485=0,0,H1485/M1485)","v":0.87807486631016041},{"$f":"IF(M1485=0,0,K1485/M1485)","v":6.6310160427807491E-2},{"$f":"IF(M1485=0,0,L1485/M1485)","v":5.5614973262032089E-2},{"$f":"L1485*100/B$1537","v":1837.4558303886924},5.5614973262032089E-2]
["2020-04-08T17:00:00",20,"Sardegna",112,31,143,697,840,19,40,76,59,975,8493,null,{"$f":"IF(Q1486=\"x2\",M1486,P1485)","v":874},{"$f":"IF(M1486>P1485*2,\"x2\",P1485)","v":874},{"$f":"IF(Q1486=\"x2\",M1486,\"\")","v":""},null,{"$f":"M1486*100/M1591","v":0.69931574643886907},{"$f":"IF(J1486-J1485=0,\"\",J1486-J1485)","v":27},{"$f":"IF(K1486-K1485=0,\"\",K1486-K1485)","v":14},{"$f":"IF(L1486-L1485=0,\"\",L1486-L1485)","v":7},{"$f":"IF(M1486-M1485=0,\"\",M1486-M1485)","v":40},{"$f":"IF(N1486-N1485=0,\"\",N1486-N1485)","v":813},{"$f":"IF(M1486=0,0,H1486/M1486)","v":0.86153846153846159},{"$f":"IF(M1486=0,0,K1486/M1486)","v":7.7948717948717952E-2},{"$f":"IF(M1486=0,0,L1486/M1486)","v":6.051282051282051E-2},{"$f":"L1486*100/B$1537","v":2084.8056537102475},6.051282051282051E-2]
["2020-04-09T17:00:00",20,"Sardegna",106,25,131,745,876,36,51,86,64,1026,8918,null,{"$f":"IF(Q1487=\"x2\",M1487,P1486)","v":874},{"$f":"IF(M1487>P1486*2,\"x2\",P1486)","v":874},{"$f":"IF(Q1487=\"x2\",M1487,\"\")","v":""},null,{"$f":"M1487*100/M1592","v":0.71435533956247477},{"$f":"IF(J1487-J1486=0,\"\",J1487-J1486)","v":11},{"$f":"IF(K1487-K1486=0,\"\",K1487-K1486)","v":10},{"$f":"IF(L1487-L1486=0,\"\",L1487-L1486)","v":5},{"$f":"IF(M1487-M1486=0,\"\",M1487-M1486)","v":51},{"$f":"IF(N1487-N1486=0,\"\",N1487-N1486)","v":425},{"$f":"IF(M1487=0,0,H1487/M1487)","v":0.85380116959064323},{"$f":"IF(M1487=0,0,K1487/M1487)","v":8.3820662768031184E-2},{"$f":"IF(M1487=0,0,L1487/M1487)","v":6.2378167641325533E-2},{"$f":"L1487*100/B$1537","v":2261.4840989399295},6.2378167641325533E-2]
["2020-04-10T17:00:00",20,"Sardegna",107,26,133,743,876,0,37,118,69,1063,9444,null,{"$f":"IF(Q1488=\"x2\",M1488,P1487)","v":874},{"$f":"IF(M1488>P1487*2,\"x2\",P1487)","v":874},{"$f":"IF(Q1488=\"x2\",M1488,\"\")","v":""},null,{"$f":"M1488*100/M1593","v":0.72030194406987536},{"$f":"IF(J1488-J1487=0,\"\",J1488-J1487)","v":-14},{"$f":"IF(K1488-K1487=0,\"\",K1488-K1487)","v":32},{"$f":"IF(L1488-L1487=0,\"\",L1488-L1487)","v":5},{"$f":"IF(M1488-M1487=0,\"\",M1488-M1487)","v":37},{"$f":"IF(N1488-N1487=0,\"\",N1488-N1487)","v":526},{"$f":"IF(M1488=0,0,H1488/M1488)","v":0.82408278457196615},{"$f":"IF(M1488=0,0,K1488/M1488)","v":0.11100658513640639},{"$f":"IF(M1488=0,0,L1488/M1488)","v":6.4910630291627469E-2},{"$f":"L1488*100/B$1537","v":2438.1625441696115},6.4910630291627469E-2]
["2020-04-11T17:00:00",20,"Sardegna",113,24,137,751,888,12,28,130,73,1091,10120,null,{"$f":"IF(Q1489=\"x2\",M1489,P1488)","v":874},{"$f":"IF(M1489>P1488*2,\"x2\",P1488)","v":874},{"$f":"IF(Q1489=\"x2\",M1489,\"\")","v":""},null,{"$f":"M1489*100/M1594","v":0.71648573924122128},{"$f":"IF(J1489-J1488=0,\"\",J1489-J1488)","v":-9},{"$f":"IF(K1489-K1488=0,\"\",K1489-K1488)","v":12},{"$f":"IF(L1489-L1488=0,\"\",L1489-L1488)","v":4},{"$f":"IF(M1489-M1488=0,\"\",M1489-M1488)","v":28},{"$f":"IF(N1489-N1488=0,\"\",N1489-N1488)","v":676},{"$f":"IF(M1489=0,0,H1489/M1489)","v":0.81393217231897341},{"$f":"IF(M1489=0,0,K1489/M1489)","v":0.11915673693858846},{"$f":"IF(M1489=0,0,L1489/M1489)","v":6.6911090742438131E-2},{"$f":"L1489*100/B$1537","v":2579.5053003533567},6.6911090742438131E-2]
["2020-04-12T17:00:00",20,"Sardegna",109,26,135,768,903,15,22,137,73,1113,10663,null,{"$f":"IF(Q1490=\"x2\",M1490,P1489)","v":874},{"$f":"IF(M1490>P1489*2,\"x2\",P1489)","v":874},{"$f":"IF(Q1490=\"x2\",M1490,\"\")","v":""},null,{"$f":"M1490*100/M1595","v":0.71180522246311473},{"$f":"IF(J1490-J1489=0,\"\",J1490-J1489)","v":-6},{"$f":"IF(K1490-K1489=0,\"\",K1490-K1489)","v":7},{"$f":"IF(L1490-L1489=0,\"\",L1490-L1489)","v":""},{"$f":"IF(M1490-M1489=0,\"\",M1490-M1489)","v":22},{"$f":"IF(N1490-N1489=0,\"\",N1490-N1489)","v":543},{"$f":"IF(M1490=0,0,H1490/M1490)","v":0.81132075471698117},{"$f":"IF(M1490=0,0,K1490/M1490)","v":0.12309074573225516},{"$f":"IF(M1490=0,0,L1490/M1490)","v":6.5588499550763707E-2},{"$f":"L1490*100/B$1537","v":2579.5053003533567},6.5588499550763707E-2]
["2020-04-13T17:00:00",20,"Sardegna",107,27,134,780,914,11,15,139,75,1128,11010,null,{"$f":"IF(Q1491=\"x2\",M1491,P1490)","v":874},{"$f":"IF(M1491>P1490*2,\"x2\",P1490)","v":874},{"$f":"IF(Q1491=\"x2\",M1491,\"\")","v":""},null,{"$f":"M1491*100/M1596","v":0.70713909576468814},{"$f":"IF(J1491-J1490=0,\"\",J1491-J1490)","v":-7},{"$f":"IF(K1491-K1490=0,\"\",K1491-K1490)","v":2},{"$f":"IF(L1491-L1490=0,\"\",L1491-L1490)","v":2},{"$f":"IF(M1491-M1490=0,\"\",M1491-M1490)","v":15},{"$f":"IF(N1491-N1490=0,\"\",N1491-N1490)","v":347},{"$f":"IF(M1491=0,0,H1491/M1491)","v":0.81028368794326244},{"$f":"IF(M1491=0,0,K1491/M1491)","v":0.12322695035460993},{"$f":"IF(M1491=0,0,L1491/M1491)","v":6.6489361702127658E-2},{"$f":"L1491*100/B$1537","v":2650.1766784452298},6.6489361702127658E-2]
["2020-04-14T17:00:00",20,"Sardegna",107,24,131,769,900,-14,10,158,80,1138,11893,null,{"$f":"IF(Q1492=\"x2\",M1492,P1491)","v":874},{"$f":"IF(M1492>P1491*2,\"x2\",P1491)","v":874},{"$f":"IF(Q1492=\"x2\",M1492,\"\")","v":""},null,{"$f":"M1492*100/M1597","v":0.70035941115651612},{"$f":"IF(J1492-J1491=0,\"\",J1492-J1491)","v":-5},{"$f":"IF(K1492-K1491=0,\"\",K1492-K1491)","v":19},{"$f":"IF(L1492-L1491=0,\"\",L1492-L1491)","v":5},{"$f":"IF(M1492-M1491=0,\"\",M1492-M1491)","v":10},{"$f":"IF(N1492-N1491=0,\"\",N1492-N1491)","v":883},{"$f":"IF(M1492=0,0,H1492/M1492)","v":0.79086115992970119},{"$f":"IF(M1492=0,0,K1492/M1492)","v":0.13884007029876977},{"$f":"IF(M1492=0,0,L1492/M1492)","v":7.0298769771529004E-2},{"$f":"L1492*100/B$1537","v":2826.8551236749117},7.0298769771529004E-2]
["2020-04-15T17:00:00",20,"Sardegna",107,26,133,737,870,-30,23,208,83,1161,12395,null,{"$f":"IF(Q1493=\"x2\",M1493,P1492)","v":874},{"$f":"IF(M1493>P1492*2,\"x2\",P1492)","v":874},{"$f":"IF(Q1493=\"x2\",M1493,\"\")","v":""},null,{"$f":"M1493*100/M1598","v":0.70297599224970486},{"$f":"IF(J1493-J1492=0,\"\",J1493-J1492)","v":13},{"$f":"IF(K1493-K1492=0,\"\",K1493-K1492)","v":50},{"$f":"IF(L1493-L1492=0,\"\",L1493-L1492)","v":3},{"$f":"IF(M1493-M1492=0,\"\",M1493-M1492)","v":23},{"$f":"IF(N1493-N1492=0,\"\",N1493-N1492)","v":502},{"$f":"IF(M1493=0,0,H1493/M1493)","v":0.74935400516795869},{"$f":"IF(M1493=0,0,K1493/M1493)","v":0.17915590008613264},{"$f":"IF(M1493=0,0,L1493/M1493)","v":7.14900947459087E-2},{"$f":"L1493*100/B$1537","v":2932.8621908127207},7.14900947459087E-2]
["2020-04-16T17:00:00",20,"Sardegna",109,24,133,732,865,-5,3,214,85,1164,12796,null,{"$f":"IF(Q1494=\"x2\",M1494,P1493)","v":874},{"$f":"IF(M1494>P1493*2,\"x2\",P1493)","v":874},{"$f":"IF(Q1494=\"x2\",M1494,\"\")","v":""},null,{"$f":"M1494*100/M1599","v":0.68899793419004263},{"$f":"IF(J1494-J1493=0,\"\",J1494-J1493)","v":-20},{"$f":"IF(K1494-K1493=0,\"\",K1494-K1493)","v":6},{"$f":"IF(L1494-L1493=0,\"\",L1494-L1493)","v":2},{"$f":"IF(M1494-M1493=0,\"\",M1494-M1493)","v":3},{"$f":"IF(N1494-N1493=0,\"\",N1494-N1493)","v":401},{"$f":"IF(M1494=0,0,H1494/M1494)","v":0.74312714776632305},{"$f":"IF(M1494=0,0,K1494/M1494)","v":0.18384879725085912},{"$f":"IF(M1494=0,0,L1494/M1494)","v":7.3024054982817874E-2},{"$f":"L1494*100/B$1537","v":3003.5335689045937},7.3024054982817874E-2]
["2020-04-17T17:00:00",20,"Sardegna",113,23,136,736,872,7,14,220,86,1178,13304,null,{"$f":"IF(Q1495=\"x2\",M1495,P1494)","v":874},{"$f":"IF(M1495>P1494*2,\"x2\",P1494)","v":874},{"$f":"IF(Q1495=\"x2\",M1495,\"\")","v":""},null,{"$f":"M1495*100/M1600","v":0.68315993365577554},{"$f":"IF(J1495-J1494=0,\"\",J1495-J1494)","v":11},{"$f":"IF(K1495-K1494=0,\"\",K1495-K1494)","v":6},{"$f":"IF(L1495-L1494=0,\"\",L1495-L1494)","v":1},{"$f":"IF(M1495-M1494=0,\"\",M1495-M1494)","v":14},{"$f":"IF(N1495-N1494=0,\"\",N1495-N1494)","v":508},{"$f":"IF(M1495=0,0,H1495/M1495)","v":0.74023769100169778},{"$f":"IF(M1495=0,0,K1495/M1495)","v":0.18675721561969441},{"$f":"IF(M1495=0,0,L1495/M1495)","v":7.3005093378607805E-2},{"$f":"L1495*100/B$1537","v":3038.86925795053},7.3005093378607805E-2]
["2020-04-18T17:00:00",20,"Sardegna",112,23,135,746,881,9,20,231,86,1198,14087,null,{"$f":"IF(Q1496=\"x2\",M1496,P1495)","v":874},{"$f":"IF(M1496>P1495*2,\"x2\",P1495)","v":874},{"$f":"IF(Q1496=\"x2\",M1496,\"\")","v":""},null,{"$f":"M1496*100/M1601","v":0.68097200511581635},{"$f":"IF(J1496-J1495=0,\"\",J1496-J1495)","v":6},{"$f":"IF(K1496-K1495=0,\"\",K1496-K1495)","v":11},{"$f":"IF(L1496-L1495=0,\"\",L1496-L1495)","v":""},{"$f":"IF(M1496-M1495=0,\"\",M1496-M1495)","v":20},{"$f":"IF(N1496-N1495=0,\"\",N1496-N1495)","v":783},{"$f":"IF(M1496=0,0,H1496/M1496)","v":0.73539232053422365},{"$f":"IF(M1496=0,0,K1496/M1496)","v":0.19282136894824708},{"$f":"IF(M1496=0,0,L1496/M1496)","v":7.178631051752922E-2},{"$f":"L1496*100/B$1537","v":3038.86925795053},7.178631051752922E-2]
["2020-04-19T17:00:00",20,"Sardegna",117,22,139,725,864,-17,17,265,86,1215,14859,13760,{"$f":"IF(Q1497=\"x2\",M1497,P1496)","v":874},{"$f":"IF(M1497>P1496*2,\"x2\",P1496)","v":874},{"$f":"IF(Q1497=\"x2\",M1497,\"\")","v":""},null,{"$f":"M1497*100/M1602","v":0.67887714279328615},{"$f":"IF(J1497-J1496=0,\"\",J1497-J1496)","v":-3},{"$f":"IF(K1497-K1496=0,\"\",K1497-K1496)","v":34},{"$f":"IF(L1497-L1496=0,\"\",L1497-L1496)","v":""},{"$f":"IF(M1497-M1496=0,\"\",M1497-M1496)","v":17},{"$f":"IF(N1497-N1496=0,\"\",N1497-N1496)","v":772},{"$f":"IF(M1497=0,0,H1497/M1497)","v":0.71111111111111114},{"$f":"IF(M1497=0,0,K1497/M1497)","v":0.21810699588477367},{"$f":"IF(M1497=0,0,L1497/M1497)","v":7.0781893004115221E-2},{"$f":"L1497*100/B$1537","v":3038.86925795053},7.0781893004115221E-2]
["2020-04-20T17:00:00",20,"Sardegna",115,21,136,718,854,-10,13,288,86,1228,15328,14160,{"$f":"IF(Q1498=\"x2\",M1498,P1497)","v":874},{"$f":"IF(M1498>P1497*2,\"x2\",P1497)","v":874},{"$f":"IF(Q1498=\"x2\",M1498,\"\")","v":""},null,{"$f":"M1498*100/M1603","v":0.6775994879378463},{"$f":"IF(J1498-J1497=0,\"\",J1498-J1497)","v":-4},{"$f":"IF(K1498-K1497=0,\"\",K1498-K1497)","v":23},{"$f":"IF(L1498-L1497=0,\"\",L1498-L1497)","v":""},{"$f":"IF(M1498-M1497=0,\"\",M1498-M1497)","v":13},{"$f":"IF(N1498-N1497=0,\"\",N1498-N1497)","v":469},{"$f":"IF(M1498=0,0,H1498/M1498)","v":0.69543973941368076},{"$f":"IF(M1498=0,0,K1498/M1498)","v":0.23452768729641693},{"$f":"IF(M1498=0,0,L1498/M1498)","v":7.0032573289902283E-2},{"$f":"L1498*100/B$1537","v":3038.86925795053},7.0032573289902283E-2]
["2020-04-21T17:00:00",20,"Sardegna",112,21,133,704,837,-17,8,306,93,1236,15886,14526,874,{"$f":"IF(M1499>P1498*2,\"x2\",P1498)","v":874},{"$f":"IF(Q1499=\"x2\",M1499,\"\")","v":""},null,{"$f":"M1499*100/M1604","v":0.67189614964366673},{"$f":"IF(J1499-J1498=0,\"\",J1499-J1498)","v":-5},{"$f":"IF(K1499-K1498=0,\"\",K1499-K1498)","v":18},{"$f":"IF(L1499-L1498=0,\"\",L1499-L1498)","v":7},{"$f":"IF(M1499-M1498=0,\"\",M1499-M1498)","v":8},{"$f":"IF(N1499-N1498=0,\"\",N1499-N1498)","v":558},{"$f":"IF(M1499=0,0,H1499/M1499)","v":0.67718446601941751},{"$f":"IF(M1499=0,0,K1499/M1499)","v":0.24757281553398058},{"$f":"IF(M1499=0,0,L1499/M1499)","v":7.5242718446601936E-2},{"$f":"L1499*100/B$1537","v":3286.2190812720846},7.5242718446601936E-2]
["2020-04-22T17:00:00",20,"Sardegna",97,20,117,716,833,-4,11,318,96,1247,16886,15354,874,{"$f":"IF(M1500>P1499*2,\"x2\",P1499)","v":874},{"$f":"IF(Q1500=\"x2\",M1500,\"\")","v":""},null,{"$f":"M1500*100/M1605","v":0.66568086821440586},{"$f":"IF(J1500-J1499=0,\"\",J1500-J1499)","v":3},{"$f":"IF(K1500-K1499=0,\"\",K1500-K1499)","v":12},{"$f":"IF(L1500-L1499=0,\"\",L1500-L1499)","v":3},{"$f":"IF(M1500-M1499=0,\"\",M1500-M1499)","v":11},{"$f":"IF(N1500-N1499=0,\"\",N1500-N1499)","v":1000},{"$f":"IF(M1500=0,0,H1500/M1500)","v":0.66800320769847632},{"$f":"IF(M1500=0,0,K1500/M1500)","v":0.25501202886928631},{"$f":"IF(M1500=0,0,L1500/M1500)","v":7.6984763432237369E-2},{"$f":"L1500*100/B$1537","v":3392.226148409894},7.6984763432237369E-2]
["2020-04-23T17:00:00",20,"Sardegna",90,20,110,707,817,-16,7,339,98,1254,17844,16094,{"$f":"IF(Q1501=\"x2\",M1501,P1500)","v":874},{"$f":"IF(M1501>P1500*2,\"x2\",P1500)","v":874},{"$f":"IF(Q1501=\"x2\",M1501,\"\")","v":""},null,{"$f":"M1501*100/M1606","v":0.66009380280355634},{"$f":"IF(J1501-J1500=0,\"\",J1501-J1500)","v":-4},{"$f":"IF(K1501-K1500=0,\"\",K1501-K1500)","v":21},{"$f":"IF(L1501-L1500=0,\"\",L1501-L1500)","v":2},{"$f":"IF(M1501-M1500=0,\"\",M1501-M1500)","v":7},{"$f":"IF(N1501-N1500=0,\"\",N1501-N1500)","v":958},{"$f":"IF(M1501=0,0,H1501/M1501)","v":0.65151515151515149},{"$f":"IF(M1501=0,0,K1501/M1501)","v":0.27033492822966509},{"$f":"IF(M1501=0,0,L1501/M1501)","v":7.8149920255183414E-2},{"$f":"L1501*100/B$1537","v":3462.8975265017666},{"$f":"IF(M1501=0,0,L1501/M1501)","v":7.8149920255183414E-2}]
["2020-04-24T17:00:00",20,"Sardegna",95,19,114,690,804,-13,3,351,102,1257,19889,18050,{"$f":"IF(Q1502=\"x2\",M1502,P1501)","v":874},{"$f":"IF(M1502>P1501*2,\"x2\",P1501)","v":874},{"$f":"IF(Q1502=\"x2\",M1502,\"\")","v":""},null,{"$f":"M1502*100/M1607","v":0.65131558494046449},{"$f":"IF(J1502-J1501=0,\"\",J1502-J1501)","v":-4},{"$f":"IF(K1502-K1501=0,\"\",K1502-K1501)","v":12},{"$f":"IF(L1502-L1501=0,\"\",L1502-L1501)","v":4},{"$f":"IF(M1502-M1501=0,\"\",M1502-M1501)","v":3},{"$f":"IF(N1502-N1501=0,\"\",N1502-N1501)","v":2045},{"$f":"IF(M1502=0,0,H1502/M1502)","v":0.63961813842482096},{"$f":"IF(M1502=0,0,K1502/M1502)","v":0.27923627684964203},{"$f":"IF(M1502=0,0,L1502/M1502)","v":8.1145584725536998E-2},{"$f":"L1502*100/B$1537","v":3604.2402826855123},{"$f":"IF(M1502=0,0,L1502/M1502)","v":8.1145584725536998E-2}]
["2020-04-25T17:00:00",20,"Sardegna",96,18,114,680,794,-10,14,374,103,1271,20351,18480,{"$f":"IF(Q1503=\"x2\",M1503,P1502)","v":874},{"$f":"IF(M1503>P1502*2,\"x2\",P1502)","v":874},{"$f":"IF(Q1503=\"x2\",M1503,\"\")","v":""},null,{"$f":"M1503*100/M1608","v":0.65062374904658793},{"$f":"IF(J1503-J1502=0,\"\",J1503-J1502)","v":11},{"$f":"IF(K1503-K1502=0,\"\",K1503-K1502)","v":23},{"$f":"IF(L1503-L1502=0,\"\",L1503-L1502)","v":1},{"$f":"IF(M1503-M1502=0,\"\",M1503-M1502)","v":14},{"$f":"IF(N1503-N1502=0,\"\",N1503-N1502)","v":462},{"$f":"IF(M1503=0,0,H1503/M1503)","v":0.62470495672698667},{"$f":"IF(M1503=0,0,K1503/M1503)","v":0.29425649095200629},{"$f":"IF(M1503=0,0,L1503/M1503)","v":8.1038552321007082E-2},{"$f":"L1503*100/B$1537","v":3639.5759717314486},{"$f":"IF(M1503=0,0,L1503/M1503)","v":8.1038552321007082E-2}]
["2020-04-26T17:00:00",20,"Sardegna",95,20,115,668,783,-11,9,388,109,1280,21101,19162,{"$f":"IF(Q1504=\"x2\",M1504,P1503)","v":874},{"$f":"IF(M1504>P1503*2,\"x2\",P1503)","v":874},{"$f":"IF(Q1504=\"x2\",M1504,\"\")","v":""},null,{"$f":"M1504*100/M1609","v":0.64752750727203745},{"$f":"IF(J1504-J1503=0,\"\",J1504-J1503)","v":-5},{"$f":"IF(K1504-K1503=0,\"\",K1504-K1503)","v":14},{"$f":"IF(L1504-L1503=0,\"\",L1504-L1503)","v":6},{"$f":"IF(M1504-M1503=0,\"\",M1504-M1503)","v":9},{"$f":"IF(N1504-N1503=0,\"\",N1504-N1503)","v":750},{"$f":"IF(M1504=0,0,H1504/M1504)","v":0.61171874999999998},{"$f":"IF(M1504=0,0,K1504/M1504)","v":0.30312499999999998},{"$f":"IF(M1504=0,0,L1504/M1504)","v":8.5156250000000003E-2},{"$f":"L1504*100/B$1537","v":3851.5901060070669},{"$f":"IF(M1504=0,0,L1504/M1504)","v":8.5156250000000003E-2}]
["2020-04-27T17:00:00",20,"Sardegna",97,19,116,660,776,-7,3,398,109,1283,21395,19424,{"$f":"IF(Q1505=\"x2\",M1505,P1504)","v":874},{"$f":"IF(M1505>P1504*2,\"x2\",P1504)","v":874},{"$f":"IF(Q1505=\"x2\",M1505,\"\")","v":""},null,{"$f":"M1505*100/M1610","v":0.64338511839690293},{"$f":"IF(J1505-J1504=0,\"\",J1505-J1504)","v":-6},{"$f":"IF(K1505-K1504=0,\"\",K1505-K1504)","v":10},{"$f":"IF(L1505-L1504=0,\"\",L1505-L1504)","v":""},{"$f":"IF(M1505-M1504=0,\"\",M1505-M1504)","v":3},{"$f":"IF(N1505-N1504=0,\"\",N1505-N1504)","v":294},{"$f":"IF(M1505=0,0,H1505/M1505)","v":0.60483242400623538},{"$f":"IF(M1505=0,0,K1505/M1505)","v":0.31021044427123928},{"$f":"IF(M1505=0,0,L1505/M1505)","v":8.4957131722525336E-2},{"$f":"L1505*100/B$1537","v":3851.5901060070669},{"$f":"IF(M1505=0,0,L1505/M1505)","v":8.4957131722525336E-2}]
[{"$f":"A1505 + 1","v":"2020-04-28T17:00:00"},null,null,null,null,null,null,null,null,null,null,null,null,null,null,null,"Media x2",{"$f":"COUNT(N1442:N1505) / COUNT(R1442:R1505)","v":7.1111111111111107}]
[{"$f":"A1506+1","v":"2020-04-29T17:00:00"}]
[{"$f":"A1507+1","v":"2020-04-30T17:00:00"}]
[null,null,null,null,{"$f":"E1505/$M1505","v":1.4809041309431021E-2},null,null,{"$f":"H1505/$M1505","v":0.60483242400623538},null,null,{"$f":"K1505/$M1505","v":0.31021044427123928},{"$f":"L1505/$M1505","v":8.4957131722525336E-2},null,{"$f":"N1505/$M1505","v":16.675759937646141}]
[]
[]
[null,"C. Tot.","Regione","Abitanti","Contagiati","Su 10.000 Abitanti",null,"% Deceduti","% Tamponi"]
[null,{"$f":"MAX(M2:M68)","v":25098},{"$f":"C2","v":"Piemonte"},4356406,{"$f":"B1513*10000/D1513","v":57.611710203318971},{"$f":"100-E1513","v":42.388289796681029},null,{"$f":"MAX(AD2:AD68)","v":0.11467049167264323},{"$f":"N69","v":5.5521555502430475}]
[null,{"$f":"MAX(M74:M140)","v":1111},{"$f":"C74","v":"Valle d'Aosta"},125332,{"$f":"B1514*10000/D1514","v":88.644560048511153},{"$f":"100-E1514","v":11.355439951488847},null,{"$f":"MAX(AD74:AD140)","v":0.12630480167014613},{"$f":"N141","v":5.8964896489648968}]
[null,{"$f":"MAX(M146:M212)","v":73479},{"$f":"C146","v":"Lombardia"},10088484,72.834530936461817,27.165469063538183,null,{"$f":"MAX(AD146:AD212)","v":0.18517319044324387},{"$f":"N213","v":4.6659589814777007}]
[null,{"$f":"MAX(M218:M284)","v":2496},{"$f":"C218","v":"P.A. Bolzano"},533050,46.824875715223712,53.175124284776288,null,{"$f":"MAX(AD218:AD284)","v":0.10842402257154374},{"$f":"N285","v":15.48076923076923}]
[null,{"$f":"MAX(M290:M356)","v":3995},{"$f":"C290","v":"P.A. Trento"},541380,73.792899626879461,26.207100373120539,null,{"$f":"MAX(AD290:AD356)","v":0.10449808008776741},{"$f":"N357","v":8.2983729662077597}]
[null,{"$f":"MAX(M362:M428)","v":17579},{"$f":"C362","v":"Veneto"},4905854,35.83270109546676,64.16729890453324,null,{"$f":"MAX(AD362:AD428)","v":7.6454860913590078E-2},{"$f":"N429","v":18.205074236304682}]
[null,{"$f":"MAX(M434:M500)","v":2977},{"$f":"C434","v":"Friuli Venezia Giulia"},1215220,24.497621829792138,75.502378170207862,null,{"$f":"MAX(AD434:AD500)","v":9.103123950285523E-2},{"$f":"N501","v":20.470272085992612}]
[null,{"$f":"MAX(M506:M572)","v":7642},{"$f":"C506","v":"Liguria"},1550640,49.282876747665483,50.717123252334517,null,{"$f":"MAX(AD506:AD572)","v":0.15000697058413495},{"$f":"N573","v":5.7627584401989012}]
[null,{"$f":"MAX(M578:M644)","v":24662},{"$f":"C578","v":"Emilia Romagna"},4459477,55.302449143700038,44.697550856299962,null,{"$f":"MAX(AD578:AD644)","v":0.13912091476765875},{"$f":"N645","v":6.6896034384883629}]
[null,{"$f":"MAX(M650:M716)","v":9179},{"$f":"C650","v":"Toscana"},3729641,24.61094780972217,75.389052190277823,null,{"$f":"MAX(AD650:AD716)","v":8.661074191088354E-2},{"$f":"N717","v":14.059047826560628}]
[null,{"$f":"MAX(M722:M788)","v":1370},{"$f":"C722","v":"Umbria"},879337,15.579919871448602,84.420080128551405,null,{"$f":"MAX(AD722:AD788)","v":4.7445255474452552E-2},{"$f":"N789","v":23.958394160583943}]
[null,{"$f":"MAX(M794:M860)","v":6127},{"$f":"C794","v":"Marche"},1522608,40.240166871578239,59.759833128421761,null,{"$f":"MAX(AD794:AD860)","v":0.14427941896523583},{"$f":"N861","v":8.6118818345030199}]
[null,{"$f":"MAX(M866:M932)","v":6392},{"$f":"C866","v":"Lazio"},5867097,10.894655397720543,89.105344602279459,null,{"$f":"MAX(AD866:AD932)","v":6.262230919765166E-2},{"$f":"N933","v":19.519555694618273}]
[null,{"$f":"MAX(M938:M1004)","v":2874},{"$f":"C938","v":"Abruzzo"},1304970,22.023494792983747,77.97650520701626,null,{"$f":"MAX(AD938:AD1004)","v":0.10554089709762533},{"$f":"N1005","v":11.891440501043842}]
[null,{"$f":"MAX(M1010:M1076)","v":296},{"$f":"C1010","v":"Molise"},302931,9.7712020229029051,90.228797977097088,null,{"$f":"MAX(AD1010:AD1076)","v":0.11475409836065574},{"$f":"N1077","v":19.108108108108109}]
[null,{"$f":"MAX(M1082:M1148)","v":4349},{"$f":"C1082","v":"Campania"},5772625,7.5338342608432036,92.466165739156793,null,{"$f":"MAX(AD1082:AD1148)","v":8.0938146700390901E-2},{"$f":"N1149","v":15.802943205334559}]
[null,{"$f":"MAX(M1154:M1220)","v":3958},{"$f":"C1154","v":"Puglia"},4012310,9.8646415655819215,90.13535843441808,null,{"$f":"MAX(AD1154:AD1220)","v":0.1111111111111111},{"$f":"N1221","v":14.395149065184437}]
[null,{"$f":"MAX(M1226:M1292)","v":366},{"$f":"C1226","v":"Basilicata"},559084,6.5464223622926072,93.453577637707397,null,{"$f":"MAX(AD1226:AD1292)","v":7.0175438596491224E-2},{"$f":"N1293","v":28.316939890710383}]
[null,{"$f":"MAX(M1298:M1364)","v":1096},{"$f":"C1298","v":"Calabria"},1935414,5.6628710963132436,94.337128903686761,null,{"$f":"MAX(AD1298:AD1364)","v":7.5729927007299275E-2},{"$f":"N1365","v":29.002737226277372}]
[null,{"$f":"MAX(M1370:M1436)","v":3085},{"$f":"C1370","v":"Sicilia"},4969147,6.2083089914627196,93.791691008537285,null,{"$f":"MAX(AD1370:AD1436)","v":7.4878444084278767E-2},{"$f":"N1437","v":22.901134521880063}]
[null,{"$f":"MAX(M1442:M1508)","v":1283},{"$f":"C1442","v":"Sardegna"},1632892,7.8572250951073315,92.142774904892661,null,{"$f":"MAX(AD1442:AD1508)","v":8.5156250000000003E-2},{"$f":"N1509","v":16.675759937646141}]
[null,{"$f":"SUM(B1513:B1533)","v":199414},"Italia",{"$f":"SUM(D1513:D1533)","v":60263899},33.090125814793367,66.909874185206633,null,{"$f":"AD1603","v":0.13305890921932592},{"$f":"N1614","v":8.9746055943915675}]
[]
[null,{"$f":"COUNTA(B1547:B1048576)+3","v":67},"Numero Campioni"]
[null,2.83,"% del \"Tasso di Mortalità\" calcolato come media di tutte le nazioni con oltre 1.000 contagi, al 01/04/20"]
[]
[]
[]
[]
[]
[]
[]
[]
["Data","Codice","Nazione","Ricoverati","Terap. Intens.","Ospedalizzati","Quarantena","Positivi","+ Positivi","Nuovi","Guariti","Deceduti","Totale","Tamponi","Testati",null,null,"x 2",null,null,"+ Nuovi","+ Guariti","+ Deceduti","+ Totali","+ Tamponi","% Positivi","% Guariti","% Deceduti","P. Stimati","% Morti"]
[{"$f":"A1442","v":"2020-02-24T18:00:00"},0,"Italia",{"$f":"D2+D74+D146+D218+D290+D362+D434+D506+D578+D650+D722+D794+D866+D938+D1010+D1082+D1154+D1226+D1298+D1370+D1442","v":101},26,127,94,221,0,221,1,7,229,4324,{"$f":"O2+O74+O146+O218+O290+O362+O434+O506+O578+O650+O722+O794+O866+O938+O1010+O1082+O1154+O1226+O1298+O1370+O1442","v":0},{"$f":"M1547","v":229},null,{"$f":"M1547","v":229},null,null,null,null,null,null,null,{"$f":"IF(M1547=0,0,H1547/M1547)","v":0.96506550218340614},{"$f":"IF(M1547=0,0,K1547/M1547)","v":4.3668122270742356E-3},{"$f":"IF(M1547=0,0,L1547/M1547)","v":3.0567685589519649E-2},{"$f":"L1547*100/B$1537","v":247.34982332155477},{"$f":"IF(M1547=0,0,L1547/M1547)","v":3.0567685589519649E-2}]
[{"$f":"A1443","v":"2020-02-25T18:00:00"},0,"Italia",{"$f":"D3+D75+D147+D219+D291+D363+D435+D507+D579+D651+D723+D795+D867+D939+D1011+D1083+D1155+D1227+D1299+D1371+D1443","v":114},35,150,162,311,90,90,1,10,322,8623,{"$f":"O3+O75+O147+O219+O291+O363+O435+O507+O579+O651+O723+O795+O867+O939+O1011+O1083+O1155+O1227+O1299+O1371+O1443","v":0},{"$f":"IF(Q1548=\"x2\",M1548,P1547)","v":229},{"$f":"IF(M1548>P1547*2,\"x2\",P1547)","v":229},{"$f":"IF(Q1548=\"x2\",M1548,\"\")","v":""},null,null,{"$f":"IF(J1548-J1547=0,\"\",J1548-J1547)","v":-131},{"$f":"IF(K1548-K1547=0,\"\",K1548-K1547)","v":""},{"$f":"IF(L1548-L1547=0,\"\",L1548-L1547)","v":3},{"$f":"IF(M1548-M1547=0,\"\",M1548-M1547)","v":93},{"$f":"IF(N1548-N1547=0,\"\",N1548-N1547)","v":4299},0.96583850931677018,3.105590062111801E-3,3.1055900621118012E-2,353.35689045936397,3.1055900621118012E-2]
[{"$f":"A1444","v":"2020-02-26T18:00:00"},0,"Italia",{"$f":"D4+D76+D148+D220+D292+D364+D436+D508+D580+D652+D724+D796+D868+D940+D1012+D1084+D1156+D1228+D1300+D1372+D1444","v":128},36,164,221,385,74,74,3,12,400,9587,{"$f":"O4+O76+O148+O220+O292+O364+O436+O508+O580+O652+O724+O796+O868+O940+O1012+O1084+O1156+O1228+O1300+O1372+O1444","v":0},229,229,"",null,null,-16,2,2,78,964,0.96250000000000002,7.4999999999999997E-3,0.03,424.02826855123675,0.03]
[{"$f":"A1445","v":"2020-02-27T18:00:00"},0,"Italia",{"$f":"D5+D77+D149+D221+D293+D365+D437+D509+D581+D653+D725+D797+D869+D941+D1013+D1085+D1157+D1229+D1301+D1373+D1445","v":248},56,304,284,588,203,203,45,17,650,12014,{"$f":"O5+O77+O149+O221+O293+O365+O437+O509+O581+O653+O725+O797+O869+O941+O1013+O1085+O1157+O1229+O1301+O1373+O1445","v":0},650,"x2",650,null,null,129,42,5,250,2427,0.9046153846153846,6.9230769230769235E-2,2.6153846153846153E-2,600.70671378091868,2.6153846153846153E-2]
[{"$f":"A1446","v":"2020-02-28T18:00:00"},0,"Italia",{"$f":"D6+D78+D150+D222+D294+D366+D438+D510+D582+D654+D726+D798+D870+D942+D1014+D1086+D1158+D1230+D1302+D1374+D1446","v":345},64,409,412,821,233,233,46,21,888,15695,{"$f":"O6+O78+O150+O222+O294+O366+O438+O510+O582+O654+O726+O798+O870+O942+O1014+O1086+O1158+O1230+O1302+O1374+O1446","v":0},650,650,"",null,null,30,1,4,238,3681,0.9245495495495496,5.18018018018018E-2,2.364864864864865E-2,742.04946996466424,2.364864864864865E-2]
[{"$f":"A1447","v":"2020-02-29T17:00:00"},0,"Italia",{"$f":"D7+D79+D151+D223+D295+D367+D439+D511+D583+D655+D727+D799+D871+D943+D1015+D1087+D1159+D1231+D1303+D1375+D1447","v":401},105,506,543,1049,228,228,50,29,1128,18661,{"$f":"O7+O79+O151+O223+O295+O367+O439+O511+O583+O655+O727+O799+O871+O943+O1015+O1087+O1159+O1231+O1303+O1375+O1447","v":0},650,650,"",null,null,-5,4,8,240,2966,0.92996453900709219,4.4326241134751775E-2,2.5709219858156027E-2,1024.7349823321554,2.5709219858156027E-2]
[{"$f":"A1448","v":"2020-03-01T17:00:00"},0,"Italia",{"$f":"D8+D80+D152+D224+D296+D368+D440+D512+D584+D656+D728+D800+D872+D944+D1016+D1088+D1160+D1232+D1304+D1376+D1448","v":639},140,779,798,1577,528,528,83,34,1694,21127,{"$f":"O8+O80+O152+O224+O296+O368+O440+O512+O584+O656+O728+O800+O872+O944+O1016+O1088+O1160+O1232+O1304+O1376+O1448","v":0},1694,"x2",1694,null,null,300,33,5,566,2466,0.93093270365997638,4.8996458087367176E-2,2.0070838252656435E-2,1201.4134275618374,2.0070838252656435E-2]
[{"$f":"A1449","v":"2020-03-02T18:00:00"},0,"Italia",{"$f":"D9+D81+D153+D225+D297+D369+D441+D513+D585+D657+D729+D801+D873+D945+D1017+D1089+D1161+D1233+D1305+D1377+D1449","v":742},166,908,927,1835,258,258,149,52,2036,23345,{"$f":"O9+O81+O153+O225+O297+O369+O441+O513+O585+O657+O729+O801+O873+O945+O1017+O1089+O1161+O1233+O1305+O1377+O1449","v":0},1694,1694,"",null,null,-270,66,18,342,2218,0.90127701375245584,7.3182711198428285E-2,2.5540275049115914E-2,1837.4558303886924,2.5540275049115914E-2]
[{"$f":"A1450","v":"2020-03-03T18:00:00"},0,"Italia",{"$f":"D10+D82+D154+D226+D298+D370+D442+D514+D586+D658+D730+D802+D874+D946+D1018+D1090+D1162+D1234+D1306+D1378+D1450","v":1034},229,1263,1000,2263,428,428,160,79,2502,25856,{"$f":"O10+O82+O154+O226+O298+O370+O442+O514+O586+O658+O730+O802+O874+O946+O1018+O1090+O1162+O1234+O1306+O1378+O1450","v":0},1694,1694,"",null,null,170,11,27,466,2511,0.90447641886490804,6.3948840927258194E-2,3.1574740207833733E-2,2791.519434628975,3.1574740207833733E-2]
[{"$f":"A1451","v":"2020-03-04T17:00:00"},0,"Italia",{"$f":"D11+D83+D155+D227+D299+D371+D443+D515+D587+D659+D731+D803+D875+D947+D1019+D1091+D1163+D1235+D1307+D1379+D1451","v":1346},295,1641,1065,2706,443,443,276,107,3089,29837,{"$f":"O11+O83+O155+O227+O299+O371+O443+O515+O587+O659+O731+O803+O875+O947+O1019+O1091+O1163+O1235+O1307+O1379+O1451","v":0},1694,1694,"",null,null,15,116,28,587,3981,0.87601165425704108,8.9349303981871159E-2,3.463904176108773E-2,3780.9187279151943,3.463904176108773E-2]
[{"$f":"A1452","v":"2020-03-05T17:00:00"},0,"Italia",{"$f":"D12+D84+D156+D228+D300+D372+D444+D516+D588+D660+D732+D804+D876+D948+D1020+D1092+D1164+D1236+D1308+D1380+D1452","v":1790},351,2141,1155,3296,590,590,414,148,3858,32362,{"$f":"O12+O84+O156+O228+O300+O372+O444+O516+O588+O660+O732+O804+O876+O948+O1020+O1092+O1164+O1236+O1308+O1380+O1452","v":0},3858,"x2",3858,null,null,147,138,41,769,2525,0.85432866770347327,0.10730948678071539,3.8361845515811302E-2,5229.681978798586,3.8361845515811302E-2]
[{"$f":"A1453","v":"2020-03-06T17:00:00"},0,"Italia",{"$f":"D13+D85+D157+D229+D301+D373+D445+D517+D589+D661+D733+D805+D877+D949+D1021+D1093+D1165+D1237+D1309+D1381+D1453","v":2394},462,2856,1060,3916,620,620,523,197,4636,36359,{"$f":"O13+O85+O157+O229+O301+O373+O445+O517+O589+O661+O733+O805+O877+O949+O1021+O1093+O1165+O1237+O1309+O1381+O1453","v":0},3858,3858,"",null,null,30,109,49,778,3997,0.84469370146678169,0.11281276962899051,4.2493528904227786E-2,6961.1307420494695,4.2493528904227786E-2]
[{"$f":"A1454","v":"2020-03-07T18:00:00"},0,"Italia",{"$f":"D14+D86+D158+D230+D302+D374+D446+D518+D590+D662+D734+D806+D878+D950+D1022+D1094+D1166+D1238+D1310+D1382+D1454","v":2651},567,3218,1843,5061,1145,1145,589,233,5883,42062,{"$f":"O14+O86+O158+O230+O302+O374+O446+O518+O590+O662+O734+O806+O878+O950+O1022+O1094+O1166+O1238+O1310+O1382+O1454","v":0},3858,3858,"",null,null,525,66,36,1247,5703,0.86027536970933194,0.10011898691143974,3.9605643379228284E-2,8233.2155477031793,3.9605643379228284E-2]
[{"$f":"A1455","v":"2020-03-08T18:00:00"},0,"Italia",{"$f":"D15+D87+D159+D231+D303+D375+D447+D519+D591+D663+D735+D807+D879+D951+D1023+D1095+D1167+D1239+D1311+D1383+D1455","v":3557},650,4207,2180,6387,1326,1326,622,366,7375,49937,{"$f":"O15+O87+O159+O231+O303+O375+O447+O519+O591+O663+O735+O807+O879+O951+O1023+O1095+O1167+O1239+O1311+O1383+O1455","v":0},3858,3858,"",null,null,181,33,133,1492,7875,0.8660338983050847,8.4338983050847458E-2,4.9627118644067797E-2,12932.862190812721,4.9627118644067797E-2]
[{"$f":"A1456","v":"2020-03-09T18:00:00"},0,"Italia",{"$f":"D16+D88+D160+D232+D304+D376+D448+D520+D592+D664+D736+D808+D880+D952+D1024+D1096+D1168+D1240+D1312+D1384+D1456","v":4316},733,5049,2936,7985,1598,1598,724,463,9172,53826,{"$f":"O16+O88+O160+O232+O304+O376+O448+O520+O592+O664+O736+O808+O880+O952+O1024+O1096+O1168+O1240+O1312+O1384+O1456","v":0},9172,"x2",9172,null,null,272,102,97,1797,3889,0.87058438726559095,7.8935891844744879E-2,5.0479720889664195E-2,16360.424028268551,5.0479720889664195E-2]
[{"$f":"A1457","v":"2020-03-10T18:00:00"},0,"Italia",{"$f":"D17+D89+D161+D233+D305+D377+D449+D521+D593+D665+D737+D809+D881+D953+D1025+D1097+D1169+D1241+D1313+D1385+D1457","v":5038},877,5915,2599,8514,529,529,1004,631,10149,60761,{"$f":"O17+O89+O161+O233+O305+O377+O449+O521+O593+O665+O737+O809+O881+O953+O1025+O1097+O1169+O1241+O1313+O1385+O1457","v":0},9172,9172,"",null,null,-1069,280,168,977,6935,0.83890038427431279,9.8926002561828749E-2,6.2173613163858506E-2,22296.819787985864,6.2173613163858506E-2]
[{"$f":"A1458","v":"2020-03-11T17:00:00"},0,"Italia",{"$f":"D18+D90+D162+D234+D306+D378+D450+D522+D594+D666+D738+D810+D882+D954+D1026+D1098+D1170+D1242+D1314+D1386+D1458","v":5838},1028,6866,3724,10590,2076,2076,1045,827,12462,73154,{"$f":"O18+O90+O162+O234+O306+O378+O450+O522+O594+O666+O738+O810+O882+O954+O1026+O1098+O1170+O1242+O1314+O1386+O1458","v":0},9172,9172,"",null,null,1547,41,196,2313,12393,0.84978334135772748,8.3854918953619004E-2,6.6361739688653512E-2,29222.614840989398,6.6361739688653512E-2]
[{"$f":"A1459","v":"2020-03-12T17:00:00"},0,"Italia",{"$f":"D19+D91+D163+D235+D307+D379+D451+D523+D595+D667+D739+D811+D883+D955+D1027+D1099+D1171+D1243+D1315+D1387+D1459","v":6650},1153,7803,5036,12839,2249,2249,1258,1016,15113,86011,{"$f":"O19+O91+O163+O235+O307+O379+O451+O523+O595+O667+O739+O811+O883+O955+O1027+O1099+O1171+O1243+O1315+O1387+O1459","v":0},9172,9172,"",null,null,173,213,189,2651,12857,0.84953351419307876,8.3239595050618675E-2,6.7226890756302518E-2,35901.060070671374,6.7226890756302518E-2]
[{"$f":"A1460","v":"2020-03-13T17:00:00"},0,"Italia",{"$f":"D20+D92+D164+D236+D308+D380+D452+D524+D596+D668+D740+D812+D884+D956+D1028+D1100+D1172+D1244+D1316+D1388+D1460","v":7426},1328,8754,6201,14955,2116,2116,1439,1266,17660,97488,{"$f":"O20+O92+O164+O236+O308+O380+O452+O524+O596+O668+O740+O812+O884+O956+O1028+O1100+O1172+O1244+O1316+O1388+O1460","v":0},9172,9172,"",null,null,-133,181,250,2547,11477,0.84682899207248019,8.1483578708946777E-2,7.1687429218573046E-2,44734.98233215548,7.1687429218573046E-2]
[{"$f":"A1461","v":"2020-03-14T17:00:00"},0,"Italia",{"$f":"D21+D93+D165+D237+D309+D381+D453+D525+D597+D669+D741+D813+D885+D957+D1029+D1101+D1173+D1245+D1317+D1389+D1461","v":8372},1518,9890,7860,17750,2795,2795,1966,1441,21157,109170,{"$f":"O21+O93+O165+O237+O309+O381+O453+O525+O597+O669+O741+O813+O885+O957+O1029+O1101+O1173+O1245+O1317+O1389+O1461","v":0},21157,"x2",21157,null,null,679,527,175,3497,11682,0.83896582691307842,9.2924327645696456E-2,6.8109845441225128E-2,50918.727915194344,6.8109845441225128E-2]
[{"$f":"A1462","v":"2020-03-15T17:00:00"},0,"Italia",{"$f":"D22+D94+D166+D238+D310+D382+D454+D526+D598+D670+D742+D814+D886+D958+D1030+D1102+D1174+D1246+D1318+D1390+D1462","v":9663},1672,11335,9268,20603,2853,2853,2335,1809,24747,124899,{"$f":"O22+O94+O166+O238+O310+O382+O454+O526+O598+O670+O742+O814+O886+O958+O1030+O1102+O1174+O1246+O1318+O1390+O1462","v":0},21157,21157,"",null,null,58,369,368,3590,15729,0.8325453590334182,9.4354871297531021E-2,7.3099769669050796E-2,63922.261484098941,7.3099769669050796E-2]
[{"$f":"A1463","v":"2020-03-16T17:00:00"},0,"Italia",{"$f":"D23+D95+D167+D239+D311+D383+D455+D527+D599+D671+D743+D815+D887+D959+D1031+D1103+D1175+D1247+D1319+D1391+D1463","v":11025},1851,12876,10197,23073,2470,2470,2749,2158,27980,137962,{"$f":"O23+O95+O167+O239+O311+O383+O455+O527+O599+O671+O743+O815+O887+O959+O1031+O1103+O1175+O1247+O1319+O1391+O1463","v":0},21157,21157,"",null,null,-383,414,349,3233,13063,0.82462473195139385,9.8248749106504649E-2,7.7126518942101499E-2,76254.416961130744,7.7126518942101499E-2]
[{"$f":"A1464","v":"2020-03-17T17:00:00"},0,"Italia",{"$f":"D24+D96+D168+D240+D312+D384+D456+D528+D600+D672+D744+D816+D888+D960+D1032+D1104+D1176+D1248+D1320+D1392+D1464","v":12894},2060,14954,11108,26062,2989,2989,2941,2503,31506,148657,{"$f":"O24+O96+O168+O240+O312+O384+O456+O528+O600+O672+O744+O816+O888+O960+O1032+O1104+O1176+O1248+O1320+O1392+O1464","v":0},21157,21157,"",null,null,519,192,345,3526,10695,0.82720751602869291,9.3347298927188474E-2,7.9445185044118585E-2,88445.229681978803,7.9445185044118585E-2]
[{"$f":"A1465","v":"2020-03-18T17:00:00"},0,"Italia",{"$f":"D25+D97+D169+D241+D313+D385+D457+D529+D601+D673+D745+D817+D889+D961+D1033+D1105+D1177+D1249+D1321+D1393+D1465","v":14363},2257,16620,12090,28710,2648,2648,4025,2978,35713,165541,{"$f":"O25+O97+O169+O241+O313+O385+O457+O529+O601+O673+O745+O817+O889+O961+O1033+O1105+O1177+O1249+O1321+O1393+O1465","v":0},21157,21157,"",null,null,-341,1084,475,4207,16884,0.80390894072186603,0.11270405734606447,8.3387001932069549E-2,105229.68197879859,8.3387001932069549E-2]
[{"$f":"A1466","v":"2020-03-19T17:00:00"},0,"Italia",{"$f":"D26+D98+D170+D242+D314+D386+D458+D530+D602+D674+D746+D818+D890+D962+D1034+D1106+D1178+D1250+D1322+D1394+D1466","v":15757},2498,18255,14935,33190,4480,4480,4440,3405,41035,182777,{"$f":"O26+O98+O170+O242+O314+O386+O458+O530+O602+O674+O746+O818+O890+O962+O1034+O1106+O1178+O1250+O1322+O1394+O1466","v":0},21157,21157,"",null,null,1832,415,427,5322,17236,0.80882173754112341,0.10820031680272937,8.297794565614719E-2,120318.02120141343,8.297794565614719E-2]
[{"$f":"A1467","v":"2020-03-20T17:00:00"},0,"Italia",{"$f":"D27+D99+D171+D243+D315+D387+D459+D531+D603+D675+D747+D819+D891+D963+D1035+D1107+D1179+D1251+D1323+D1395+D1467","v":16020},2655,18675,19185,37860,4670,4670,5129,4032,47021,206886,{"$f":"O27+O99+O171+O243+O315+O387+O459+O531+O603+O675+O747+O819+O891+O963+O1035+O1107+O1179+O1251+O1323+O1395+O1467","v":0},47021,"x2",47021,null,null,{"$f":"IF(J1572-J1571=0,\"\",J1572-J1571)","v":190},{"$f":"IF(K1572-K1571=0,\"\",K1572-K1571)","v":689},{"$f":"IF(L1572-L1571=0,\"\",L1572-L1571)","v":627},5986,{"$f":"IF(N1572-N1571=0,\"\",N1572-N1571)","v":24109},0.8051721571212862,0.10907892218370516,8.5748920695008612E-2,142473.49823321553,8.5748920695008612E-2]
[{"$f":"A1468","v":"2020-03-21T17:00:00"},0,"Italia",{"$f":"D28+D100+D172+D244+D316+D388+D460+D532+D604+D676+D748+D820+D892+D964+D1036+D1108+D1180+D1252+D1324+D1396+D1468","v":17708},2857,20565,22116,42681,4821,4821,6072,4825,53578,233222,{"$f":"O28+O100+O172+O244+O316+O388+O460+O532+O604+O676+O748+O820+O892+O964+O1036+O1108+O1180+O1252+O1324+O1396+O1468","v":0},47021,47021,"",null,null,151,943,793,{"$f":"IF(M1573-M1572=0,\"\",M1573-M1572)","v":6557},26336,0.79661428198141027,0.11333009817462392,9.0055619843965803E-2,170494.6996466431,9.0055619843965803E-2]
[{"$f":"A1469","v":"2020-03-22T17:00:00"},0,"Italia",{"$f":"D29+D101+D173+D245+D317+D389+D461+D533+D605+D677+D749+D821+D893+D965+D1037+D1109+D1181+D1253+D1325+D1397+D1469","v":19846},3009,22855,23783,46638,3957,3957,7024,5476,59138,258402,{"$f":"O29+O101+O173+O245+O317+O389+O461+O533+O605+O677+O749+O821+O893+O965+O1037+O1109+O1181+O1253+O1325+O1397+O1469","v":0},47021,47021,"",null,null,-864,952,651,5560,25180,0.78862998410497476,0.11877303933173256,9.2596976563292632E-2,193498.23321554769,9.2596976563292632E-2]
[{"$f":"A1470","v":"2020-03-23T17:00:00"},0,"Italia",{"$f":"D30+D102+D174+D246+D318+D390+D462+D534+D606+D678+D750+D822+D894+D966+D1038+D1110+D1182+D1254+D1326+D1398+D1470","v":20692},3204,23896,26522,50418,3780,3780,7432,6077,63927,275468,{"$f":"O30+O102+O174+O246+O318+O390+O462+O534+O606+O678+O750+O822+O894+O966+O1038+O1110+O1182+O1254+O1326+O1398+O1470","v":0},47021,47021,"",null,null,-177,408,601,4789,17066,0.78868083908207798,0.11625760633222269,9.5061554585699315E-2,214734.98233215546,9.5061554585699315E-2]
[{"$f":"A1471","v":"2020-03-24T17:00:00"},0,"Italia",{"$f":"D31+D103+D175+D247+D319+D391+D463+D535+D607+D679+D751+D823+D895+D967+D1039+D1111+D1183+D1255+D1327+D1399+D1471","v":21937},3396,25333,28697,54030,3612,3612,8326,6820,69176,296964,{"$f":"O31+O103+O175+O247+O319+O391+O463+O535+O607+O679+O751+O823+O895+O967+O1039+O1111+O1183+O1255+O1327+O1399+O1471","v":0},47021,47021,"",null,null,-168,894,743,5249,21496,0.78105123164103152,0.12035966231062796,9.8589106048340466E-2,240989.3992932862,9.8589106048340466E-2]
[{"$f":"A1472","v":"2020-03-25T17:00:00"},0,"Italia",{"$f":"D32+D104+D176+D248+D320+D392+D464+D536+D608+D680+D752+D824+D896+D968+D1040+D1112+D1184+D1256+D1328+D1400+D1472","v":23112},3489,26601,30920,57521,3491,3491,9362,7503,74386,324445,{"$f":"O32+O104+O176+O248+O320+O392+O464+O536+O608+O680+O752+O824+O896+O968+O1040+O1112+O1184+O1256+O1328+O1400+O1472","v":0},47021,47021,"",null,null,-121,1036,683,5210,27481,0.77327722958621248,0.12585701610518107,0.10086575430860646,265123.67491166078,0.10086575430860646]
[{"$f":"A1473","v":"2020-03-26T17:00:00"},0,"Italia",{"$f":"D33+D105+D177+D249+D321+D393+D465+D537+D609+D681+D753+D825+D897+D969+D1041+D1113+D1185+D1257+D1329+D1401+D1473","v":24753},3612,28365,33648,62013,4492,4492,10361,8165,80539,361060,{"$f":"O33+O105+O177+O249+O321+O393+O465+O537+O609+O681+O753+O825+O897+O969+O1041+O1113+O1185+O1257+O1329+O1401+O1473","v":0},47021,47021,"",null,null,1001,999,662,6153,{"$f":"IF(N1578-N1577=0,\"\",N1578-N1577)","v":36615},0.76997479481990094,0.12864574926433156,0.10137945591576751,288515.90106007067,0.10137945591576751]
[{"$f":"A1474","v":"2020-03-27T17:00:00"},0,"Italia",{"$f":"D34+D106+D178+D250+D322+D394+D466+D538+D610+D682+D754+D826+D898+D970+D1042+D1114+D1186+D1258+D1330+D1402+D1474","v":26029},3732,29761,36653,66414,4401,5959,10950,9134,86498,394079,{"$f":"O34+O106+O178+O250+O322+O394+O466+O538+O610+O682+O754+O826+O898+O970+O1042+O1114+O1186+O1258+O1330+O1402+O1474","v":0},{"$f":"IF(Q1579=\"x2\",M1579,P1578)","v":47021},{"$f":"IF(M1579>P1578*2,\"x2\",P1578)","v":47021},{"$f":"IF(Q1579=\"x2\",M1579,\"\")","v":""},null,null,{"$f":"IF(J1579-J1578=0,\"\",J1579-J1578)","v":1467},589,969,5959,33019,0.76780966033896736,0.12659252237045943,0.10559781729057319,322756.18374558305,0.10559781729057319]
[{"$f":"A1475","v":"2020-03-28T17:00:00"},0,"Italia",{"$f":"D35+D107+D179+D251+D323+D395+D467+D539+D611+D683+D755+D827+D899+D971+D1043+D1115+D1187+D1259+D1331+D1403+D1475","v":26676},3856,30532,39533,70065,3651,5974,12384,10023,92472,429526,{"$f":"O35+O107+O179+O251+O323+O395+O467+O539+O611+O683+O755+O827+O899+O971+O1043+O1115+O1187+O1259+O1331+O1403+O1475","v":0},47021,47021,"",null,null,15,1434,889,5974,35447,0.75768881391123799,0.13392161951725928,0.10838956657150273,354169.61130742048,0.10838956657150273]
[{"$f":"A1476","v":"2020-03-29T17:00:00"},0,"Italia",{"$f":"D36+D108+D180+D252+D324+D396+D468+D540+D612+D684+D756+D828+D900+D972+D1044+D1116+D1188+D1260+D1332+D1404+D1476","v":27386},3906,31292,42588,73880,3815,5217,13030,10779,97689,454030,{"$f":"O36+O108+O180+O252+O324+O396+O468+O540+O612+O684+O756+O828+O900+O972+O1044+O1116+O1188+O1260+O1332+O1404+O1476","v":0},97689,"x2",97689,null,null,-757,646,756,5217,24504,0.75627757475253099,0.13338246885524471,0.1103399563922243,380883.3922261484,0.1103399563922243]
[{"$f":"A1477","v":"2020-03-30T17:00:00"},0,"Italia",{"$f":"D37+D109+D181+D253+D325+D397+D469+D541+D613+D685+D757+D829+D901+D973+D1045+D1117+D1189+D1261+D1333+D1405+D1477","v":27795},3981,31776,43752,75528,1648,4050,14620,11591,101739,477359,{"$f":"O37+O109+O181+O253+O325+O397+O469+O541+O613+O685+O757+O829+O901+O973+O1045+O1117+O1189+O1261+O1333+O1405+O1477","v":0},97689,97689,"",null,null,-1167,1590,812,4050,23329,0.74237018252587506,0.14370103893295591,0.11392877854116908,409575.97173144878,0.11392877854116908]
[{"$f":"A1478","v":"2020-03-31T17:00:00"},0,"Italia",{"$f":"D38+D110+D182+D254+D326+D398+D470+D542+D614+D686+D758+D830+D902+D974+D1046+D1118+D1190+D1262+D1334+D1406+D1478","v":28192},4023,32215,45420,77635,2107,4053,15729,12428,105792,506968,{"$f":"O38+O110+O182+O254+O326+O398+O470+O542+O614+O686+O758+O830+O902+O974+O1046+O1118+O1190+O1262+O1334+O1406+O1478","v":0},97689,97689,"",null,null,3,1109,837,4053,29609,0.73384565940713853,0.1486785390199637,0.11747580157289776,439151.9434628975,0.11747580157289776]
[{"$f":"A1479","v":"2020-04-01T17:00:00"},0,"Italia",{"$f":"D39+D111+D183+D255+D327+D399+D471+D543+D615+D687+D759+D831+D903+D975+D1047+D1119+D1191+D1263+D1335+D1407+D1479","v":28403},4035,32438,48134,80572,2937,4782,16847,13155,110574,541423,{"$f":"O39+O111+O183+O255+O327+O399+O471+O543+O615+O687+O759+O831+O903+O975+O1047+O1119+O1191+O1263+O1335+O1407+O1479","v":0},97689,97689,"",null,null,729,1118,727,4782,{"$f":"IF(N1584-N1583=0,\"\",N1584-N1583)","v":34455},{"$f":"IF(M1584=0,0,H1584/M1584)","v":0.72867039267820644},{"$f":"IF(M1584=0,0,K1584/M1584)","v":0.1523595058512851},{"$f":"IF(M1584=0,0,L1584/M1584)","v":0.11897010147050843},464840.98939929326,0.11897010147050843]
[{"$f":"A1480","v":"2020-04-02T17:00:00"},0,"Italia",{"$f":"D40+D112+D184+D256+D328+D400+D472+D544+D616+D688+D760+D832+D904+D976+D1048+D1120+D1192+D1264+D1336+D1408+D1480","v":28540},4053,32593,50456,83049,2477,4668,18278,13915,115242,581232,{"$f":"O40+O112+O184+O256+O328+O400+O472+O544+O616+O688+O760+O832+O904+O976+O1048+O1120+O1192+O1264+O1336+O1408+O1480","v":0},{"$f":"IF(Q1585=\"x2\",M1585,P1584)","v":97689},{"$f":"IF(M1585>P1584*2,\"x2\",P1584)","v":97689},{"$f":"IF(Q1585=\"x2\",M1585,\"\")","v":""},null,null,{"$f":"IF(J1585-J1584=0,\"\",J1585-J1584)","v":-114},{"$f":"IF(K1585-K1584=0,\"\",K1585-K1584)","v":1431},{"$f":"IF(L1585-L1584=0,\"\",L1585-L1584)","v":760},{"$f":"IF(M1585-M1584=0,\"\",M1585-M1584)","v":4668},39809,0.7206487218201697,0.158605369570122,0.12074590860970827,491696.11307420494,0.12074590860970827]
[{"$f":"A1481","v":"2020-04-03T17:00:00"},0,"Italia",{"$f":"D41+D113+D185+D257+D329+D401+D473+D545+D617+D689+D761+D833+D905+D977+D1049+D1121+D1193+D1265+D1337+D1409+D1481","v":28741},4068,32809,52579,85388,2339,4585,19758,14681,119827,619849,{"$f":"O41+O113+O185+O257+O329+O401+O473+O545+O617+O689+O761+O833+O905+O977+O1049+O1121+O1193+O1265+O1337+O1409+O1481","v":0},{"$f":"IF(Q1586=\"x2\",M1586,P1585)","v":97689},{"$f":"IF(M1586>P1585*2,\"x2\",P1585)","v":97689},{"$f":"IF(Q1586=\"x2\",M1586,\"\")","v":""},null,null,{"$f":"IF(J1586-J1585=0,\"\",J1586-J1585)","v":-83},{"$f":"IF(K1586-K1585=0,\"\",K1586-K1585)","v":1480},{"$f":"IF(L1586-L1585=0,\"\",L1586-L1585)","v":766},{"$f":"IF(M1586-M1585=0,\"\",M1586-M1585)","v":4585},38617,0.71259398966843868,0.16488771311974765,0.1225182972118137,{"$f":"L1586*100/B$1537","v":518763.25088339223},0.1225182972118137]
[{"$f":"A1482","v":"2020-04-04T17:00:00"},0,"Italia",{"$f":"D42+D114+D186+D258+D330+D402+D474+D546+D618+D690+D762+D834+D906+D978+D1050+D1122+D1194+D1266+D1338+D1410+D1482","v":29010},3994,33004,55270,88274,2886,4805,20996,15362,124632,657224,{"$f":"O42+O114+O186+O258+O330+O402+O474+O546+O618+O690+O762+O834+O906+O978+O1050+O1122+O1194+O1266+O1338+O1410+O1482","v":0},{"$f":"IF(Q1587=\"x2\",M1587,P1586)","v":97689},{"$f":"IF(M1587>P1586*2,\"x2\",P1586)","v":97689},{"$f":"IF(Q1587=\"x2\",M1587,\"\")","v":""},null,null,{"$f":"IF(J1587-J1586=0,\"\",J1587-J1586)","v":220},{"$f":"IF(K1587-K1586=0,\"\",K1587-K1586)","v":1238},{"$f":"IF(L1587-L1586=0,\"\",L1587-L1586)","v":681},{"$f":"IF(M1587-M1586=0,\"\",M1587-M1586)","v":4805},37375,0.70827716798254059,0.16846395789203414,0.12325887412542526,{"$f":"L1587*100/B$1537","v":542826.85512367485},0.12325887412542526]
[{"$f":"A1483","v":"2020-04-05T17:00:00"},0,"Italia",{"$f":"D43+D115+D187+D259+D331+D403+D475+D547+D619+D691+D763+D835+D907+D979+D1051+D1123+D1195+D1267+D1339+D1411+D1483","v":28949},3977,32926,58320,91246,2972,4316,21815,15887,128948,691461,{"$f":"O43+O115+O187+O259+O331+O403+O475+O547+O619+O691+O763+O835+O907+O979+O1051+O1123+O1195+O1267+O1339+O1411+O1483","v":0},{"$f":"IF(Q1588=\"x2\",M1588,P1587)","v":97689},{"$f":"IF(M1588>P1587*2,\"x2\",P1587)","v":97689},{"$f":"IF(Q1588=\"x2\",M1588,\"\")","v":""},null,null,{"$f":"IF(J1588-J1587=0,\"\",J1588-J1587)","v":-489},{"$f":"IF(K1588-K1587=0,\"\",K1588-K1587)","v":819},{"$f":"IF(L1588-L1587=0,\"\",L1588-L1587)","v":525},{"$f":"IF(M1588-M1587=0,\"\",M1588-M1587)","v":4316},34237,0.70761857492942892,0.16917672239972703,0.12320470267084406,{"$f":"L1588*100/B$1537","v":561378.09187279153},0.12320470267084406]
[{"$f":"A1484","v":"2020-04-06T17:00:00"},0,"Italia",{"$f":"D44+D116+D188+D260+D332+D404+D476+D548+D620+D692+D764+D836+D908+D980+D1052+D1124+D1196+D1268+D1340+D1412+D1484","v":28976},3898,32874,60313,93187,1941,3599,22837,16523,132547,721732,{"$f":"O44+O116+O188+O260+O332+O404+O476+O548+O620+O692+O764+O836+O908+O980+O1052+O1124+O1196+O1268+O1340+O1412+O1484","v":0},{"$f":"IF(Q1589=\"x2\",M1589,P1588)","v":97689},{"$f":"IF(M1589>P1588*2,\"x2\",P1588)","v":97689},{"$f":"IF(Q1589=\"x2\",M1589,\"\")","v":""},null,null,{"$f":"IF(J1589-J1588=0,\"\",J1589-J1588)","v":-717},{"$f":"IF(K1589-K1588=0,\"\",K1589-K1588)","v":1022},{"$f":"IF(L1589-L1588=0,\"\",L1589-L1588)","v":636},{"$f":"IF(M1589-M1588=0,\"\",M1589-M1588)","v":3599},30271,0.70304872988449385,0.17229360151493434,0.12465766860057187,{"$f":"L1589*100/B$1537","v":583851.59010600706},0.12465766860057187]
[{"$f":"A1485","v":"2020-04-07T17:00:00"},0,"Italia",{"$f":"D45+D117+D189+D261+D333+D405+D477+D549+D621+D693+D765+D837+D909+D981+D1053+D1125+D1197+D1269+D1341+D1413+D1485","v":28718},3792,32510,61557,94067,880,3039,24392,17127,135586,755445,{"$f":"O45+O117+O189+O261+O333+O405+O477+O549+O621+O693+O765+O837+O909+O981+O1053+O1125+O1197+O1269+O1341+O1413+O1485","v":0},{"$f":"IF(Q1590=\"x2\",M1590,P1589)","v":97689},{"$f":"IF(M1590>P1589*2,\"x2\",P1589)","v":97689},{"$f":"IF(Q1590=\"x2\",M1590,\"\")","v":""},null,null,{"$f":"IF(J1590-J1589=0,\"\",J1590-J1589)","v":-560},{"$f":"IF(K1590-K1589=0,\"\",K1590-K1589)","v":1555},{"$f":"IF(L1590-L1589=0,\"\",L1590-L1589)","v":604},{"$f":"IF(M1590-M1589=0,\"\",M1590-M1589)","v":3039},{"$f":"IF(N1590-N1589=0,\"\",N1590-N1589)","v":33713},{"$f":"IF(M1590=0,0,H1590/M1590)","v":0.69378106884191582},{"$f":"IF(M1590=0,0,K1590/M1590)","v":0.17990057970586934},{"$f":"IF(M1590=0,0,L1590/M1590)","v":0.12631835145221484},{"$f":"L1590*100/B$1537","v":605194.34628975263},0.12631835145221484]
[{"$f":"A1486","v":"2020-04-08T17:00:00"},0,"Italia",{"$f":"D46+D118+D190+D262+D334+D406+D478+D550+D622+D694+D766+D838+D910+D982+D1054+D1126+D1198+D1270+D1342+D1414+D1486","v":28485},3693,32178,63084,95262,1195,3836,26491,17669,139422,807125,{"$f":"O46+O118+O190+O262+O334+O406+O478+O550+O622+O694+O766+O838+O910+O982+O1054+O1126+O1198+O1270+O1342+O1414+O1486","v":0},{"$f":"IF(Q1591=\"x2\",M1591,P1590)","v":97689},{"$f":"IF(M1591>P1590*2,\"x2\",P1590)","v":97689},{"$f":"IF(Q1591=\"x2\",M1591,\"\")","v":""},null,null,{"$f":"IF(J1591-J1590=0,\"\",J1591-J1590)","v":797},{"$f":"IF(K1591-K1590=0,\"\",K1591-K1590)","v":2099},{"$f":"IF(L1591-L1590=0,\"\",L1591-L1590)","v":542},{"$f":"IF(M1591-M1590=0,\"\",M1591-M1590)","v":3836},{"$f":"IF(N1591-N1590=0,\"\",N1591-N1590)","v":51680},{"$f":"IF(M1591=0,0,H1591/M1591)","v":0.6832637603821492},{"$f":"IF(M1591=0,0,K1591/M1591)","v":0.19000588142473929},{"$f":"IF(M1591=0,0,L1591/M1591)","v":0.12673035819311157},{"$f":"L1591*100/B$1537","v":624346.28975265019},0.12673035819311157]
[{"$f":"A1487","v":"2020-04-09T17:00:00"},0,"Italia",{"$f":"D47+D119+D191+D263+D335+D407+D479+D551+D623+D695+D767+D839+D911+D983+D1055+D1127+D1199+D1271+D1343+D1415+D1487","v":28399},3605,32004,64873,96877,1615,4204,28470,18279,143626,853369,{"$f":"O47+O119+O191+O263+O335+O407+O479+O551+O623+O695+O767+O839+O911+O983+O1055+O1127+O1199+O1271+O1343+O1415+O1487","v":0},{"$f":"IF(Q1592=\"x2\",M1592,P1591)","v":97689},{"$f":"IF(M1592>P1591*2,\"x2\",P1591)","v":97689},{"$f":"IF(Q1592=\"x2\",M1592,\"\")","v":""},null,null,{"$f":"IF(J1592-J1591=0,\"\",J1592-J1591)","v":368},{"$f":"IF(K1592-K1591=0,\"\",K1592-K1591)","v":1979},{"$f":"IF(L1592-L1591=0,\"\",L1592-L1591)","v":610},{"$f":"IF(M1592-M1591=0,\"\",M1592-M1591)","v":4204},{"$f":"IF(N1592-N1591=0,\"\",N1592-N1591)","v":46244},{"$f":"IF(M1592=0,0,H1592/M1592)","v":0.67450879367245486},{"$f":"IF(M1592=0,0,K1592/M1592)","v":0.19822316293707268},{"$f":"IF(M1592=0,0,L1592/M1592)","v":0.12726804339047249},{"$f":"L1592*100/B$1537","v":645901.06007067137},0.12726804339047249]
[{"$f":"A1488","v":"2020-04-10T17:00:00"},0,"Italia",{"$f":"D48+D120+D192+D264+D336+D408+D480+D552+D624+D696+D768+D840+D912+D984+D1056+D1128+D1200+D1272+D1344+D1416+D1488","v":28242},3497,31739,66534,98273,1396,3951,30455,18849,147577,906864,{"$f":"O48+O120+O192+O264+O336+O408+O480+O552+O624+O696+O768+O840+O912+O984+O1056+O1128+O1200+O1272+O1344+O1416+O1488","v":0},{"$f":"IF(Q1593=\"x2\",M1593,P1592)","v":97689},{"$f":"IF(M1593>P1592*2,\"x2\",P1592)","v":97689},{"$f":"IF(Q1593=\"x2\",M1593,\"\")","v":""},null,null,{"$f":"IF(J1593-J1592=0,\"\",J1593-J1592)","v":-253},{"$f":"IF(K1593-K1592=0,\"\",K1593-K1592)","v":1985},{"$f":"IF(L1593-L1592=0,\"\",L1593-L1592)","v":570},{"$f":"IF(M1593-M1592=0,\"\",M1593-M1592)","v":3951},{"$f":"IF(N1593-N1592=0,\"\",N1593-N1592)","v":53495},{"$f":"IF(M1593=0,0,H1593/M1593)","v":0.66590999952567131},{"$f":"IF(M1593=0,0,K1593/M1593)","v":0.20636684578220182},{"$f":"IF(M1593=0,0,L1593/M1593)","v":0.12772315469212683},{"$f":"L1593*100/B$1537","v":666042.40282685508},0.12772315469212683]
[{"$f":"A1489","v":"2020-04-11T17:00:00"},0,"Italia",{"$f":"D49+D121+D193+D265+D337+D409+D481+D553+D625+D697+D769+D841+D913+D985+D1057+D1129+D1201+D1273+D1345+D1417+D1489","v":28144},3381,31525,68744,100269,1996,4694,32534,19468,152271,963473,{"$f":"O49+O121+O193+O265+O337+O409+O481+O553+O625+O697+O769+O841+O913+O985+O1057+O1129+O1201+O1273+O1345+O1417+O1489","v":0},{"$f":"IF(Q1594=\"x2\",M1594,P1593)","v":97689},{"$f":"IF(M1594>P1593*2,\"x2\",P1593)","v":97689},{"$f":"IF(Q1594=\"x2\",M1594,\"\")","v":""},null,null,{"$f":"IF(J1594-J1593=0,\"\",J1594-J1593)","v":743},{"$f":"IF(K1594-K1593=0,\"\",K1594-K1593)","v":2079},{"$f":"IF(L1594-L1593=0,\"\",L1594-L1593)","v":619},{"$f":"IF(M1594-M1593=0,\"\",M1594-M1593)","v":4694},{"$f":"IF(N1594-N1593=0,\"\",N1594-N1593)","v":56609},{"$f":"IF(M1594=0,0,H1594/M1594)","v":0.65849045451858856},{"$f":"IF(M1594=0,0,K1594/M1594)","v":0.21365854299242798},{"$f":"IF(M1594=0,0,L1594/M1594)","v":0.12785100248898346},{"$f":"L1594*100/B$1537","v":687915.19434628973},0.12785100248898346]
[{"$f":"A1490","v":"2020-04-12T17:00:00"},0,"Italia",{"$f":"D50+D122+D194+D266+D338+D410+D482+D554+D626+D698+D770+D842+D914+D986+D1058+D1130+D1202+D1274+D1346+D1418+D1490","v":27847},3343,31190,71063,102253,1984,4092,34211,19899,156363,1010193,{"$f":"O50+O122+O194+O266+O338+O410+O482+O554+O626+O698+O770+O842+O914+O986+O1058+O1130+O1202+O1274+O1346+O1418+O1490","v":0},{"$f":"IF(Q1595=\"x2\",M1595,P1594)","v":97689},{"$f":"IF(M1595>P1594*2,\"x2\",P1594)","v":97689},{"$f":"IF(Q1595=\"x2\",M1595,\"\")","v":""},null,null,{"$f":"IF(J1595-J1594=0,\"\",J1595-J1594)","v":-602},{"$f":"IF(K1595-K1594=0,\"\",K1595-K1594)","v":1677},{"$f":"IF(L1595-L1594=0,\"\",L1595-L1594)","v":431},{"$f":"IF(M1595-M1594=0,\"\",M1595-M1594)","v":4092},{"$f":"IF(N1595-N1594=0,\"\",N1595-N1594)","v":46720},{"$f":"IF(M1595=0,0,H1595/M1595)","v":0.65394626606038508},{"$f":"IF(M1595=0,0,K1595/M1595)","v":0.21879216950301542},{"$f":"IF(M1595=0,0,L1595/M1595)","v":0.12726156443659944},{"$f":"L1595*100/B$1537","v":703144.87632508832},0.12726156443659944]
[{"$f":"A1491","v":"2020-04-13T17:00:00"},0,"Italia",{"$f":"D51+D123+D195+D267+D339+D411+D483+D555+D627+D699+D771+D843+D915+D987+D1059+D1131+D1203+D1275+D1347+D1419+D1491","v":28023},3260,31283,72333,103616,1363,3153,35435,20465,159516,1046910,{"$f":"O51+O123+O195+O267+O339+O411+O483+O555+O627+O699+O771+O843+O915+O987+O1059+O1131+O1203+O1275+O1347+O1419+O1491","v":0},{"$f":"IF(Q1596=\"x2\",M1596,P1595)","v":97689},{"$f":"IF(M1596>P1595*2,\"x2\",P1595)","v":97689},{"$f":"IF(Q1596=\"x2\",M1596,\"\")","v":""},null,null,{"$f":"IF(J1596-J1595=0,\"\",J1596-J1595)","v":-939},{"$f":"IF(K1596-K1595=0,\"\",K1596-K1595)","v":1224},{"$f":"IF(L1596-L1595=0,\"\",L1596-L1595)","v":566},{"$f":"IF(M1596-M1595=0,\"\",M1596-M1595)","v":3153},{"$f":"IF(N1596-N1595=0,\"\",N1596-N1595)","v":36717},{"$f":"IF(M1596=0,0,H1596/M1596)","v":0.64956493392512349},{"$f":"IF(M1596=0,0,K1596/M1596)","v":0.22214072569522805},{"$f":"IF(M1596=0,0,L1596/M1596)","v":0.12829434037964843},{"$f":"L1596*100/B$1537","v":723144.87632508832},0.12829434037964843]
[{"$f":"A1492","v":"2020-04-14T17:00:00"},0,"Italia",{"$f":"D52+D124+D196+D268+D340+D412+D484+D556+D628+D700+D772+D844+D916+D988+D1060+D1132+D1204+D1276+D1348+D1420+D1492","v":28011},3186,31197,73094,104291,675,2972,37130,21067,162488,1073689,{"$f":"O52+O124+O196+O268+O340+O412+O484+O556+O628+O700+O772+O844+O916+O988+O1060+O1132+O1204+O1276+O1348+O1420+O1492","v":0},{"$f":"IF(Q1597=\"x2\",M1597,P1596)","v":97689},{"$f":"IF(M1597>P1596*2,\"x2\",P1596)","v":97689},{"$f":"IF(Q1597=\"x2\",M1597,\"\")","v":""},null,null,{"$f":"IF(J1597-J1596=0,\"\",J1597-J1596)","v":-181},{"$f":"IF(K1597-K1596=0,\"\",K1597-K1596)","v":1695},{"$f":"IF(L1597-L1596=0,\"\",L1597-L1596)","v":602},{"$f":"IF(M1597-M1596=0,\"\",M1597-M1596)","v":2972},{"$f":"IF(N1597-N1596=0,\"\",N1597-N1596)","v":26779},{"$f":"IF(M1597=0,0,H1597/M1597)","v":0.64183816651075776},{"$f":"IF(M1597=0,0,K1597/M1597)","v":0.22850918221653291},{"$f":"IF(M1597=0,0,L1597/M1597)","v":0.12965265127270936},{"$f":"L1597*100/B$1537","v":744416.96113074198},0.12965265127270936]
[{"$f":"A1493","v":"2020-04-15T17:00:00"},0,"Italia",{"$f":"D53+D125+D197+D269+D341+D413+D485+D557+D629+D701+D773+D845+D917+D989+D1061+D1133+D1205+D1277+D1349+D1421+D1493","v":27643},3079,30722,74696,105418,1127,2667,38092,21645,165155,1117404,{"$f":"O53+O125+O197+O269+O341+O413+O485+O557+O629+O701+O773+O845+O917+O989+O1061+O1133+O1205+O1277+O1349+O1421+O1493","v":0},{"$f":"IF(Q1598=\"x2\",M1598,P1597)","v":97689},{"$f":"IF(M1598>P1597*2,\"x2\",P1597)","v":97689},{"$f":"IF(Q1598=\"x2\",M1598,\"\")","v":""},null,null,{"$f":"IF(J1598-J1597=0,\"\",J1598-J1597)","v":-305},{"$f":"IF(K1598-K1597=0,\"\",K1598-K1597)","v":962},{"$f":"IF(L1598-L1597=0,\"\",L1598-L1597)","v":578},{"$f":"IF(M1598-M1597=0,\"\",M1598-M1597)","v":2667},{"$f":"IF(N1598-N1597=0,\"\",N1598-N1597)","v":43715},{"$f":"IF(M1598=0,0,H1598/M1598)","v":0.63829735702824619},{"$f":"IF(M1598=0,0,K1598/M1598)","v":0.2306439405407042},{"$f":"IF(M1598=0,0,L1598/M1598)","v":0.13105870243104961},{"$f":"L1598*100/B$1537","v":764840.98939929332},0.13105870243104961]
[{"$f":"A1494","v":"2020-04-16T17:00:00"},0,"Italia",{"$f":"D54+D126+D198+D270+D342+D414+D486+D558+D630+D702+D774+D846+D918+D990+D1062+D1134+D1206+D1278+D1350+D1422+D1494","v":26893},2936,29829,76778,106607,1189,3786,40164,22170,168941,1178403,{"$f":"O54+O126+O198+O270+O342+O414+O486+O558+O630+O702+O774+O846+O918+O990+O1062+O1134+O1206+O1278+O1350+O1422+O1494","v":0},{"$f":"IF(Q1599=\"x2\",M1599,P1598)","v":97689},{"$f":"IF(M1599>P1598*2,\"x2\",P1598)","v":97689},{"$f":"IF(Q1599=\"x2\",M1599,\"\")","v":""},null,null,{"$f":"IF(J1599-J1598=0,\"\",J1599-J1598)","v":1119},{"$f":"IF(K1599-K1598=0,\"\",K1599-K1598)","v":2072},{"$f":"IF(L1599-L1598=0,\"\",L1599-L1598)","v":525},{"$f":"IF(M1599-M1598=0,\"\",M1599-M1598)","v":3786},{"$f":"IF(N1599-N1598=0,\"\",N1599-N1598)","v":60999},{"$f":"IF(M1599=0,0,H1599/M1599)","v":0.63103095163400236},{"$f":"IF(M1599=0,0,K1599/M1599)","v":0.23773980265299721},{"$f":"IF(M1599=0,0,L1599/M1599)","v":0.1312292457130004},{"$f":"L1599*100/B$1537","v":783392.22614840989},0.1312292457130004]
[{"$f":"A1495","v":"2020-04-17T17:00:00"},0,"Italia",{"$f":"D55+D127+D199+D271+D343+D415+D487+D559+D631+D703+D775+D847+D919+D991+D1063+D1135+D1207+D1279+D1351+D1423+D1495","v":25786},2812,28598,78364,106962,355,3493,42727,22745,172434,1244108,{"$f":"O55+O127+O199+O271+O343+O415+O487+O559+O631+O703+O775+O847+O919+O991+O1063+O1135+O1207+O1279+O1351+O1423+O1495","v":0},{"$f":"IF(Q1600=\"x2\",M1600,P1599)","v":97689},{"$f":"IF(M1600>P1599*2,\"x2\",P1599)","v":97689},{"$f":"IF(Q1600=\"x2\",M1600,\"\")","v":""},null,null,{"$f":"IF(J1600-J1599=0,\"\",J1600-J1599)","v":-293},{"$f":"IF(K1600-K1599=0,\"\",K1600-K1599)","v":2563},{"$f":"IF(L1600-L1599=0,\"\",L1600-L1599)","v":575},{"$f":"IF(M1600-M1599=0,\"\",M1600-M1599)","v":3493},{"$f":"IF(N1600-N1599=0,\"\",N1600-N1599)","v":65705},{"$f":"IF(M1600=0,0,H1600/M1600)","v":0.62030690003131628},{"$f":"IF(M1600=0,0,K1600/M1600)","v":0.24778755929805027},{"$f":"IF(M1600=0,0,L1600/M1600)","v":0.1319055406706334},{"$f":"L1600*100/B$1537","v":803710.24734982336},0.1319055406706334]
[{"$f":"A1496","v":"2020-04-18T17:00:00"},0,"Italia",{"$f":"D56+D128+D200+D272+D344+D416+D488+D560+D632+D704+D776+D848+D920+D992+D1064+D1136+D1208+D1280+D1352+D1424+D1496","v":25007},2733,27740,80031,107771,809,3491,44927,23227,175925,1305833,{"$f":"O56+O128+O200+O272+O344+O416+O488+O560+O632+O704+O776+O848+O920+O992+O1064+O1136+O1208+O1280+O1352+O1424+O1496","v":0},{"$f":"IF(Q1601=\"x2\",M1601,P1600)","v":97689},{"$f":"IF(M1601>P1600*2,\"x2\",P1600)","v":97689},{"$f":"IF(Q1601=\"x2\",M1601,\"\")","v":""},null,null,{"$f":"IF(J1601-J1600=0,\"\",J1601-J1600)","v":-2},{"$f":"IF(K1601-K1600=0,\"\",K1601-K1600)","v":2200},{"$f":"IF(L1601-L1600=0,\"\",L1601-L1600)","v":482},{"$f":"IF(M1601-M1600=0,\"\",M1601-M1600)","v":3491},{"$f":"IF(N1601-N1600=0,\"\",N1601-N1600)","v":61725},{"$f":"IF(M1601=0,0,H1601/M1601)","v":0.61259627682250961},{"$f":"IF(M1601=0,0,K1601/M1601)","v":0.25537587039931792},{"$f":"IF(M1601=0,0,L1601/M1601)","v":0.13202785277817253},{"$f":"L1601*100/B$1537","v":820742.0494699647},0.13202785277817253]
[{"$f":"A1497","v":"2020-04-19T17:00:00"},0,"Italia",{"$f":"D57+D129+D201+D273+D345+D417+D489+D561+D633+D705+D777+D849+D921+D993+D1065+D1137+D1209+D1281+D1353+D1425+D1497","v":25033},2635,27668,80589,108257,486,3047,47055,23660,178972,1356541,{"$f":"O57+O129+O201+O273+O345+O417+O489+O561+O633+O705+O777+O849+O921+O993+O1065+O1137+O1209+O1281+O1353+O1425+O1497","v":935310},{"$f":"IF(Q1602=\"x2\",M1602,P1601)","v":97689},{"$f":"IF(M1602>P1601*2,\"x2\",P1601)","v":97689},{"$f":"IF(Q1602=\"x2\",M1602,\"\")","v":""},null,null,{"$f":"IF(J1602-J1601=0,\"\",J1602-J1601)","v":-444},{"$f":"IF(K1602-K1601=0,\"\",K1602-K1601)","v":2128},{"$f":"IF(L1602-L1601=0,\"\",L1602-L1601)","v":433},{"$f":"IF(M1602-M1601=0,\"\",M1602-M1601)","v":3047},{"$f":"IF(N1602-N1601=0,\"\",N1602-N1601)","v":50708},{"$f":"IF(M1602=0,0,H1602/M1602)","v":0.60488232796191588},{"$f":"IF(M1602=0,0,K1602/M1602)","v":0.26291822184475783},{"$f":"IF(M1602=0,0,L1602/M1602)","v":0.13219945019332632},{"$f":"L1602*100/B$1537","v":836042.40282685508},0.13219945019332632]
[{"$f":"A1498","v":"2020-04-20T17:00:00"},0,"Italia",{"$f":"D58+D130+D202+D274+D346+D418+D490+D562+D634+D706+D778+D850+D922+D994+D1066+D1138+D1210+D1282+D1354+D1426+D1498","v":24906},2573,27479,80758,108237,-20,2256,48877,24114,181228,1398024,{"$f":"O58+O130+O202+O274+O346+O418+O490+O562+O634+O706+O778+O850+O922+O994+O1066+O1138+O1210+O1282+O1354+O1426+O1498","v":943151},{"$f":"IF(Q1603=\"x2\",M1603,P1602)","v":97689},{"$f":"IF(M1603>P1602*2,\"x2\",P1602)","v":97689},{"$f":"IF(Q1603=\"x2\",M1603,\"\")","v":""},null,null,{"$f":"IF(J1603-J1602=0,\"\",J1603-J1602)","v":-791},{"$f":"IF(K1603-K1602=0,\"\",K1603-K1602)","v":1822},{"$f":"IF(L1603-L1602=0,\"\",L1603-L1602)","v":454},{"$f":"IF(M1603-M1602=0,\"\",M1603-M1602)","v":2256},{"$f":"IF(N1603-N1602=0,\"\",N1603-N1602)","v":41483},{"$f":"IF(M1603=0,0,H1603/M1603)","v":0.59724214801244846},{"$f":"IF(M1603=0,0,K1603/M1603)","v":0.26969894276822565},{"$f":"IF(M1603=0,0,L1603/M1603)","v":0.13305890921932592},{"$f":"L1603*100/B$1537","v":852084.80565371027},0.13305890921932592]
[{"$f":"A1499","v":"2020-04-21T17:00:00"},0,"Italia",{"$f":"D59+D131+D203+D275+D347+D419+D491+D563+D635+D707+D779+D851+D923+D995+D1067+D1139+D1211+D1283+D1355+D1427+D1499","v":24134},2471,26605,81104,107709,-528,2729,51600,24648,183957,1450150,{"$f":"O59+O131+O203+O275+O347+O419+O491+O563+O635+O707+O779+O851+O923+O995+O1067+O1139+O1211+O1283+O1355+O1427+O1499","v":971246},{"$f":"IF(Q1604=\"x2\",M1604,P1603)","v":97689},{"$f":"IF(M1604>P1603*2,\"x2\",P1603)","v":97689},{"$f":"IF(Q1604=\"x2\",M1604,\"\")","v":""},null,null,{"$f":"IF(J1604-J1603=0,\"\",J1604-J1603)","v":473},{"$f":"IF(K1604-K1603=0,\"\",K1604-K1603)","v":2723},{"$f":"IF(L1604-L1603=0,\"\",L1604-L1603)","v":534},{"$f":"IF(M1604-M1603=0,\"\",M1604-M1603)","v":2729},{"$f":"IF(N1604-N1603=0,\"\",N1604-N1603)","v":52126},{"$f":"IF(M1604=0,0,H1604/M1604)","v":0.58551183156933417},{"$f":"IF(M1604=0,0,K1604/M1604)","v":0.2805003343172589},{"$f":"IF(M1604=0,0,L1604/M1604)","v":0.13398783411340695},{"$f":"L1604*100/B$1537","v":870954.06360424031},0.13398783411340695]
[{"$f":"A1500","v":"2020-04-22T17:00:00"},0,"Italia",{"$f":"D60+D132+D204+D276+D348+D420+D492+D564+D636+D708+D780+D852+D924+D996+D1068+D1140+D1212+D1284+D1356+D1428+D1500","v":23805},2384,26189,81510,107699,-10,3370,54543,25085,187327,1513251,{"$f":"O60+O132+O204+O276+O348+O420+O492+O564+O636+O708+O780+O852+O924+O996+O1068+O1140+O1212+O1284+O1356+O1428+O1500","v":1015494},{"$f":"IF(Q1605=\"x2\",M1605,P1604)","v":97689},{"$f":"IF(M1605>P1604*2,\"x2\",P1604)","v":97689},{"$f":"IF(Q1605=\"x2\",M1605,\"\")","v":""},null,null,{"$f":"IF(J1605-J1604=0,\"\",J1605-J1604)","v":641},{"$f":"IF(K1605-K1604=0,\"\",K1605-K1604)","v":2943},{"$f":"IF(L1605-L1604=0,\"\",L1605-L1604)","v":437},{"$f":"IF(M1605-M1604=0,\"\",M1605-M1604)","v":3370},{"$f":"IF(N1605-N1604=0,\"\",N1605-N1604)","v":63101},{"$f":"IF(M1605=0,0,H1605/M1605)","v":0.57492513092079622},{"$f":"IF(M1605=0,0,K1605/M1605)","v":0.29116464791514302},{"$f":"IF(M1605=0,0,L1605/M1605)","v":0.13391022116406071},{"$f":"L1605*100/B$1537","v":886395.7597173145},0.13391022116406071]
[{"$f":"A1501","v":"2020-04-23T17:00:00"},0,"Italia",{"$f":"D61+D133+D205+D277+D349+D421+D493+D565+D637+D709+D781+D853+D925+D997+D1069+D1141+D1213+D1285+D1357+D1429+D1501","v":22871},2267,25138,81710,106848,-851,2646,57576,25549,189973,1579909,{"$f":"O61+O133+O205+O277+O349+O421+O493+O565+O637+O709+O781+O853+O925+O997+O1069+O1141+O1213+O1285+O1357+O1429+O1501","v":1052577},{"$f":"IF(Q1606=\"x2\",M1606,P1605)","v":97689},{"$f":"IF(M1606>P1605*2,\"x2\",P1605)","v":97689},{"$f":"IF(Q1606=\"x2\",M1606,\"\")","v":""},null,null,{"$f":"IF(J1606-J1605=0,\"\",J1606-J1605)","v":-724},{"$f":"IF(K1606-K1605=0,\"\",K1606-K1605)","v":3033},{"$f":"IF(L1606-L1605=0,\"\",L1606-L1605)","v":464},{"$f":"IF(M1606-M1605=0,\"\",M1606-M1605)","v":2646},{"$f":"IF(N1606-N1605=0,\"\",N1606-N1605)","v":66658},{"$f":"IF(M1606=0,0,H1606/M1606)","v":0.56243782011127896},{"$f":"IF(M1606=0,0,K1606/M1606)","v":0.30307464744990076},{"$f":"IF(M1606=0,0,L1606/M1606)","v":0.13448753243882025},{"$f":"L1606*100/B$1537","v":902791.51943462901},{"$f":"IF(M1606=0,0,L1606/M1606)","v":0.13448753243882025}]
[{"$f":"A1502","v":"2020-04-24T17:00:00"},0,"Italia",{"$f":"D62+D134+D206+D278+D350+D422+D494+D566+D638+D710+D782+D854+D926+D998+D1070+D1142+D1214+D1286+D1358+D1430+D1502","v":22068},2173,24241,82286,106527,-321,3021,60498,25969,192994,1642356,{"$f":"O62+O134+O206+O278+O350+O422+O494+O566+O638+O710+O782+O854+O926+O998+O1070+O1142+O1214+O1286+O1358+O1430+O1502","v":1147850},{"$f":"IF(Q1607=\"x2\",M1607,P1606)","v":97689},{"$f":"IF(M1607>P1606*2,\"x2\",P1606)","v":97689},{"$f":"IF(Q1607=\"x2\",M1607,\"\")","v":""},null,null,{"$f":"IF(J1607-J1606=0,\"\",J1607-J1606)","v":375},{"$f":"IF(K1607-K1606=0,\"\",K1607-K1606)","v":2922},{"$f":"IF(L1607-L1606=0,\"\",L1607-L1606)","v":420},{"$f":"IF(M1607-M1606=0,\"\",M1607-M1606)","v":3021},{"$f":"IF(N1607-N1606=0,\"\",N1607-N1606)","v":62447},{"$f":"IF(M1607=0,0,H1607/M1607)","v":0.55197052758116838},{"$f":"IF(M1607=0,0,K1607/M1607)","v":0.31347088510523641},{"$f":"IF(M1607=0,0,L1607/M1607)","v":0.13455858731359524},{"$f":"L1607*100/B$1537","v":917632.50883392221},{"$f":"IF(M1607=0,0,L1607/M1607)","v":0.13455858731359524}]
[{"$f":"A1503","v":"2020-04-25T17:00:00"},0,"Italia",{"$f":"D63+D135+D207+D279+D351+D423+D495+D567+D639+D711+D783+D855+D927+D999+D1071+D1143+D1215+D1287+D1359+D1431+D1503","v":21533},2102,23635,82212,105847,-680,2357,63120,26384,195351,1707743,{"$f":"O63+O135+O207+O279+O351+O423+O495+O567+O639+O711+O783+O855+O927+O999+O1071+O1143+O1215+O1287+O1359+O1431+O1503","v":1186526},{"$f":"IF(Q1608=\"x2\",M1608,P1607)","v":97689},{"$f":"IF(M1608>P1607*2,\"x2\",P1607)","v":97689},{"$f":"IF(Q1608=\"x2\",M1608,\"\")","v":""},null,null,{"$f":"IF(J1608-J1607=0,\"\",J1608-J1607)","v":-664},{"$f":"IF(K1608-K1607=0,\"\",K1608-K1607)","v":2622},{"$f":"IF(L1608-L1607=0,\"\",L1608-L1607)","v":415},{"$f":"IF(M1608-M1607=0,\"\",M1608-M1607)","v":2357},{"$f":"IF(N1608-N1607=0,\"\",N1608-N1607)","v":65387},{"$f":"IF(M1608=0,0,H1608/M1608)","v":0.5418298345030228},{"$f":"IF(M1608=0,0,K1608/M1608)","v":0.32311070841715683},{"$f":"IF(M1608=0,0,L1608/M1608)","v":0.13505945707982042},{"$f":"L1608*100/B$1537","v":932296.81978798588},{"$f":"IF(M1608=0,0,L1608/M1608)","v":0.13505945707982042}]
[{"$f":"A1504","v":"2020-04-26T17:00:00"},0,"Italia",{"$f":"D64+D136+D208+D280+D352+D424+D496+D568+D640+D712+D784+D856+D928+D1000+D1072+D1144+D1216+D1288+D1360+D1432+D1504","v":21372},2009,23381,82722,106103,256,2324,64928,26644,197675,1757659,{"$f":"O64+O136+O208+O280+O352+O424+O496+O568+O640+O712+O784+O856+O928+O1000+O1072+O1144+O1216+O1288+O1360+O1432+O1504","v":1210639},{"$f":"IF(Q1609=\"x2\",M1609,P1608)","v":197675},{"$f":"IF(M1609>P1608*2,\"x2\",P1608)","v":"x2"},{"$f":"IF(Q1609=\"x2\",M1609,\"\")","v":197675},null,null,{"$f":"IF(J1609-J1608=0,\"\",J1609-J1608)","v":-33},{"$f":"IF(K1609-K1608=0,\"\",K1609-K1608)","v":1808},{"$f":"IF(L1609-L1608=0,\"\",L1609-L1608)","v":260},{"$f":"IF(M1609-M1608=0,\"\",M1609-M1608)","v":2324},{"$f":"IF(N1609-N1608=0,\"\",N1609-N1608)","v":49916},{"$f":"IF(M1609=0,0,H1609/M1609)","v":0.53675477425066398},{"$f":"IF(M1609=0,0,K1609/M1609)","v":0.32845832806374098},{"$f":"IF(M1609=0,0,L1609/M1609)","v":0.13478689768559504},{"$f":"L1609*100/B$1537","v":941484.09893992927},{"$f":"IF(M1609=0,0,L1609/M1609)","v":0.13478689768559504}]
[{"$f":"A1505","v":"2020-04-27T17:00:00"},0,"Italia",20353,1956,22309,83504,105813,-290,1739,66624,26977,199414,1789662,{"$f":"O65+O137+O209+O281+O353+O425+O497+O569+O641+O713+O785+O857+O929+O1001+O1073+O1145+O1217+O1289+O1361+O1433+O1505","v":1237317},{"$f":"IF(Q1610=\"x2\",M1610,P1609)","v":197675},{"$f":"IF(M1610>P1609*2,\"x2\",P1609)","v":197675},{"$f":"IF(Q1610=\"x2\",M1610,\"\")","v":""},null,null,{"$f":"IF(J1610-J1609=0,\"\",J1610-J1609)","v":-585},{"$f":"IF(K1610-K1609=0,\"\",K1610-K1609)","v":1696},{"$f":"IF(L1610-L1609=0,\"\",L1610-L1609)","v":333},{"$f":"IF(M1610-M1609=0,\"\",M1610-M1609)","v":1739},{"$f":"IF(N1610-N1609=0,\"\",N1610-N1609)","v":32003},{"$f":"IF(M1610=0,0,H1610/M1610)","v":0.53061971576719791},{"$f":"IF(M1610=0,0,K1610/M1610)","v":0.33409890980573081},{"$f":"IF(M1610=0,0,L1610/M1610)","v":0.13528137442707133},{"$f":"L1610*100/B$1537","v":953250.88339222607},{"$f":"IF(M1610=0,0,L1610/M1610)","v":0.13528137442707133}]
[{"$f":"A1610+1","v":"2020-04-28T17:00:00"},null,null,null,null,null,null,null,null,null,null,null,null,null,null,null,"Media x2",{"$f":"COUNT(N1547:N1610) / COUNT(R1547:R1610)","v":7.1111111111111107}]
[{"$f":"A1611+1","v":"2020-04-29T17:00:00"}]
[{"$f":"A1612+1","v":"2020-04-30T17:00:00"}]
[null,null,null,null,{"$f":"E1610/$M1610","v":9.808739607048653E-3},null,null,{"$f":"H1610/$M1610","v":0.53061971576719791},null,null,{"$f":"K1610/$M1610","v":0.33409890980573081},{"$f":"L1610/$M1610","v":0.13528137442707133},null,{"$f":"N1610/$M1610","v":8.9746055943915675}]

{"sheet":"Dati","index":2,"n_rows":22,"n_cols":15,"rows_kept":22,"cut":false,"hidden":false,"merged":[]}
["data","codice_regione","denominazione_regione","ricoverati_con_sintomi","terapia_intensiva","totale_ospedalizzati","isolamento_domiciliare","totale_positivi","variazione_totale_positivi","nuovi_positivi","dimessi_guariti","deceduti","totale_casi","tamponi","casi_testati"]
["2020-04-27T17:00:00",1,"Piemonte",2830,214,3044,12464,15508,-11,278,6712,2878,25098,139348,99144]
["2020-04-27T17:00:00",2,"Valle d'Aosta",86,7,93,142,235,-19,5,743,133,1111,6551,4873]
["2020-04-27T17:00:00",3,"Lombardia",7525,680,8205,27236,35441,275,590,24589,13449,73479,342850,211523]
["2020-04-27T17:00:00",4,"P.A. Bolzano",150,16,166,774,940,-54,15,1286,270,2496,38640,18423]
["2020-04-27T17:00:00",4,"P.A. Trento",201,23,224,1483,1707,25,101,1881,407,3995,33152,20199]
["2020-04-27T17:00:00",5,"Veneto",1099,123,1222,7638,8860,-278,108,7375,1344,17579,320027,192751]
["2020-04-27T17:00:00",6,"Friuli Venezia Giulia",130,13,143,1115,1258,10,60,1448,271,2977,60940,39330]
["2020-04-27T17:00:00",7,"Liguria",754,83,837,2743,3580,100,154,2934,1128,7642,44039,28739]
["2020-04-27T17:00:00",8,"Emilia-Romagna",2640,247,2887,9338,12225,-116,212,9006,3431,24662,164979,111041]
["2020-04-27T17:00:00",9,"Toscana",671,154,825,5158,5983,-86,32,2401,795,9179,129048,100869]
["2020-04-27T17:00:00",10,"Umbria",90,16,106,181,287,-9,2,1018,65,1370,32823,22492]
["2020-04-27T17:00:00",11,"Marche",667,58,725,2585,3310,2,16,1933,884,6127,52765,35617]
["2020-04-27T17:00:00",12,"Lazio",1464,143,1607,2955,4562,-11,83,1433,397,6392,124769,95719]
["2020-04-27T17:00:00",13,"Abruzzo",328,23,351,1679,2030,-38,15,545,299,2874,34176,26443]
["2020-04-27T17:00:00",14,"Molise",20,1,21,179,200,0,0,75,21,296,5656,5423]
["2020-04-27T17:00:00",15,"Campania",541,37,578,2299,2877,-47,18,1120,352,4349,68727,42463]
["2020-04-27T17:00:00",16,"Puglia",449,51,500,2412,2912,-25,10,641,405,3958,56976,55897]
["2020-04-27T17:00:00",17,"Basilicata",57,7,64,153,217,-2,0,124,25,366,10364,10364]
["2020-04-27T17:00:00",18,"Calabria",114,6,120,662,782,-15,7,231,83,1096,31787,29834]
["2020-04-27T17:00:00",19,"Sicilia",440,35,475,1648,2123,16,30,731,231,3085,70650,66749]
["2020-04-27T17:00:00",20,"Sardegna",97,19,116,660,776,-7,3,398,109,1283,21395,19424]